{"text_format":"1","workbook":"xlsx","n_sheets":19,"sheets":["Budget","Locations","Version","Calculations","Lookup","Alphabetical","All","Archive","Batteries","SolarPanels","Defaults","Compare","Saved","StationInfo","BatteryArchive","SolarArchive","Display","Print-1","Print-2"],"not_rendered":{"charts":8,"images":30,"macros":1,"external_links":0,"defined_names":40,"comments":0,"pivot_tables":0},"unopened":[],"bounds":{"document_bytes":16777216,"sheet_cells":100000,"rows_first":2000,"rows_last":500,"rows_between":2000,"halvings":0,"cell_chars":16384,"cell_head_chars":4096},"cells_cut":0,"cells_raw":0,"read":"whole","date_system":"1900"}

{"sheet":"Budget","index":0,"n_rows":112,"n_cols":20,"rows_kept":112,"cut":false,"hidden":false,"merged":[[91,1,91,2],[8,4,8,5],[8,9,8,10],[8,11,8,12],[17,12,17,13],[19,12,19,13]]}
[]
[null,null,null,null,null,null,null,"Power Budget Spreadsheet"]
[null,"Steps"]
[null,"1.Select loads (click Add/Delete/Edit/Archive to add devices, if needed)",null,null,null,null,null,"3.Enter Minimum Average Temperature",null,null,null,null,null,"5.Enter Sun Hours for area"]
[null,"2.Adjust Program Intervals (scan and communications intervals)",null,null,null,null,null,"4.Enter Desired Backup and Battery Size (auto selection optional)",null,null,null,null,null,"6.Size Solar panel (auto selection optional)"]
[]
[null,"LOADS"]
[null,"Select Devices"]
[null,null,null,null,"Program Interval",null,null,"Lowest AveTemp",null,"Storage Reserve",null,"Charging Source"]
[null,null,null,null,"Scan","Comms",null,"Min",null,"Battery","Desired","Equiv.","Solar"]
[null,null,null,null,"Interval","Interval",null,"Average",null,"Size","Backup","Sun","Panel"]
[null,null,null,null,38,30,null,6,null,5,5,"Hours",9]
[null,null,null,null,{"$f":"LOOKUP(E12,Calculations!A35:A84,Calculations!E35:E84)","v":10},{"$f":"Calculations!L34","v":1},null,{"$f":"Calculations!P34","v":-2},null,{"$f":"LOOKUP(J12,Batteries!$A$2:$A$101,Batteries!$B$2:$B$101)","v":"400 Ah"},{"$f":"Calculations!M34","v":30},{"$f":"Calculations!R34","v":0.7},{"$f":"LOOKUP($M$12,SolarPanels!$A$2:$A$101,SolarPanels!$B$2:$B$101)","v":"45 Watt"}]
[null,null,null,null,null,null,null,28,null,{"$f":"LOOKUP(J12,Batteries!$A$2:$A$101,Batteries!$C$2:$C$101)","v":400},null,23,{"$f":"LOOKUP($M$12,SolarPanels!$A$2:$A$101,SolarPanels!$E$2:$E$101)*(Calculations!L2+4.75)","v":45}]
[null,null,null,null,"Seconds",3,null,2,null,null,4,1]
[null,null,null,null,null,null,null,{"$f":"J14*Calculations!P37","v":321.42521006119995},null,{"$f":"Defaults!L24","v":121.16919492000001},{"$f":"Calculations!S34","v":79.580922430015917},null,{"$f":"Calculations!M8","v":81.917202199436616}]
[null,null,null,null,null,null,null,null,null,null,null,{"$f":"$K$20/$K$13","v":2.652697414333864},{"$f":"IF(Display!$B$5=1,Calculations!$B$892/Calculations!$B$2,(Budget!$L$13*Calculations!$J$6)/Calculations!$B$2)","v":0.52671399614534176},{"$f":"$M$17+$L$17","v":3.1794114104792057}]
[null,null,null,null,null,null,null,null,null,"Estimated battery amp hours corrected for temperature:",{"$f":"H16","v":321.42521006119995},"Amp Hours","Daily Load"]
[null,null,null,null,null,null,null,null,null,"Minimum estimated battery amperage required for system:",{"$f":"ROUNDUP(J16/Calculations!Y7,0)","v":151},"Amp Hours",{"$f":"Calculations!B2","v":3.2311785311999999},"Amp Hours"]
[null,null,null,null,null,null,null,null,null,"Estimated backup with selected battery:",{"$f":"Calculations!$S$34","v":79.580922430015917},{"$f":"IF($K$15=1,\"Seconds\",IF($K$15=2,\"Minutes\",IF($K$15=3,\"Hours\",IF($K$15=4,\"Days\",IF($K$15=5,\"Weeks\",\"Months\")))))","v":"Days"},"Minimum Daily Solar"]
[null,null,null,null,null,null,null,null,null,"Estimated solar panel wattage requirement for system:",{"$f":"M16","v":81.917202199436616},"Watts",{"$f":"IF(Display!$B$5=1,Calculations!$B$894,Calculations!$B$3)","v":"1.7 - 14.2"},"Amp Hours"]
[]
[]
[null,"System Total:",{"$f":"Calculations!L28*1000","v":112.193699},"mAmps",null,null,null,null,null,null,null,null,null,null,"Hint: Increase Solar Panel size ",null,null,"Hint: Larger battery or "]
[null,null,null,null,null,null,null,null,null,null,null,null,null,null,"or decrease loads or try slower ",null,null,"smaller load or try slower "]
[null,null,null,null,null,null,null,null,null,null,null,null,null,null,"Scan or Comms Interval",null,null,"Scan or Comms interval "]
[]
[]
[]
[]
[null,null,null,null,null,null,null,"Depth of Discharge"]
[null,null,null,null,null,null,null,{"$f":"Calculations!K89","v":1.2565825696220223E-2},"Day 1",null,null,null,null,null,null,null,null,null,null,{"$f":"M19*Calculations!L2","v":42.813115538399998}]
[null,null,null,null,null,null,null,{"$f":"Calculations!K90","v":2.5131651392440557E-2},2]
[null,null,null,null,null,null,null,{"$f":"Calculations!K91","v":3.769747708866078E-2},3]
[null,null,null,null,null,null,null,{"$f":"Calculations!K92","v":5.0263302784881114E-2},4]
[null,null,null,null,null,null,null,{"$f":"Calculations!K93","v":6.2829128481101337E-2},5]
[null,null,null,null,null,null,null,{"$f":"Calculations!K94","v":7.5394954177321671E-2},6]
[null,null,null,null,null,null,null,{"$f":"Calculations!K95","v":8.7960779873541894E-2},7]
[null,null,null,null,null,null,null,{"$f":"Calculations!K96","v":0.10052660556976223},8]
[null,null,null,null,null,null,null,{"$f":"Calculations!K97","v":0.11309243126598245},9]
[null,null,null,null,null,null,null,{"$f":"Calculations!K98","v":0.12565825696220279},10]
[null,null,null,null,null,null,null,{"$f":"Calculations!K99","v":0.13822408265842301},11]
[null,null,null,null,null,null,null,{"$f":"Calculations!K100","v":0.15078990835464334},12]
[null,null,null,null,null,null,null,{"$f":"Calculations!K101","v":0.16335573405086357},13]
[null,null,null,null,null,null,null,{"$f":"Calculations!K102","v":0.1759215597470839},14]
[]
[]
[]
[]
[]
[]
[]
[]
[]
[]
[]
[]
[]
[]
[]
[]
[]
[]
[]
[]
[]
[]
[]
[]
[]
[]
[]
[]
[]
[]
[]
[]
[]
[]
[]
[]
[]
[]
[]
[]
[]
[]
[]
[]
[]
[]
[]
[]
[]
[]
[]
[]
[]
[]
[]
[]
[]
[]
[]
[]
[]
[]
[]
[]
[]
[]
[null,null,null,null,null,"Sunshine Hours per day"]

{"sheet":"Locations","index":1,"n_rows":26,"n_cols":27,"rows_kept":26,"cut":false,"hidden":false,"merged":[]}
[null,"Peak Sun Hours",null,null,null,null,null,null,null,null,null,null,null,"Temperature",null,null,null,null,null,null,null,null,null,null,null,null,"Location Box Options"]
["Place","January","February","March","April","May","June","July","August ","September","October","November ","December","January","February","March","April","May","June","July","August ","September","October","November ","December",null,"Add New"]
["Atitlan Guatemala",5.31,5.76,6.07,6.03,5.55,5.31,5.55,5.28,4.7,4.8,5,5.12,22.3,23.4,24.3,24.8,24.2,23.6,23.6,23.6,23.1,22.9,22.8,22.3,null,"Edit"]
["Barrow, Alaska",0,0.21,1.34,3.41,5.51,6.96,6.13,3.7,1.89,0.53,0.02,0,-24.4,-24.1,-20.9,-13.1,-3.94,2.95,5.57,3.97,-0.45,-9.86,-19.7,-23.3,null,"Delete"]
["Cartagena, Colombia",5.8,6.25,6.5,6.26,5.64,5.67,5.85,5.85,5.28,4.88,4.93,5.22,26.81,27.43,27.74,26.8,26.46,26.65,26.51,26.42,26.07,25.93,25.99,25.98]
["CENT",0.95,1.6,2.44,3.55,4.53,5.5,6.52,5.42,3.92,2.2000000000000002,1.03,0.71,-1.03,-1.33,-0.83,0.23,3.69,6.41,10.53,10.46,8.5299999999999994,4.0599999999999996,1.43,-1.39]
["Columbus Ohio",1.81,2.54,3.45,4.59,5,5.83,5.76,5.09,4.38,3.26,2,1.56,-1.1399999999999999,0.71,4.79,11.2,16.8,21.7,23.6,22.7,19,13.1,6.97,0.87]
["Durango Colorado",2.71,3.48,4.67,5.54,6.65,7.45,6.71,5.87,5.26,4.04,2.89,2.4900000000000002,-7.07,-4.57,-0.32,4.55,10.199999999999999,15.5,18.100000000000001,16.399999999999999,12.2,5.72,-1.8,-6.81]
["Escalante Utah",2.72,3.54,4.91,6.02,6.91,7.46,6.57,5.8,5.22,4.09,3.04,2.5299999999999998,-2.4500000000000002,0.11,4.6100000000000003,9.51,15.2,21,24.2,22.7,17.7,10.4,2.13,-2.66]
["Goblin Valley Utah",2.64,3.57,5.03,6.09,6.82,7.06,6.44,5.6,5.01,3.94,2.97,2.46,-4.1100000000000003,-1.36,3.43,8.52,14.4,20.3,23.7,22,16.7,9.36,1,-4.13]
["Grand Canyon",2.84,3.7,5.19,6.47,7.16,7.43,6.77,6.07,5.44,4.29,3.16,2.62,1.66,3.71,7.78,12.4,17.8,23,25,24.9,20.5,13.8,5.67,1.21]
["Hanksville Utah",2.64,3.57,5.03,6.09,6.82,7.06,6.44,5.6,5.01,3.94,2.97,2.46,-4.1100000000000003,-1.36,3.43,8.52,14.4,20.3,23.7,22,16.7,9.36,1,-4.13]
["HorseShoe Canyon,  Utah, United States ",2.37,3.14,4.62,5.7,6.58,6.9,6.48,5.6,4.68,3.66,2.76,2.29,-4.62,-1.7,3.06,7.95,13.91,19.8,23,21.26,16.12,8.8800000000000008,0.64,-4.49]
["Juneau, Alaska",0.4,1.08,2.2400000000000002,3.75,4.93,5.2,4.8,3.85,2.5,1.39,0.56999999999999995,0.24,-8.31,-7.26,-5.54,-1.35,3,7.83,11,10.6,6.71,1.53,-4.83,-7.09]
["Lahore, Pakistan",3.01,3.98,5.1100000000000003,6.27,7.19,7.2,6.08,5.65,5.6,4.9000000000000004,3.82,3.01,8.65,10.97,16.22,22.47,25,25,25,25,23.93,20.3,15.55,10.82]
["Logan, UT",1.94,2.66,3.79,4.9400000000000004,5.92,6.97,6.88,5.9,4.5599999999999996,3.17,1.98,1.72,-9.8000000000000007,-7.67,-2.21,3.74,9.68,15.33,19.850000000000001,18.510000000000002,12.4,5.39,-3.06,-9.41]
["New York, NY",1.79,2.66,3.66,4.4400000000000004,5.21,5.7,5.65,5,3.98,2.89,1.89,1.57,-3.49,-1.86,2.75,9,15.63,20.98,23.45,22.41,18.34,11.6,5.6,-0.39]
["Primeville Oregon",1.61,2.56,3.76,4.93,6.05,6.97,7.41,6.49,4.9800000000000004,3.16,1.75,1.37,0.14000000000000001,0.96,3.29,5.88,9.76,13.7,17.899999999999999,17.7,13.9,8.4700000000000006,2.69,-0.19]
["Reykjavik, Iceland",0.11,0.53,1.31,2.77,4.1100000000000003,4.71,4.16,3.27,2.17,0.97,0.25,0.03,-2.6,-2.59,-1.59,1.37,5.24,8.49,10.31,9.58,6.29,2.75,-0.04,-1.91]
["Santiago, Chile",16.600000000000001,16.239999999999998,14.55,10.47,6.9,4.3899999999999997,3.11,4.4400000000000004,6.55,9.8699999999999992,12.63,15.41,7.66,6.72,5.35,4.01,2.79,2.38,2.4900000000000002,3.2,4.3600000000000003,5.72,7.09,7.86]
["Schenectady New York",1.75,2.66,3.61,4.3600000000000003,5.08,5.62,5.61,5,4.01,2.82,1.77,1.47,-6.01,-4.4400000000000004,0.31,7.34,14.2,19.7,22.1,21.1,16.8,9.89,3.68,-2.57]
["Tajikistan",2.02,2.75,3.68,4.63,5.67,6.72,7.13,6.86,5.88,3.99,2.54,1.77,-14,-12.8,-8.51,-3.98,1.08,7.94,11.7,11.3,6.51,-0.08,-5.95,-11.4]
["Tokyo, Japan",2.59,3.4,4.1399999999999997,4.8899999999999997,5,4.32,4.3600000000000003,4.3499999999999996,3.33,2.98,2.5,2.3199999999999998,3.73,3.7,6.59,11.97,16.489999999999998,20.010000000000002,23.18,24.44,21.87,16.61,11.59,6.43]
["uplo",0.93,1.73,2.57,3.77,4.76,5.88,6.94,5.79,4.04,2.2000000000000002,1,0.71,-1.4,-2,-1.61,-0.52,2.62,5.72,10.3,10.19,8.23,3.51,0.28999999999999998,-2.0299999999999998]
["VAN",1.0900000000000001,1.82,2.61,3.62,4.72,5.77,6.71,5.88,4.42,2.56,1.0900000000000001,0.86,-0.63,-1.17,-0.57999999999999996,0.4,3.57,6.45,11.08,10.91,9.1300000000000008,4.3,0.81,-1.33]
["Vancouver, BC, Canada",1.04,1.9,3.05,4.3600000000000003,5.22,5.53,5.75,4.9400000000000004,3.75,2.0499999999999998,1.22,0.86,-3.22,-2.39,0.18,3.49,7.89,11.46,14.78,14.77,10.63,5.2,0.17,-3.65]

{"sheet":"Version","index":2,"n_rows":2,"n_cols":8,"rows_kept":2,"cut":false,"hidden":false,"merged":[]}
[null,null,null,null,null,null,"PBFun","Do not delete the \"PBFun\" in the cell next to this.  It is used in the vba to make sure the vba only runs on the power budget spreadsheet."]
[null,null,null,"PB_EP_07-15-14_2013_v2"]

{"sheet":"Calculations","index":3,"n_rows":1619,"n_cols":29,"rows_kept":1619,"cut":false,"hidden":false,"merged":[[10,0,10,11],[11,7,11,10],[11,3,11,6]]}
[null,"AHr/day","mWatt Hours",null,null,null,null,null,null,null,"Instantaneous","Design Voltage",null,null,null,null,null,null,null,"Units per hour"]
["Useage",{"$f":"Defaults!L15","v":3.2311785311999999},{"$f":"K2*24","v":35677.596281999999},"mW",{"$f":"Budget!M19*L2","v":42.813115538399998},"Wh",null,null,null,null,{"$f":"L28*L2*1000","v":1486.56651175},13.25,null,1,"Hour/day at 1000 W/m2",null,null,null,null,"Converstion",null,60,null,"C0",0.81899999999999995]
["Production",{"$f":"Defaults!K19","v":1.7749999999999999},{"$f":"K3*24","v":23518.749999999996},"mW",null,null,null,null,null,null,{"$f":"Defaults!K21","v":979.94791666666652},"Charged Voltage",null,1000,"joules per second",null,null,null,"Time","To Hours",null,"Hours",null,"C1",1.0999999999999999E-2,"Y3*Y5",{"$f":"Y3*Y5","v":-1.5289999999999998E-2}]
["Net",{"$f":"B3-B2","v":-1.4561785312},null,null,{"$f":"B3/B2","v":0.54933516760548595},"Times more generated that used.",null,null,null,null,null,13.2,null,3600,"seconds",null,null,1,"Sec",3600,1,{"$f":"U4*T4/60","v":60},null,"C2",-7.6069999999999995E-5,"Y4*AA5",{"$f":"Y4*AA5","v":-1.4697484699999997E-4}]
[null,"Battery size",null,null,null,null,"Solar Panel",null,null,null,null,null,null,{"$f":"N2*N4*N3/1000000","v":3.6},"MJ/m2/day",null,null,2,"milliSec",3600000,1,null,null,"T",{"$f":"IF(Display!$B$5=1,$AC$224,P36)","v":-1.39},"Y52",{"$f":"Y5^2","v":1.9320999999999997}]
[null,{"$f":"Budget!J12","v":5},{"$f":"Budget!J14","v":400},null,{"$f":"D8/24","v":79.580922430015917},"days",{"$f":"Budget!M12","v":9},null,{"$f":"Budget!M13","v":"45 Watt"},{"$f":"VLOOKUP($G$6,FullSolarPanelListwNum,5)","v":2.5},{"$f":"Defaults!K21","v":979.94791666666652},"mW Generated",null,null,null,null,null,3,"microSec",3600000000,1,null,null,"CF(T)",{"$f":"Y2+Y3*Y5+Y4*Y5^2","v":0.80356302515299993},null,{"$f":"Y2+Y3*Y5+Y4*AA5","v":0.80356302515299993}]
[null,"Desired Reserve",null,"Calculate Reserve",null,"Multiple Batteries","Suns Hours (worst)",null,"Min Hrs needed",null,"Or this many panels",null,"Panel size needed",null,null,null,null,4,"Min",60,1,{"$f":"U7/T7","v":1.6666666666666666E-2},null,null,{"$f":"$Y$2+$Y$3*Y5+$Y$4*Y5^2","v":0.80356302515299993},null,{"$f":"Y2+AA3+AA4","v":0.80356302515299993}]
[null,{"$f":"Calculations!M37","v":720},"Hrs",{"$f":"Calculations!K88","v":1909.9421383203821},"Hrs",{"$f":"Defaults!L26","v":0.37697477088660586},{"$f":"IF(IF(Display!$B$5=1,$AB$224,Calculations!$R$35)=0,0.0001,IF(Display!$B$5=1,$AB$224,Calculations!$R$35))","v":0.71},"Hrs./day","per day",{"$f":"Defaults!L20","v":1.2924714124799999},{"$f":"LOOKUP($G$6,SolarPanels!A2:A101,SolarPanels!F2:F101)","v":1.8203822710985915},null,{"$f":"K8*Budget!M14","v":81.917202199436616},"watt",null,null,null,5,"5 Min",12,5,{"$f":"V2/U8","v":12}]
[null,null,null,null,null,null,null,null,null,null,null,null,null,null,null,null,null,6,"10 Min",6,10]
[2,null,null,null,null,null,null,null,null,null,null,null,null,null,null,null,null,7,"15 Min",4,15]
["Calculator for device current (calculate Duty Cycle)",null,null,null,null,null,null,null,null,null,null,null,null,null,null,null,null,8,"30 Min",2,30]
["Device","Nominal\ncurrent\n(Amps)","Quiescent current (Amps)","Interval of\ntime \"on\" mSec per Scan",null,null,null,"Scan Interval",null,null,null,"Average\ncurrent\n(Amps)","Duty\nCycle","% of Total",null,null,"mW-hr",9,"Hour",1,60]
[64,{"$f":"LOOKUP($A13,All!$A$2:$A$1001,All!$C$2:$C$1001)","v":0.01},{"$f":"LOOKUP($A13,All!$A$2:$A$1001,All!$D$2:$D$1001)","v":5.9999999999999995E-4},{"$f":"LOOKUP($A13,All!$A$2:$A$1001,All!$E$2:$E$1001)","v":250},12,{"$f":"LOOKUP($A13,All!$A$2:$A$1001,All!$F$2:$F$1001)","v":0},{"$f":"LOOKUP($E13,$R$4:$R$24,$T$4:$T$24)","v":3600},{"$f":"IF(D13>0, Budget!$E$13, Calculations!$L$35)","v":10},1,{"$f":"LOOKUP($A13,All!$A$2:$A$1001,All!$G$2:$G$1001)","v":1},{"$f":"LOOKUP($I13,$R$4:$R$24,$T$4:$T$24)","v":3600},{"$f":"M13*B13 + (1-M13)*C13","v":8.3499999999999991E-4},{"$f":"IF(D13>0,(IF((D13/1000/H13*K13/G13)>1,1,(D13/1000/H13*K13/G13))),(IF(F13>0,(IF((F13/H13*K13/G13)>1,1,(F13/H13*K13/G13))),J13)))","v":2.5000000000000001E-2},{"$f":"L13/$L$28","v":7.4424856960995638E-3},{"$f":"IF(D13>0,(IF((D13/1000/H13*K13/G13)>1,1,(D13/1000/H13*K13/G13))),(IF(F13>0,(IF((F13/H13*K13/G13)>1,1,(F13/H13*K13/G13))),J13)))","v":2.5000000000000001E-2},{"$f":"IF(D13>0,(IF((D13/1000/H13*K13/G13)>1, 1,(D13/1000/H13*K13/G13))),IF((F13/H13*K13/G13)>1,1,(F13/H13*K13/G13)))","v":2.5000000000000001E-2},null,10,"1440 Min",4.1667000000000003E-2,1440,{"$f":"V2/U13","v":4.1666666666666664E-2}]
[14,{"$f":"LOOKUP($A14,All!$A$2:$A$1001,All!$C$2:$C$1001)","v":2.5000000000000001E-4},{"$f":"LOOKUP($A14,All!$A$2:$A$1001,All!$D$2:$D$1001)","v":0},{"$f":"LOOKUP($A14,All!$A$2:$A$1001,All!$E$2:$E$1001)","v":2},12,{"$f":"LOOKUP($A14,All!$A$2:$A$1001,All!$F$2:$F$1001)","v":0},3600,{"$f":"IF(D14>0, Budget!$E$13, Calculations!$L$35)","v":10},1,{"$f":"LOOKUP($A14,All!$A$2:$A$1001,All!$G$2:$G$1001)","v":1},3600,5.0000000000000011E-8,2.0000000000000004E-4,{"$f":"L14/$L$28","v":4.456578261137465E-7},null,null,null,11,"Day",4.1667000000000003E-2,1]
[14,{"$f":"LOOKUP($A15,All!$A$2:$A$1001,All!$C$2:$C$1001)","v":2.5000000000000001E-4},{"$f":"LOOKUP($A15,All!$A$2:$A$1001,All!$D$2:$D$1001)","v":0},{"$f":"LOOKUP($A15,All!$A$2:$A$1001,All!$E$2:$E$1001)","v":2},12,{"$f":"LOOKUP($A15,All!$A$2:$A$1001,All!$F$2:$F$1001)","v":0},3600,{"$f":"IF(D15>0, Budget!$E$13, Calculations!$L$35)","v":10},1,{"$f":"LOOKUP($A15,All!$A$2:$A$1001,All!$G$2:$G$1001)","v":1},3600,5.0000000000000011E-8,2.0000000000000004E-4,4.456578261137465E-7,null,null,null,12,"Scan",3600]
[271,{"$f":"LOOKUP($A16,All!$A$2:$A$1001,All!$C$2:$C$1001)","v":0.25},{"$f":"LOOKUP($A16,All!$A$2:$A$1001,All!$D$2:$D$1001)","v":1E-3},{"$f":"LOOKUP($A16,All!$A$2:$A$1001,All!$E$2:$E$1001)","v":400},12,{"$f":"LOOKUP($A16,All!$A$2:$A$1001,All!$F$2:$F$1001)","v":0},3600,{"$f":"IF(D16>0, Budget!$E$13, Calculations!$L$35)","v":10},1,{"$f":"LOOKUP($A16,All!$A$2:$A$1001,All!$G$2:$G$1001)","v":1},3600,1.0960000000000001E-2,0.04,9.7688195484133225E-2,null,null,null,13,null,24]
[190,{"$f":"LOOKUP($A17,All!$A$2:$A$1001,All!$C$2:$C$1001)","v":0.02},{"$f":"LOOKUP($A17,All!$A$2:$A$1001,All!$D$2:$D$1001)","v":0.02},{"$f":"LOOKUP($A17,All!$A$2:$A$1001,All!$E$2:$E$1001)","v":86400000},12,{"$f":"LOOKUP($A17,All!$A$2:$A$1001,All!$F$2:$F$1001)","v":6},3600,{"$f":"IF(D17>0, Budget!$E$13, Calculations!$L$35)","v":10},1,{"$f":"LOOKUP($A17,All!$A$2:$A$1001,All!$G$2:$G$1001)","v":1},3600,0.02,1,0.17826313044549857,null,null,null,14,null,30]
[189,{"$f":"LOOKUP($A18,All!$A$2:$A$1001,All!$C$2:$C$1001)","v":2.3E-2},{"$f":"LOOKUP($A18,All!$A$2:$A$1001,All!$D$2:$D$1001)","v":0.02},{"$f":"LOOKUP($A18,All!$A$2:$A$1001,All!$E$2:$E$1001)","v":86400000},12,{"$f":"LOOKUP($A18,All!$A$2:$A$1001,All!$F$2:$F$1001)","v":2},3600,{"$f":"IF(D18>0, Budget!$E$13, Calculations!$L$35)","v":10},1,{"$f":"LOOKUP($A18,All!$A$2:$A$1001,All!$G$2:$G$1001)","v":1},3600,2.3E-2,1,0.20500260001232334,null,null,null,15,null,7]
[101,{"$f":"LOOKUP($A19,All!$A$2:$A$1001,All!$C$2:$C$1001)","v":4.0000000000000001E-3},{"$f":"LOOKUP($A19,All!$A$2:$A$1001,All!$D$2:$D$1001)","v":9.9999999999999995E-7},{"$f":"LOOKUP($A19,All!$A$2:$A$1001,All!$E$2:$E$1001)","v":10},12,{"$f":"LOOKUP($A19,All!$A$2:$A$1001,All!$F$2:$F$1001)","v":0},3600,{"$f":"IF(D19>0, Budget!$E$13, Calculations!$L$35)","v":10},1,{"$f":"LOOKUP($A19,All!$A$2:$A$1001,All!$G$2:$G$1001)","v":1},3600,4.9989999999999999E-6,1E-3,4.4556869454852365E-5,null,null,null,16]
[58,{"$f":"LOOKUP($A20,All!$A$2:$A$1001,All!$C$2:$C$1001)","v":0},{"$f":"LOOKUP($A20,All!$A$2:$A$1001,All!$D$2:$D$1001)","v":0},{"$f":"LOOKUP($A20,All!$A$2:$A$1001,All!$E$2:$E$1001)","v":86400000},12,{"$f":"LOOKUP($A20,All!$A$2:$A$1001,All!$F$2:$F$1001)","v":0},3600,{"$f":"IF(D20>0, Budget!$E$13, Calculations!$L$35)","v":10},1,{"$f":"LOOKUP($A20,All!$A$2:$A$1001,All!$G$2:$G$1001)","v":1},3600,0,1,0,null,null,null,17]
[174,{"$f":"LOOKUP($A21,All!$A$2:$A$1001,All!$C$2:$C$1001)","v":0.02},{"$f":"LOOKUP($A21,All!$A$2:$A$1001,All!$D$2:$D$1001)","v":4.0000000000000001E-3},{"$f":"LOOKUP($A21,All!$A$2:$A$1001,All!$E$2:$E$1001)","v":50},12,{"$f":"LOOKUP($A21,All!$A$2:$A$1001,All!$F$2:$F$1001)","v":0},3600,{"$f":"IF(D21>0, Budget!$E$13, Calculations!$L$35)","v":10},1,{"$f":"LOOKUP($A21,All!$A$2:$A$1001,All!$G$2:$G$1001)","v":1},3600,4.0800000000000003E-3,5.0000000000000001E-3,3.6365678610881712E-2,null,null,null,18]
[121,{"$f":"LOOKUP($A22,All!$A$2:$A$1001,All!$C$2:$C$1001)","v":2E-3},{"$f":"LOOKUP($A22,All!$A$2:$A$1001,All!$D$2:$D$1001)","v":8.0000000000000007E-5},{"$f":"LOOKUP($A22,All!$A$2:$A$1001,All!$E$2:$E$1001)","v":86400000},12,{"$f":"LOOKUP($A22,All!$A$2:$A$1001,All!$F$2:$F$1001)","v":0},3600,{"$f":"IF(D22>0, Budget!$E$13, Calculations!$L$35)","v":10},1,{"$f":"LOOKUP($A22,All!$A$2:$A$1001,All!$G$2:$G$1001)","v":1},3600,2E-3,1,1.7826313044549857E-2,null,null,null,19]
[273,{"$f":"LOOKUP($A23,All!$A$2:$A$1001,All!$C$2:$C$1001)","v":8.0000000000000002E-3},{"$f":"LOOKUP($A23,All!$A$2:$A$1001,All!$D$2:$D$1001)","v":1E-4},{"$f":"LOOKUP($A23,All!$A$2:$A$1001,All!$E$2:$E$1001)","v":10000},12,{"$f":"LOOKUP($A23,All!$A$2:$A$1001,All!$F$2:$F$1001)","v":0},3600,{"$f":"IF(D23>0, Budget!$E$13, Calculations!$L$35)","v":10},1,{"$f":"LOOKUP($A23,All!$A$2:$A$1001,All!$G$2:$G$1001)","v":1},3600,8.0000000000000002E-3,1,7.1305252178199427E-2,null,null,null,20]
[291,{"$f":"LOOKUP($A24,All!$A$2:$A$1001,All!$C$2:$C$1001)","v":0.11},{"$f":"LOOKUP($A24,All!$A$2:$A$1001,All!$D$2:$D$1001)","v":0.03},{"$f":"LOOKUP($A24,All!$A$2:$A$1001,All!$E$2:$E$1001)","v":1150},12,{"$f":"LOOKUP($A24,All!$A$2:$A$1001,All!$F$2:$F$1001)","v":0},3600,{"$f":"IF(D24>0, Budget!$E$13, Calculations!$L$35)","v":10},1,{"$f":"LOOKUP($A24,All!$A$2:$A$1001,All!$G$2:$G$1001)","v":1},3600,3.9199999999999999E-2,0.11499999999999999,0.34939573567317717,null,null,null,21]
[174,{"$f":"LOOKUP($A25,All!$A$2:$A$1001,All!$C$2:$C$1001)","v":0.02},{"$f":"LOOKUP($A25,All!$A$2:$A$1001,All!$D$2:$D$1001)","v":4.0000000000000001E-3},{"$f":"LOOKUP($A25,All!$A$2:$A$1001,All!$E$2:$E$1001)","v":50},12,{"$f":"LOOKUP($A25,All!$A$2:$A$1001,All!$F$2:$F$1001)","v":0},3600,{"$f":"IF(D25>0, Budget!$E$13, Calculations!$L$35)","v":10},1,{"$f":"LOOKUP($A25,All!$A$2:$A$1001,All!$G$2:$G$1001)","v":1},3600,4.0800000000000003E-3,5.0000000000000001E-3,3.6365678610881712E-2,null,null,null,22]
[246,{"$f":"LOOKUP($A26,All!$A$2:$A$1001,All!$C$2:$C$1001)","v":1.6000000000000001E-3},{"$f":"LOOKUP($A26,All!$A$2:$A$1001,All!$D$2:$D$1001)","v":0},{"$f":"LOOKUP($A26,All!$A$2:$A$1001,All!$E$2:$E$1001)","v":210},12,{"$f":"LOOKUP($A26,All!$A$2:$A$1001,All!$F$2:$F$1001)","v":0},3600,{"$f":"IF(D26>0, Budget!$E$13, Calculations!$L$35)","v":10},1,{"$f":"LOOKUP($A26,All!$A$2:$A$1001,All!$G$2:$G$1001)","v":1},3600,3.3599999999999997E-5,2.0999999999999998E-2,2.9948205914843756E-4]
[null,null,null,null,null,null,null,null,null,null,null,"system total"]
["Milli-watts Consumed",{"$f":"K2","v":1486.56651175},null,{"$f":"B28*24","v":35677.596281999999},"mWHr/day",null,null,null,null,null,"Avg Amps",{"$f":"SUM(L13:L26)","v":0.11219369899999999}]
[]
[]
[null,null,null,null,null,null,null,null,null,null,null,"Com Intv","Bat Reserv",null,null,"Min Bat Temp",null,"Peak Sun","Calc Resrv"]
[null,null,null,null,"Scan",null,null,null,null,null,null,{"$f":"Budget!F12","v":30},{"$f":"Budget!K12","v":5},null,null,{"$f":"Budget!$H$14","v":28},null,{"$f":"Budget!$L$14","v":23},{"$f":"K88","v":1909.9421383203821}]
[null,"Sunshine",null,null,"Interval",60,24,7,4.2857149999999997,30,"Unit of time>",{"$f":"Budget!F15","v":3},{"$f":"Budget!K15","v":4},null,null,{"$f":"Budget!H15","v":2},null,{"$f":"Budget!L15","v":1},{"$f":"M33","v":4}]
[null,"Hours/day","Temp °C","Temp °F","Seconds","Min","Hours","Days","Weeks","Months",null,{"$f":"LOOKUP(L33,A35:A37,L35:L37)","v":1},{"$f":"LOOKUP(M33,A35:A40,M35:M40)","v":30},null,null,{"$f":"LOOKUP(P33,A35:A36,P35:P36)","v":-2},null,{"$f":"LOOKUP(R33,A35:A36,R35:R36)","v":0.7},{"$f":"LOOKUP(S33,A35:A40,S35:S40)","v":79.580922430015917}]
[1,24,25,{"$f":"C35*1.8+32","v":77},31536000,{"$f":"E35/$F$33","v":525600},{"$f":"F35/$F$33","v":8760},{"$f":"G35/$G$33","v":365},{"$f":"H35/$H$33","v":52.142857142857146},{"$f":"I35/$I$33","v":12.166664638889229},"Seconds",{"$f":"LOOKUP($L$32,Calculations!$A$35:$A$84,Calculations!$E$35:$E$84)","v":3600},{"$f":"LOOKUP($M$32,Calculations!$A$35:$A$84,Calculations!$E$35:$E$84)","v":2592000},"Hours/day","Temp °F",{"$f":"P36*1.8+32","v":28.4},null,{"$f":"LOOKUP($R$32,Calculations!A35:A64,Calculations!B35:B64)","v":0.7},{"$f":"S36*F33","v":6875791.697953376}]
[2,9,{"$f":"C35-1","v":24},{"$f":"C36*1.8+32","v":75.2},15552000,259200,{"$f":"F36/$F$33","v":4320},{"$f":"G36/$G$33","v":180},{"$f":"H36/$H$33","v":25.714285714285715},6,"Minutes",{"$f":"LOOKUP($L$32,Calculations!$A$35:$A$84,Calculations!$F$35:$F$84)","v":60},{"$f":"LOOKUP($M$32,Calculations!$A$35:$A$84,Calculations!$F$35:$F$84)","v":43200},"MJ/m2/day","Temp °C",{"$f":"LOOKUP(P32,A35:A140,C35:C140)","v":-2},null,{"$f":"R35*N5","v":2.52},{"$f":"S37*F33","v":114596.52829922293}]
[3,8.5,23,{"$f":"C37*1.8+32","v":73.400000000000006},7776000,129600,2160,{"$f":"G37/$G$33","v":90},{"$f":"H37/$H$33","v":12.857142857142858},{"$f":"I37/$I$33","v":2.9999995000000839},"Hours",{"$f":"LOOKUP($L$32,Calculations!$A$35:$A$84,Calculations!$G$35:$G$84)","v":1},{"$f":"LOOKUP($M$32,Calculations!$A$35:$A$84,Calculations!$G$35:$G$84)","v":720},null,"Capacity Factor",{"$f":"IF(Y6>1, 1, Y6)","v":0.80356302515299993},null,null,{"$f":"S32","v":1909.9421383203821}]
[4,8,22,71.599999999999994,5184000,86400,1440,{"$f":"G38/$G$33","v":60},8.5714285714285712,1.9999996666667224,"Days",{"$f":"LOOKUP($L$32,Calculations!$A$35:$A$84,Calculations!$H$35:$H$84)","v":4.1666666666666664E-2},{"$f":"LOOKUP($M$32,Calculations!$A$35:$A$84,Calculations!$H$35:$H$84)","v":30},null,null,null,null,null,{"$f":"S37/G33","v":79.580922430015917}]
[5,7.5,21,69.800000000000011,2592000,43200,720,30,4.2857142857142856,0.99999983333336118,"Weeks",{"$f":"LOOKUP($L$32,Calculations!$A$35:$A$84,Calculations!$I$35:$I$84)","v":5.9523809523809521E-3},{"$f":"LOOKUP($M$32,Calculations!$A$35:$A$84,Calculations!$I$35:$I$84)","v":4.2857142857142856},null,null,null,null,null,{"$f":"S38/H33","v":11.368703204287987}]
[6,7,20,68,1209600,20160,336,14,2,0.46666658888890189,"Months",{"$f":"LOOKUP($L$32,Calculations!$A$35:$A$84,Calculations!$J$35:$J$84)","v":1.388888657407446E-3},{"$f":"LOOKUP($M$32,Calculations!$A$35:$A$84,Calculations!$J$35:$J$84)","v":0.99999983333336118},null,null,null,null,null,{"$f":"S38/J33","v":2.652697414333864}]
[7,6.5,19,66.2,1036800,17280,288,12,1.7142857142857142,0.39999993333334444]
[8,6,18,64.400000000000006,864000,14400,240,10,1.4285714285714286,0.33333327777778704,null,null,null,null,"24 Hour Simulation"]
[9,5.5,17,62.6,777600,12960,216,9,1.2857142857142858,0.2999999500000084,null,null,null,"Initial Value"]
[10,5,16,60.8,691200,11520,192,8,1.1428571428571428,{"$f":"I44/$I$33","v":0.26666662222222964},null,null,null,"Voltage","Amp-Hours","Consuption","Reguvination"]
[11,4.5,15,59,604800,10080,168,7,1,0.23333329444445094,null,null,null,{"$f":"L4","v":13.2},{"$f":"Defaults!L25","v":321.42521006119995},"(withdrawals)","(deposits)"]
[12,4,14,57.2,518400,{"$f":"E46/$F$33","v":8640},144,6,0.8571428571428571,0.19999996666667222,null,null,null,null,{"$f":"O45","v":321.42521006119995},{"$f":"Defaults!L15/24","v":0.1346324388},{"$f":"Defaults!J19","v":2.5}]
[13,3.5,13,55.400000000000006,432000,7200,120,5,0.7142857142857143,0.16666663888889352,null,null,null,"12:00:00",{"$f":"O46","v":321.42521006119995},{"$f":"P46","v":0.1346324388},{"$f":"IF(R47>0,$Q$46,0)","v":0},{"$f":"S70","v":0},{"$f":"Defaults!I19","v":0.71}]
[14,3,12,53.6,345600,5760,96,4,0.5714285714285714,0.13333331111111482,null,null,null,"01:00:00",{"$f":"IF(O47-P47+Q47>$O$45,$O$45,O47-P47+Q47)","v":321.29057762239995},{"$f":"P46","v":0.1346324388},0,{"$f":"S69","v":0},{"$f":"IF(S47-1>0,S47-1,0)","v":0}]
[15,2.5,11,51.8,259200,4320,72,3,0.42857142857142855,9.9999983333336109E-2,null,null,null,"02:00:00",321.15594518359995,{"$f":"P48","v":0.1346324388},0,{"$f":"S68","v":0},0]
[16,2,10,50,172800,2880,48,2,0.2857142857142857,6.6666655555557411E-2,null,null,null,"03:00:00",321.02131274479996,0.1346324388,0,{"$f":"S67","v":0},0]
[17,1.5,9,48.2,86400,1440,24,1,0.14285714285714285,3.3333327777778705E-2,null,null,null,"04:00:00",320.88668030599996,0.1346324388,0,{"$f":"S66","v":0},0]
[18,1,8,46.4,64800,1080,18,0.75,0.10714285714285714,2.4999995833334027E-2,null,null,null,"05:00:00",320.75204786719996,0.1346324388,0,{"$f":"S65","v":0},0]
[19,0.95,7,44.6,43200,720,12,0.5,7.1428571428571425E-2,1.6666663888889353E-2,null,null,null,"06:00:00",320.61741542839997,0.1346324388,0,{"$f":"S64","v":0},0]
[20,0.9,6,42.8,39600,660,11,0.45833333333333331,6.5476190476190479E-2,1.5277775231481907E-2,null,null,null,"07:00:00",320.48278298959997,0.1346324388,0,{"$f":"S63","v":0},0]
[21,0.85,5,41,36000,600,10,0.41666666666666669,5.9523809523809527E-2,1.3888886574074461E-2,null,null,null,"08:00:00",320.34815055079997,0.1346324388,0,{"$f":"S62","v":0},0]
[22,0.8,4,39.200000000000003,32400,540,9,0.375,5.3571428571428568E-2,1.2499997916667014E-2,null,null,null,"09:00:00",320.21351811199997,0.1346324388,0,{"$f":"S61","v":0},0]
[23,0.7,3,37.4,28800,480,8,0.33333333333333331,4.7619047619047616E-2,1.1111109259259568E-2,null,null,null,"10:00:00",320.07888567319998,0.1346324388,0,{"$f":"S60","v":0},0]
[24,0.6,2,35.6,25200,420,7,0.29166666666666669,4.1666666666666671E-2,9.7222206018521239E-3,null,null,null,"11:00:00",319.94425323439998,0.1346324388,0,{"$f":"S59","v":0},0]
[25,0.5,1,33.799999999999997,21600,360,6,0.25,3.5714285714285712E-2,8.3333319444446764E-3,null,null,null,"12:00:00",319.80962079559998,0.1346324388,0,{"$f":"S58","v":0},0]
[26,0.4,0,32,18000,300,5,0.20833333333333334,2.9761904761904764E-2,6.9444432870372306E-3,null,null,null,"01:00:00",319.67498835679999,0.1346324388,0,{"$f":"S57","v":0},0]
[27,0.25,-1,30.2,14400,240,4,0.16666666666666666,2.3809523809523808E-2,5.5555546296297839E-3,null,null,null,"02:00:00",319.54035591799999,0.1346324388,0,{"$f":"S56","v":0},0]
[28,0.2,-2,28.4,10800,180,3,0.125,1.7857142857142856E-2,4.1666659722223382E-3,null,null,null,"03:00:00",319.40572347919999,0.1346324388,0,{"$f":"S55","v":0},0]
[29,0.1,-3,26.6,7200,120,2,8.3333333333333329E-2,1.1904761904761904E-2,2.777777314814892E-3,null,null,null,"04:00:00",319.27109104039999,0.1346324388,0,{"$f":"S54","v":0},0]
[30,1E-3,-4,24.8,3600,60,1,4.1666666666666664E-2,5.9523809523809521E-3,1.388888657407446E-3,null,null,null,"05:00:00",319.1364586016,0.1346324388,0,{"$f":"S53","v":0},0]
[31,null,-5,23,1800,30,0.5,2.0833333333333332E-2,2.976190476190476E-3,6.9444432870372299E-4,null,null,null,"06:00:00",319.0018261628,0.1346324388,0,{"$f":"S52","v":0},0]
[32,null,-6,21.2,900,15,0.25,1.0416666666666666E-2,1.488095238095238E-3,3.472221643518615E-4,null,null,null,"07:00:00",318.867193724,0.1346324388,0,{"$f":"S51","v":0},0]
[33,null,-7,19.399999999999999,600,10,0.16666666666666666,6.9444444444444441E-3,9.9206349206349201E-4,2.3148144290124101E-4,null,null,null,"08:00:00",318.73256128520001,0.1346324388,0,{"$f":"S50","v":0},0]
[34,null,{"$f":"C67-1","v":-8},17.600000000000001,300,5,8.3333333333333329E-2,3.472222222222222E-3,4.96031746031746E-4,1.157407214506205E-4,null,null,null,"09:00:00",318.59792884640001,0.1346324388,0,{"$f":"S49","v":0},0]
[35,null,-9,15.8,60,1,1.6666666666666666E-2,6.9444444444444447E-4,9.9206349206349206E-5,2.3148144290124102E-5,null,null,null,"10:00:00",318.46329640760001,0.1346324388,0,{"$f":"S48","v":0},0]
[36,null,-10,14,30,0.5,8.3333333333333332E-3,3.4722222222222224E-4,4.9603174603174603E-5,1.1574072145062051E-5,null,null,null,"11:00:00",318.32866396880002,0.1346324388,2.5,{"$f":"S47","v":0.71},0]
[37,null,-11,12.2,20,0.33333333333333331,5.5555555555555549E-3,2.3148148148148146E-4,3.3068783068783064E-5,7.7160480967080334E-6,null,null,null,"12:00:00",320.69403153000002,0.1346324388,null,"Lacking","Excess"]
[38,null,-12,10.399999999999999,10,0.16666666666666666,2.7777777777777775E-3,1.1574074074074073E-4,1.6534391534391532E-5,3.8580240483540167E-6,null,null,null,null,null,{"$f":"SUM(P48:P71)","v":3.2311785312000016},{"$f":"SUM(Q48:Q70)","v":2.5},{"$f":"IF(P72-Q72>0,P72-Q72,0)","v":0.73117853120000165},{"$f":"IF(Q72-P72>0,Q72-P72,0)","v":0}]
[39,null,-13,8.5999999999999979,5,8.3333333333333329E-2,1.3888888888888887E-3,5.7870370370370366E-5,8.2671957671957661E-6,1.9290120241770084E-6,null,null,null,null,{"$f":"MIN(O47:O71)","v":318.32866396880002},"Cycle Service Life"]
[40,null,-14,6.8000000000000007,2,3.3333333333333333E-2,5.5555555555555556E-4,2.3148148148148147E-5,3.3068783068783066E-6,7.7160480967080332E-7]
[41,null,-15,5,1,1.6666666666666666E-2,2.7777777777777778E-4,1.1574074074074073E-5,1.6534391534391533E-6,3.8580240483540166E-7,null,null,null,null,null,null,"Diminished"]
[42,null,-16,3.1999999999999993,0.75,1.2500000000000001E-2,2.0833333333333335E-4,8.6805555555555555E-6,1.2400793650793651E-6,2.8935180362655129E-7,null,null,null,null,"Depth of Discharge",null,"Bat life"]
[43,null,-17,1.3999999999999986,0.5,8.3333333333333332E-3,1.3888888888888889E-4,5.7870370370370367E-6,8.2671957671957665E-7,1.9290120241770083E-7,null,null,null,{"$f":"Calculations!K89","v":1.2565825696220223E-2},"1 day D of D",null,{"$f":"IF(N77<0.2999, 4, IF(N77<0.4999, 2,1))","v":4}]
[44,null,-18,-0.39999999999999858,0.33300000000000002,5.5500000000000002E-3,9.2499999999999999E-5,3.8541666666666669E-6,5.5059523809523811E-7,1.2847220081018876E-7,null,null,null,{"$f":"Calculations!K90","v":2.5131651392440557E-2},"2 day W/O charge",null,{"$f":"IF(N78<0.2999, 4, IF(N78<0.4999, 2,1))","v":4}]
[45,null,-19,-2.2000000000000028,0.25,4.1666666666666666E-3,6.9444444444444444E-5,2.8935185185185184E-6,4.1335978835978832E-7,9.6450601208850415E-8,null,null,null,{"$f":"Calculations!K91","v":3.769747708866078E-2},"3 day W/O charge",null,{"$f":"IF(N79<0.2999, 4, IF(N79<0.4999, 2,1))","v":4}]
[46,null,-20,-4,0.2,3.3333333333333335E-3,5.5555555555555558E-5,2.3148148148148148E-6,3.3068783068783069E-7,7.7160480967080338E-8,null,null,null,{"$f":"Calculations!K92","v":5.0263302784881114E-2},"4 day W/O charge",null,{"$f":"IF(N80<0.2999, 4, IF(N80<0.4999, 2,1))","v":4}]
[47,null,-21,-5.8000000000000043,0.15,2.5000000000000001E-3,4.1666666666666665E-5,1.736111111111111E-6,2.4801587301587301E-7,5.7870360725310253E-8,null,null,null,{"$f":"Calculations!K93","v":6.2829128481101337E-2},"5 day W/O charge",null,{"$f":"IF(N81<0.2999, 4, IF(N81<0.4999, 2,1))","v":4}]
[48,null,-22,-7.6000000000000014,0.1,1.6666666666666668E-3,2.7777777777777779E-5,1.1574074074074074E-6,1.6534391534391535E-7,3.8580240483540169E-8]
[49,null,-23,-9.3999999999999986,0.05,8.3333333333333339E-4,1.388888888888889E-5,5.787037037037037E-7,8.2671957671957673E-8,1.9290120241770084E-8]
[50,null,-24,-11.200000000000003,0.01,1.6666666666666666E-4,2.7777777777777775E-6,1.1574074074074073E-7,1.6534391534391531E-8,3.8580240483540164E-9]
[51,null,-25,-13]
[52,null,-26,-14.800000000000004,"Day","Reserve Time during Storms/stollen panels",null,null,null,null,null,null,null,null,null,"Comparison of Charge into Battery and draw from battery."]
[53,null,-27,-16.600000000000001,0,{"$f":"O45","v":321.42521006119995},null,{"$f":"Defaults!L15","v":3.2311785311999999},0,null,{"$f":"F87/H87*Defaults!K24","v":79.580922430015917},"Reserve Days",null,null,"draw =>",{"$f":"Defaults!L15","v":3.2311785311999999}]
[54,null,-28,-18.399999999999999,0,{"$f":"F87","v":321.42521006119995},null,{"$f":"H87/Defaults!$K$24","v":4.0389731639999997},0,null,{"$f":"K87*24","v":1909.9421383203821},"Reserve Hours",null,null,"charge",{"$f":"Defaults!K19","v":1.7749999999999999}]
[55,null,-29,-20.200000000000003,1,{"$f":"IF((F88-H88+I88>$F$87),$F$87,IF(F88-H88+I88<0,0,F88-H88+I88))","v":317.38623689719992},null,{"$f":"H88","v":4.0389731639999997},0,{"$f":"IF(F89/$O$45<0,0,F89/$O$45)","v":0.98743417430377978},{"$f":"1-J89","v":1.2565825696220223E-2},"1 day",null,null,"Day","Reserve"]
[56,null,-30,-22,2,313.3472637331999,null,4.0389731639999997,0,0.97486834860755944,2.5131651392440557E-2,"2 days",null,null,0,{"$f":"Defaults!$L$25","v":321.42521006119995},null,"Discharge",{"$f":"O73/O45","v":0.99036620029956468}]
[57,null,-31,-23.800000000000004,3,309.30829056919987,null,4.0389731639999997,0,0.96230252291133922,3.769747708866078E-2,"3 days",null,null,1,{"$f":"IF((P90-$P$87+$P$88>$P$90),$P$90,IF(P90-$P$87+$P$88<0,0,P90-$P$87+$P$88))","v":319.96903152999994},null,"1 day",{"$f":"O73","v":318.32866396880002},{"$f":"IF(S91/$O$45<0,0,S91/$O$45)","v":0.99036620029956468},{"$f":"1-T91","v":9.6337997004353193E-3}]
[58,null,-32,-25.6,4,305.26931740519984,null,4.0389731639999997,0,0.94973669721511889,5.0263302784881114E-2,"4 days",null,null,2,318.51285299879993,null,"2 days",{"$f":"IF(S91-($O$45-$O$73)>0,S91-($O$45-$O$73), 0)","v":315.23211787640008},{"$f":"S92/$O$45","v":0.98073240059912947},1.9267599400870528E-2]
[59,null,-33,-27.4,5,301.23034424119982,null,4.0389731639999997,0,0.93717087151889866,6.2829128481101337E-2,"5 days",null,null,3,317.05667446759992,null,"3 days",312.13557178400015,0.97109860089869415,2.8901399101305847E-2]
[60,null,-34,-29.200000000000003,6,297.19137107719979,null,4.0389731639999997,0,0.92460504582267833,7.5394954177321671E-2,"6 days",null,null,4,315.60049593639991,null,"4 days",309.03902569160022,0.96146480119825894,3.8535198801741055E-2]
[61,null,-35,-31,7,293.15239791319976,null,4.0389731639999997,0,0.91203922012645811,8.7960779873541894E-2,"7 days",null,null,5,314.1443174051999,null,"5 days",305.94247959920028,0.95183100149782363,4.8168998502176374E-2]
[62,null,-36,-32.799999999999997,8,289.11342474919974,null,4.0389731639999997,0,0.89947339443023777,0.10052660556976223,8,null,null,6,312.68813887399989,null,"6 days",302.84593350680035,0.94219720179738831,5.7802798202611694E-2]
[63,null,-37,-34.600000000000009,9,285.07445158519971,null,4.0389731639999997,0,0.88690756873401755,0.11309243126598245,9,null,null,7,311.23196034279988,null,"7 days",299.74938741440042,0.9325634020969531,6.7436597903046902E-2]
[64,null,-38,-36.400000000000006,10,281.03547842119968,null,4.0389731639999997,0,0.87434174303779721,0.12565825696220279,10,null,null,8,309.77578181159987,null,8,296.65284132200048,0.92292960239651778,7.7070397603482221E-2]
[65,null,-39,-38.200000000000003,11,276.99650525719966,null,4.0389731639999997,0,0.86177591734157699,0.13822408265842301,11,null,null,9,308.31960328039986,null,9,293.55629522960055,0.91329580269608257,8.670419730391743E-2]
[66,null,{"$f":"C99-1","v":-40},-40,12,272.95753209319963,null,4.0389731639999997,0,0.84921009164535666,0.15078990835464334,12,null,null,10,306.86342474919985,null,10,290.45974913720062,0.90366200299564725,9.6337997004352749E-2]
[67,null,-41,{"$f":"C101*1.8+32","v":-41.8},13,268.91855892919961,null,4.0389731639999997,0,0.83664426594913643,0.16335573405086357,13,null,null,11,305.40724621799984,null,11,287.36320304480068,0.89402820329521193,0.10597179670478807]
[68,null,-42,-43.600000000000009,14,264.87958576519958,null,4.0389731639999997,1,0.8240784402529161,0.1759215597470839,14,null,null,12,303.95106768679983,null,12,284.26665695240075,0.88439440359477672,0.11560559640522328]
[69,null,-43,-45.400000000000006,null,null,null,null,null,null,null,null,null,null,13,302.49488915559982,null,13,281.17011086000082,0.8747606038943414,0.1252393961056586]
[70,null,-44,-47.2,null,null,null,null,null,null,null,null,null,null,14,301.03871062439981,null,14,278.07356476760089,0.8651268041939062,0.1348731958060938]
[71,null,-45,-49,null,null,null,null,null,null,null,null,null,null,null,null,null,null,274.97701867520095,0.85549300449347088,0.14450699550652912]
[72,null,-46,-50.8,null,null,null,null,null,null,null,null,null,null,null,null,null,null,271.88047258280102,0.84585920479303567,0.15414079520696433]
[73,null,-47,-52.600000000000009,null,null,null,null,null,null,null,null,null,null,null,null,null,null,268.78392649040109,0.83622540509260035,0.16377459490739965]
[74,null,-48,-54.400000000000006,null,null,null,null,null,null,null,null,null,null,null,null,null,null,265.68738039800115,0.82659160539216503,0.17340839460783497]
[75,null,-49,-56.2,null,null,null,null,null,null,null,null,null,null,null,null,null,null,262.59083430560122,0.81695780569172982,0.18304219430827018]
[76,null,-50,-58,null,null,null,null,null,null,null,null,null,null,null,null,null,null,259.49428821320129,0.8073240059912945,0.1926759940087055]
[77,null,-51,-59.8]
[78,null,-52,-61.600000000000009]
[79,null,-53,-63.400000000000006]
[80,null,-54,-65.2]
[81,null,-55,-67]
[82,null,-56,-68.8]
[83,null,-57,-70.600000000000009]
[84,null,-58,-72.400000000000006]
[85,null,-59,-74.2]
[86,null,-60,-76]
[87,null,-61,-77.8]
[88,null,-62,-79.600000000000009]
[89,null,-63,-81.400000000000006]
[90,null,-64,-83.2]
[91,null,-65,-85]
[92,null,-66,-86.8]
[93,null,-67,-88.600000000000009]
[94,null,-68,-90.4]
[95,null,-69,-92.2]
[96,null,-70,-94]
[97,null,-71,-95.8]
[98,null,{"$f":"C131-1","v":-72},-97.6]
[99,null,-73,-99.4]
[100,null,-74,-101.20000000000002]
[101,null,-75,-103]
[102,null,-76,-104.80000000000001]
[103,null,-77,-106.6]
[104,null,-78,-108.4]
[105,null,-79,-110.20000000000002]
[106,null,-80,-112]
[]
[]
[]
["Adjusted picture Sizes","Actual Picture Sizes",null,null,null,"Percent",null,"Battery Adjust",null,null,null,null,null,"OldAdjust battery picture",null,null,null,"Solar New"]
[{"$f":"picSize(\"Image3\",B145*100)","v":{"$error":"#NAME?"}},{"$f":"Budget!M19/E147","v":0.64543813430989927},null,"Daily Load",{"$f":"$B$2","v":3.2311785311999999},{"$f":"E145/E147","v":0.64543813430989927},null,null,null,null,"Minimum estimated battery amperage required for backup:",{"$f":"Defaults!L24","v":121.16919492000001},null,{"$f":"BatterypicSize(\"Image2\", $O$145)","v":{"$error":"#NAME?"}},{"$f":"Budget!$H$16-Budget!$J$16","v":200.25601514119995},null,null,"Production/Useage"]
[{"$f":"picSize(\"Image4\",B146*100)","v":{"$error":"#NAME?"}},{"$f":"Budget!M21/E147","v":{"$error":"#VALUE!"}},null,"Daily Solar",{"$f":"$B$3","v":1.7749999999999999},{"$f":"E146/E147","v":0.35456186569010067},null,null,null,null,"Estimated battery amp hours corrected for temperature:",{"$f":"Budget!H16","v":321.42521006119995},null,null,null,null,null,{"$f":"IF($B$3/$B$2>2,2,$B$3/$B$2)","v":0.54933516760548595}]
[null,null,null,"Total",{"$f":"$E$145+$E$146","v":5.0061785311999998},{"$f":"(F145+F146)*100","v":100},null,null,null,null,"Total:",{"$f":"L145+L146","v":442.59440498119994},null,null,null,null,null,{"$f":"R146*100","v":54.933516760548592}]
[null,null,null,null,"Solar Panel Size:",{"$f":"(2.4*F146)*2","v":1.7018969553124832},null,null,null,null,"Battery Size:",{"$f":"(L146/L147)*2","v":1.45245943664766},null,null,null,null,null,{"$f":"R147*100","v":5493.3516760548591}]
[{"$f":"adjustedBatt(Calculations!H16)","v":{"$error":"#NAME?"}},null,null,null,null,{"$f":"SolarPicSize(\"Image4\",F148*65)","v":{"$error":"#NAME?"}},null,null,null,null,null,{"$f":"BattPicSize(IF($N$888>0.8,\"Image1\",(IF($N$888 >0.7,\"Image5\",\"Image6\"))),L148*175,$N$888)","v":{"$error":"#NAME?"}}]
[]
[null,null,null,null,null,null,null,null,"Regression for solar input",null,null,null,null,null,null,null,"Regression for temperature"]
["Test calculations for annual power simulation (Logan)",null,null,null,null,null,null,null,"c6","c5","c4","c3","c2","c1","b",null,"c6","c5","c4","c3","c2","c1","b"]
[]
[null,null,null,null,null,null,null,null,{"$f":"INDEX(LINEST(y,x^{1,2,3,4,5,6}),1)","v":7.360557874735843E-14},{"$f":"INDEX(LINEST(y,x^{1,2,3,4,5,6}),1,2)","v":-1.5899828434952484E-10},{"$f":"INDEX(LINEST(y,x^{1,2,3,4,5,6}),1,3)","v":1.2759947768465666E-7},{"$f":"INDEX(LINEST(y,x^{1,2,3,4,5,6}),1,4)","v":-4.6379075498526672E-5},{"$f":"INDEX(LINEST(y,x^{1,2,3,4,5,6}),1,5)","v":7.313567527509909E-3},{"$f":"INDEX(LINEST(y,x^{1,2,3,4,5,6}),1,6)","v":-0.36354146246935687},{"$f":"INDEX(LINEST(y,x^{1,2,3,4,5,6}),1,7)","v":7.3536776987687063},null,{"$f":"INDEX(LINEST(z,x^{1,2,3,4,5,6}),1)","v":5.4761243114016284E-14},{"$f":"INDEX(LINEST(z,x^{1,2,3,4,5,6}),1,2)","v":-1.2754433220799756E-10},{"$f":"INDEX(LINEST(z,x^{1,2,3,4,5,6}),1,3)","v":1.1142400625164923E-7},{"$f":"INDEX(LINEST(z,x^{1,2,3,4,5,6}),1,4)","v":-4.4872224916782905E-5},{"$f":"INDEX(LINEST(z,x^{1,2,3,4,5,6}),1,5)","v":8.144989284573528E-3},{"$f":"INDEX(LINEST(z,x^{1,2,3,4,5,6}),1,6)","v":-0.52555714301697432},{"$f":"INDEX(LINEST(z,x^{1,2,3,4,5,6}),1,7)","v":6.8212319280698921}]
[null,"Load ",null,"Charge"]
["Day","Load (amp*hr)","Corrected-regression (amps*hr)","Solar (amps*hr)-regression","Battery Amps (corrected for lowest temperature)","% of charge (Based on one temperature)","Conditional Formatting Values","Conditional Formatting Values 2","Minimum Temperature","Min temp multiplied by 0.10","Battery Capacity Factor","Battery Capacity","Batt Amps (Temp Corr)","% of charge"]
[null,null,null,null,{"$f":"Budget!$H$16","v":321.42521006119995},null,null,null,null,null,null,null,{"$f":"$C$6*K158","v":354.12747499241794}]
[1,{"$f":"Budget!$M$19","v":3.2311785311999999},{"$f":"IF($D158-ABS($B$891)<0,0,$D158-ABS($B$891))","v":6.2416119542066859},{"$f":"($I$154*$A158^6)+($J$154*$A158^5)+($K$154*$A158^4)+($L$154*$A158^3)+($M$154*$A158^2)+($N$154*$A158^1)+$O$154","v":6.9974035521919138},{"$f":"IF(($E157-$B158+$D158>$E$157),$E$157,IF($E157-$B158+$D158<0,0,$E157-$B158+$D158))","v":321.42521006119995},{"$f":"E158/$E$157","v":1},{"$f":"IF(F158<=0.5,NA(),F158)","v":1},{"$f":"IF(F158>0.5,NA(),F158)","v":{"$error":"#N/A"}},{"$f":"($Q$154*$A158^6)+($R$154*$A158^5)+($S$154*$A158^4)+($T$154*$A158^3)+($U$154*$A158^2)+($V$154*$A158^1)+$W$154","v":6.3037750134090915},{"$f":"I158*0.1","v":0.6303775013409092},{"$f":"IF(($Y$2+$Y$3*$I158+$Y$4*$I158^2)>1,1,($Y$2+$Y$3*$I158+$Y$4*$I158^2))","v":0.88531868748104481},{"$f":"$C$6*K158","v":354.12747499241794},{"$f":"IF(($C158-$B158>=0),IF($M157-$B158+$C158>$L158,$L158,$M157-$B158+$C158),IF($M157<$L158,IF($M157-$B158+$C158<0,0,$M157-$B158+$C158),IF($L158-$B158+$C158<0,0,$L158-$B158+$C158)))","v":354.12747499241794},{"$f":"M158/L158","v":1}]
[{"$f":"A158+1","v":2},{"$f":"Budget!$M$19","v":3.2311785311999999},{"$f":"IF($D159-ABS($B$891)<0,0,$D159-ABS($B$891))","v":5.8996884498592248},{"$f":"($I$154*$A159^6)+($J$154*$A159^5)+($K$154*$A159^4)+($L$154*$A159^3)+($M$154*$A159^2)+($N$154*$A159^1)+$O$154","v":6.6554800478444527},{"$f":"IF(($E158-$B159+$D159>$E$157),$E$157,IF($E158-$B159+$D159<0,0,$E158-$B159+$D159))","v":321.42521006119995},{"$f":"E159/$E$157","v":1},{"$f":"IF(F159<=0.5,NA(),F159)","v":1},{"$f":"IF(F159>0.5,NA(),F159)","v":{"$error":"#N/A"}},{"$f":"($Q$154*$A159^6)+($R$154*$A159^5)+($S$154*$A159^4)+($T$154*$A159^3)+($U$154*$A159^2)+($V$154*$A159^1)+$W$154","v":5.8023404000810892},{"$f":"I159*0.1","v":0.58023404000810896},{"$f":"IF(($Y$2+$Y$3*$I159+$Y$4*$I159^2)>1,1,($Y$2+$Y$3*$I159+$Y$4*$I159^2))","v":0.88026468398710422},352.10587359484168,352.10587359484168,{"$f":"M159/L159","v":1}]
[{"$f":"A159+1","v":3},{"$f":"Budget!$M$19","v":3.2311785311999999},5.5718418830593048,6.3276334810445327,321.42521006119995,1,1,{"$error":"#N/A"},5.3166628468985326,0.53166628468985333,{"$f":"IF(($Y$2+$Y$3*$I160+$Y$4*$I160^2)>1,1,($Y$2+$Y$3*$I160+$Y$4*$I160^2))","v":0.87533302794171886},350.13321117668755,350.13321117668755,1]
[4,{"$f":"Budget!$M$19","v":3.2311785311999999},5.2578015734678356,6.0135931714530644,321.42521006119995,1,1,{"$error":"#N/A"},4.8464797563250031,0.48464797563250034,{"$f":"IF(($Y$2+$Y$3*$I161+$Y$4*$I161^2)>1,1,($Y$2+$Y$3*$I161+$Y$4*$I161^2))","v":0.8705245173157895},348.20980692631582,348.20980692631582,1]
[5,{"$f":"Budget!$M$19","v":3.2311785311999999},4.9572998461411277,5.7130914441263556,321.42521006119995,1,1,{"$error":"#N/A"},4.3915311592682746,0.43915311592682749,0.86583979127360178,346.33591650944072,346.33591650944072,1]
[6,{"$f":"Budget!$M$19","v":3.2311785311999999},4.6700720126365738,5.4258636106218017,321.42521006119995,1,1,{"$error":"#N/A"},3.9515596999129836,0.39515596999129837,0.86127933703264814,344.51173481305926,344.51173481305926,1]
[7,{"$f":"Budget!$M$19","v":3.2311785311999999},4.3958563521713501,5.1516479501565779,321.42521006119995,1,1,{"$error":"#N/A"},3.5263106205927426,0.3526310620592743,0.85684349652479785,{"$f":"$C$6*K164","v":342.73739860991913},{"$f":"IF(($C164-$B164>=0),IF($M163-$B164+$C164>$L164,$L164,$M163-$B164+$C164),IF($M163<$L164,IF($M163-$B164+$C164<0,0,$M163-$B164+$C164),IF($L164-$B164+$C164<0,0,$L164-$B164+$C164)))","v":342.73739860991913},1,15,6.97]
[8,{"$f":"Budget!$M$19","v":3.2311785311999999},4.1343940928340874,4.8901856908193153,321.42521006119995,1,1,{"$error":"#N/A"},3.115531746701671,0.31155317467016713,0.85253247286313616,341.01298914525444,341.01298914525444,1,45,6.88]
[9,{"$f":"Budget!$M$19","v":3.2311785311999999},3.8854293928495616,4.6412209908347899,321.42521006119995,1,1,{"$error":"#N/A"},2.7189734716453584,0.27189734716453584,0.84834633661872427,339.33853464748972,339.33853464748972,1,{"$f":"O165+31","v":76},5.9]
[10,{"$f":"Budget!$M$19","v":3.2311785311999999},3.6487093218963635,4.4045009198815919,321.42521006119995,1,1,{"$error":"#N/A"},2.3363887418312572,0.23363887418312573,0.84428503191145443,337.71401276458175,337.71401276458175,1,{"$f":"O166+30","v":106},4.5599999999999996]
[11,{"$f":"Budget!$M$19","v":3.2311785311999999},3.4239838424775733,4.1797754404628016,321.42521006119995,1,1,{"$error":"#N/A"},1.9675330416985002,0.19675330416985004,0.84034838231911124,336.1393529276445,336.1393529276445,1,{"$f":"O167+31","v":137},3.17]
[12,{"$f":"Budget!$M$19","v":3.2311785311999999},3.2110057913444265,3.9667973893296549,321.42521006119995,1,1,{"$error":"#N/A"},1.6121643787871456,0.16121643787871456,0.83653609660867811,334.61443864347126,334.59426590361568,0.99993971348057376,{"$f":"O168+30","v":167},1.98]
[13,{"$f":"Budget!$M$19","v":3.2311785311999999},3.0095308609729812,3.7653224589582095,321.42521006119995,1,1,{"$error":"#N/A"},1.2700432688468561,0.12700432688468563,0.83284777429386148,333.13910971754461,332.9174620473176,0.99933466932052817,{"$f":"O169+31","v":198},1.72]
[14,{"$f":"Budget!$M$19","v":3.2311785311999999},2.8193175810937734,3.5751091790790017,321.42521006119995,1,1,{"$error":"#N/A"},0.9409327209849998,9.4093272098499992E-2,0.8292829110227361,331.71316440909442,331.30130345898823,0.99875838225823843,{"$f":"O170+30","v":228},1.94]
[15,{"$f":"Budget!$M$19","v":3.2311785311999999},2.6401273002744801,3.3959188982597084,321.42521006119995,1,1,{"$error":"#N/A"},0.62459822285418287,6.2459822285418291E-2,0.82584090379935071,330.33636151974031,329.74531028881478,0.99821075939625192,{"$f":"O171+31","v":259},2.66]
[16,{"$f":"Budget!$M$19","v":3.2311785311999999},2.4717241675555646,3.2275157655407929,321.42154729554073,0.99998860460989192,0.99998860460989192,{"$error":"#N/A"},0.32080772587920592,3.2080772587920595E-2,0.82252105604306869,329.00842241722745,328.24896805358304,0.99769168716695855,{"$f":"O172+30","v":289},3.79]
[17,{"$f":"Budget!$M$19","v":3.2311785311999999},2.3138751141389284,3.0696667121241568,321.26003547646491,0.99948611814019317,0.99948611814019317,{"$error":"#N/A"},2.9331630523454777E-2,2.9331630523454777E-3,0.81932258248934808,327.72903299573926,326.81172957867818,0.99720103095939927,{"$f":"O173+31","v":320},4.9400000000000004]
[18,{"$f":"Budget!$M$19","v":3.2311785311999999},2.1663498351295529,2.9221414331147813,320.95099837837972,0.99852465933605539,0.99852465933605539,{"$error":"#N/A"},-0.25005722840528133,-2.5005722840528134E-2,0.81624461393561032,326.49784557424414,325.4330168781737,0.99673863484704583,{"$f":"O174+30","v":350},5.92]
[19,{"$f":"Budget!$M$19","v":3.2311785311999999},2.0289207713301409,2.7847123693153693,320.50453221649508,0.99713563897327917,0.99713563897327917,{"$error":"#N/A"},-0.51758359640957696,-5.17583596409577E-2,0.81328620183577527,325.31448073431011,324.11222297444027,0.99630432141490888]
[20,{"$f":"Budget!$M$19","v":3.2311785311999999},1.9013630910887573,2.6571546890739857,319.93050837436908,0.99534976834410016,0.99534976834410016,{"$error":"#N/A"},-0.77346981391768832,-7.7346981391768835E-2,0.81044632274698547,324.17852909879417,322.78240753432902,0.99569335585442276]
[21,{"$f":"Budget!$M$19","v":3.2311785311999999},1.7834546721994502,2.5392462701846785,319.23857611335376,0.99319706768666383,0.99319706768666383,{"$error":"#N/A"},-1.0179358308594555,-0.10179358308594555,0.80772388263197425,323.08955305278971,321.33468367532851,0.994568473784188]
[22,{"$f":"Budget!$M$19","v":3.2311785311999999},1.6749760838558916,2.4307676818411199,318.4381652639949,0.99070687455835749,0.99070687455835749,{"$error":"#N/A"},-1.2511992212027714,-0.12511992212027714,0.80511772102047863,322.04708840819143,319.7784812279844,0.9929556662306116]
[23,{"$f":"Budget!$M$19","v":3.2311785311999999},1.5757105686579904,2.3315021666432187,317.53848889943811,0.98790785215315935,0.98790785215315935,{"$error":"#N/A"},-1.4734751974506395,-0.14734751974506397,0.80262661503303179,321.05064601321271,318.12301326544241,0.99088108750402637]
[24,{"$f":"Budget!$M$19","v":3.2311785311999999},1.4854440246715206,2.2412356226567489,316.54854599089487,0.98482799756317629,0.98482799756317629,{"$error":"#N/A"},-1.6849766250987734,-0.16849766250987736,0.80024928327041578,320.09971330816632,316.37727875891392,0.98837101567264218]
[25,{"$f":"Budget!$M$19","v":3.2311785311999999},1.4039649875407378,2.1597565855259662,315.47712404522082,0.98149464998452796,0.98149464998452796,{"$error":"#N/A"},-1.8859140370537943,-0.18859140370537944,0.79798438957199347,319.19375582879741,314.55006521525468,0.98545181248459812]
[26,{"$f":"Budget!$M$19","v":3.2311785311999999},1.3310646126539827,2.086856210639211,314.33280172466004,0.97793449886774753,0.97793449886774753,{"$error":"#N/A"},-2.0764956480119778,-0.20764956480119778,0.79583054664608377,318.33221865843353,312.64995129670865,0.98214988295664196]
[27,{"$f":"Budget!$M$19","v":3.2311785311999999},1.2665366573622969,2.0223282553475252,313.12395144880759,0.97417359201286113,0.97417359201286113,{"$error":"#N/A"},-2.2569273687986104,-0.22569273687986105,0.79378631957548451,317.5145278301938,310.68530942287094,0.97849163484268942]
[28,{"$f":"Budget!$M$19","v":3.2311785311999999},1.2101774632510316,1.9659690612362599,311.85874197884385,0.97023734360931235,0.97023734360931235,{"$error":"#N/A"},-2.4274128206678682,-0.24274128206678683,0.79185022920119563,316.74009168047826,308.66430835492201,0.9745034381889901]
[29,{"$f":"Budget!$M$19","v":3.2311785311999999},1.1617859384644338,1.9175775364496621,310.54514098409351,0.96615054222089536,0.96615054222089536,{"$error":"#N/A"},-2.5881533495633064,-0.25881533495633063,0.79002075538733529,316.00830215493414,306.59491576218647,0.97021158517496031]
[30,{"$f":"Budget!$M$19","v":3.2311785311999999},1.1211635400832551,1.8769551380684835,309.19091759096199,0.96193735871586261,0.96193735871586261,{"$error":"#N/A"},-2.7393480403388892,-0.27393480403388892,0.7882963401701899,315.31853606807596,304.48490077106976,0.96564225042999929]
[31,{"$f":"Budget!$M$19","v":3.2311785311999999},1.0881142565553374,1.8439058545405658,307.80364491430259,0.95762135414237182,0.95762135414237182,{"$error":"#N/A"},-2.8811937309406375,-0.28811937309406377,0.78667539079428483,314.67015631771392,302.34183649642512,0.96082145200690328]
[32,{"$f":"Budget!$M$19","v":3.2311785311999999},1.0624445901792074,1.8182361881644358,306.39070257126707,0.95322548754943559,0.95322548754943559,{"$error":"#N/A"},-3.0138850265487989,-0.30138850265487993,0.78515628263830906,314.06251305532362,300.17310255540434,0.95577501318193747]
[33,{"$f":"Budget!$M$19","v":3.2311785311999999},1.0439635396406524,1.7997551376258807,304.95927917769296,0.94877212375354181,0.94877212375354181,{"$error":"#N/A"},-3.1376143136806114,-0.31376143136806117,0.78373736203367517,313.49494481347006,297.98588756384498,0.95052852524032572]
[34,{"$f":"Budget!$M$19","v":3.2311785311999999},1.032482582602309,1.7882741805875373,303.51637482708054,0.94428304105110628,0.94428304105110628,{"$error":"#N/A"},-3.2525717742536493,-0.32525717742536497,0.78241694897844249,312.96677959137702,295.78719161524731,0.94510731139400761]
[35,{"$f":"Budget!$M$19","v":3.2311785311999999},1.0278156583462326,1.7836072563314609,302.06880355221199,0.93977943887692428,0.93977943887692428,{"$error":"#N/A"},-3.3589453996097109,-0.33589453996097113,0.78119333974928484,312.47733589971392,293.58382874239356,0.93953639196609118]
[36,{"$f":"Budget!$M$19","v":3.2311785311999999},1.0297791504694778,1.7855707484547061,300.62319576946669,0.93528194540878573,0.93528194540878573,{"$error":"#N/A"},-3.4569210044993266,-0.3456921004499327,0.7800648094141267,312.0259237656507,291.38242936166307,0.93384045096364465]
[37,{"$f":"Budget!$M$19","v":3.2311785311999999},1.0381918696326582,1.7939834676178865,299.18600070588457,0.93081062511841872,0.93081062511841872,{"$error":"#N/A"},-3.5466822410267831,-0.35466822410267834,0.77902961424803108,311.61184569921244,289.18944270009575,0.92804380414741927]
[38,{"$f":"Budget!$M$19","v":3.2311785311999999},1.0528750363615127,1.808666634346741,297.76348880903134,0.92638498626892596,0.92638498626892596,{"$error":"#N/A"},-3.6284106125557525,-0.36284106125557525,0.77808599405486523,311.23439762194607,287.01113920525728,0.92217036869391089]
[39,{"$f":"Budget!$M$19","v":3.2311785311999999},1.0736522639014807,1.829443861886709,296.36175413971807,0.922023988358879,0.922023988358879,{"$error":"#N/A"},-3.702285487575498,-0.37022854875754985,0.77723217439722625,310.89286975889053,284.85361293795876,0.91624363453196522]
[40,{"$f":"Budget!$M$19","v":3.2311785311999999},1.1003495411252291,1.8561411391104574,294.98671674762852,0.91774604951323668,0.91774604951323668,{"$error":"#N/A"},-3.7684841135276237,-0.37684841135276237,0.77646636873706298,310.5865474948252,282.72278394788401,0.9102866374230022]
[41,{"$f":"Budget!$M$19","v":3.2311785311999999},1.1327952154932333,1.8885868134784616,293.644125029907,0.91356905382125009,0.91356905382125009,{"$error":"#N/A"},-3.8271816305934259,-0.38271816305934259,0.77578678048937599,310.31471219575042,280.62440063217724,0.90432193384100923]
[42,{"$f":"Budget!$M$19","v":3.2311785311999999},1.1708199760673135,1.9266115740525418,292.33955807275953,0.90951035862152052,0.90951035862152052,{"$error":"#N/A"},-3.8785510854417957,-0.38785510854417959,0.77519160499134265,310.07664199653703,278.56404207704458,0.89837157769579945]
[43,{"$f":"Budget!$M$19","v":3.2311785311999999},1.2142568365771758,1.9700484345624041,291.07842797612193,0.90558680173437567,0.90558680173437567,{"$error":"#N/A"},-3.9227634449376971,-0.39227634449376975,0.77467903138915672,309.87161255566269,276.54712038242178,0.89245709893075542]
[44,{"$f":"Budget!$M$19","v":3.2311785311999999},1.2629411185399557,2.018732716525184,289.86598216144711,0.90181470864172752,0.90181470864172752,{"$error":"#N/A"},-3.959987609811245,-0.39599876098112452,0.77424724444483617,309.69889777793446,274.57888296976176,0.88659948401445376]
[45,{"$f":"Budget!$M$19","v":3.2311785311999999},1.3167104344327654,2.0725020324179937,288.70730566266514,0.89820989961457831,0.89820989961457831,{"$error":"#N/A"},-3.9903904282872968,-0.39903904282872971,0.77389442626520311,309.55777050608123,272.66441487299454,0.88081915833425373]
[46,{"$f":"Budget!$M$19","v":3.2311785311999999},1.375404670918202,2.1311962689034303,287.60732340036856,0.89478769678833714,0.89478769678833714,{"$error":"#N/A"},-4.0141367096756699,-0.40141367096756703,0.77361875795519941,309.44750318207974,270.80864101271277,0.87513597048921166]
[47,{"$f":"Budget!$M$19","v":3.2311785311999999},1.4388659721229096,2.1946575701081379,286.57080243927669,0.89156293118611663,0.89156293118611663,{"$error":"#N/A"},-4.0313892379219176,-0.40313892379219179,0.77341842119765558,309.36736847906224,269.01632845363571,0.86956917846958559]
[48,{"$f":"Budget!$M$19","v":3.2311785311999999},1.5069387229690636,2.2627303209542919,285.60235422903099,0.88854994969016832,0.88854994969016832,{"$error":"#N/A"},-4.0423087851186494,-0.40423087851186496,0.77329159976159001,309.31663990463602,267.29208864540476,0.86413743770077278]
[49,{"$f":"Budget!$M$19","v":3.2311785311999999},1.5794695325589401,2.3352611305441684,284.70643682837516,0.88576262196162692,0.88576262196162692,{"$error":"#N/A"},-4.047054124977457,-0.40470541249774572,0.77323648094107389,309.29459237642953,265.64037964676373,0.85885879092080575]
[50,{"$f":"Budget!$M$19","v":3.2311785311999999},1.6563072176123792,2.4120988155976075,283.8873571127728,0.88321434730872583,0.88321434730872583,{"$error":"#N/A"},-4.0457820462614045,-0.40457820462614047,0.7732512569266542,309.30050277066169,264.06550833317613,0.85375065985254428]
[51,{"$f":"Budget!$M$19","v":3.2311785311999999},1.7373027859573411,2.4930943839425694,283.14927296551537,0.88091806150364882,0.88091806150364882,{"$error":"#N/A"},-4.038647366178072,-0.4038647366178072,0.77333412611128916,309.33365044451568,262.57163258793349,0.84882983862446038]
[52,{"$f":"Budget!$M$19","v":3.2311785311999999},1.8223094200733914,2.5781010180586197,282.49619545237402,0.87888624354818412,0.87888624354818412,{"$error":"#N/A"},-4.0258029437332077,-0.40258029437332077,0.77348329433270613,309.39331773308243,261.1627634768069,0.84411248888741464]
[53,{"$f":"Budget!$M$19","v":3.2311785311999999},1.9111824606882126,2.666974058673441,281.93199097984746,0.87713092238834378,0.87713092238834378,{"$error":"#N/A"},-4.0073996930449027,-0.4007399693044903,0.77369697605405896,309.47879042162356,259.84276740629514,0.83961413656908135]
[54,{"$f":"Budget!$M$19","v":3.2311785311999999},2.0037793904271033,2.7595709884123316,281.46038343705982,0.8756636835781153,0.8756636835781153,{"$error":"#N/A"},-3.9835865966183697,-0.39835865966183698,0.77397339548471622,309.58935819388648,258.61536826552225,0.83534967020267936]
[55,{"$f":"Budget!$M$19","v":3.2311785311999999},2.0999598175154861,2.8557514155007144,281.08495632136055,0.87449567589250843,0.87449567589250843,{"$error":"#N/A"},-3.9545107185813073,-0.39545107185813078,0.77431078764297745,309.72431505719101,257.48414955183773,0.8313333407623904]
[56,{"$f":"Budget!$M$19","v":3.2311785311999999},2.1995854595343807,2.955377057519609,280.80915484768019,0.87363761789006411,0.87363761789006411,{"$error":"#N/A"},-3.9203172178797914,-0.39203172178797918,0.7747073993624769,309.88295974499079,256.45255648017212,0.8275787629342779]
[57,{"$f":"Budget!$M$19","v":3.2311785311999999},2.3025201272289002,3.0583117252141285,280.63628804169434,0.87309980442498791,0.87309980442498791,{"$error":"#N/A"},-3.8811493614347832,-0.38811493614347836,0.77516149024399361,310.06459609759747,255.52389807620102,0.82409891774864563]
[58,{"$f":"Budget!$M$19","v":3.2311785311999999},2.4086297083697423,3.1644213063549707,280.56953081684935,0.87289211310907566,0.87289211310907566,{"$error":"#N/A"},-3.837148537259182,-0.38371485372591824,0.77567133355435491,310.26853342174195,254.70134925337078,0.82090615649754017]
[59,{"$f":"Budget!$M$19","v":3.2311785311999999},2.5177821516676651,3.2735737496528934,280.61192603530225,0.87302401072359326,0.87302401072359326,{"$error":"#N/A"},-3.7884542675354389,-0.37884542675354393,0.77623521707408072,310.49408682963229,253.98795287383845,0.81801220585949941]
[60,{"$f":"Budget!$M$19","v":3.2311785311999999},2.6298474507409728,3.3856390487262011,280.76638655282846,0.87350455958127871,0.87350455958127871,{"$error":"#N/A"},-3.7352042216538131,-0.37352042216538134,0.77685144389538063,310.74057755815227,253.38662179337945,0.81542817415263524]
[61,{"$f":"Budget!$M$19","v":3.2311785311999999},2.7446976281359716,3.5004892261211999,281.03569724774968,0.87434242383862792,0.87434242383862792,{"$error":"#N/A"},-3.6775342292110835,-0.36775342292110835,0.77751833317208408,311.00733326883363,252.90014089031544,0.81316455863665904]
[62,{"$f":"Budget!$M$19","v":3.2311785311999999},2.8622067194004415,3.6179983173856698,281.42251703393538,0.87554587575863141,0.87554587575863141,{"$error":"#N/A"},-3.6155782929699498,-0.36155782929699498,0.77823422082304572,311.2936883292183,252.53116907851589,0.81123125378450889]
[63,{"$f":"Budget!$M$19","v":3.2311785311999999},2.9822507572101222,3.7380423551953506,281.92938085793077,0.87712280192412695,0.87712280192412695,{"$error":"#N/A"},-3.5494686017789263,-0.35494686017789268,0.77899746019053573,311.59898407621426,252.28224130452602,0.80963756044474167,null,null,"Location:","CENT",5.8]
[64,{"$f":"Budget!$M$19","v":3.2311785311999999},3.1047077555481528,3.8604993535333811,282.55870168026416,0.8790807094019305,0.8790807094019305,{"$error":"#N/A"},-3.4793355434528301,-0.34793355434528306,0.77980642265509215,311.92256906203687,252.1557705288742,0.80839219581678967]
[65,{"$f":"Budget!$M$19","v":3.2311785311999999},3.229457693937531,3.9852492919227593,283.31277244098692,0.88142673185791387,0.88142673185791387,{"$error":"#N/A"},-3.4053077176138622,-0.34053077176138624,0.78065949820827718,312.26379928331085,252.15404969161173,0.80750330416250804,"Regression for solar input",null,null,null,null,null,null,null,"Regression for temperature",null,null,null,null,"Minimum Values "]
[66,{"$f":"Budget!$M$19","v":3.2311785311999999},{"$f":"IF($D223-ABS($B$891)<0,0,$D223-ABS($B$891))","v":3.3563825017265798},{"$f":"($I$154*$A223^6)+($J$154*$A223^5)+($K$154*$A223^4)+($L$154*$A223^3)+($M$154*$A223^2)+($N$154*$A223^1)+$O$154","v":4.1121740997118081},{"$f":"IF(($E222-$B223+$D223>$E$157),$E$157,IF($E222-$B223+$D223<0,0,$E222-$B223+$D223))","v":284.19376800949874},{"$f":"E223/$E$157","v":0.88416763562319123},{"$f":"IF(F223<=0.5,NA(),F223)","v":0.88416763562319123},{"$f":"IF(F223>0.5,NA(),F223)","v":{"$error":"#N/A"}},{"$f":"($Q$154*$A223^6)+($R$154*$A223^5)+($S$154*$A223^4)+($T$154*$A223^3)+($U$154*$A223^2)+($V$154*$A223^1)+$W$154","v":-3.3275119484932318},{"$f":"I223*0.1","v":-0.3327511948493232},0.78155509598475092,{"$f":"$C$6*K223","v":312.62203839390037},252.27925366213833,{"$f":"M223/L223","v":0.80697846817910268},null,"x - Day","y - Ah","Sun hours",null,null,null,null,"z - min temp (°C)",null,"Temp/10",null,null,"Sun Hours","Min Temp"]
[{"$f":"A223+1","v":67},{"$f":"Budget!$M$19","v":3.2311785311999999},3.4853660424273705,4.2411576404125988,285.20374711871136,0.88730982571158012,0.88730982571158012,{"$error":"#N/A"},-3.2460732976933642,-0.32460732976933643,0.78249164475503941,312.99665790201578,252.5334411733657,0.80682472096050872,1,15,{"$f":"R224*$J$6","v":2.375},0.95,{"$f":"Q224","v":2.375},{"$f":"P224","v":15},null,null,-1.03,null,{"$f":"W224*0.1","v":-0.10300000000000001},null,null,{"$f":"MIN(R224:R235)","v":0.71},{"$f":"IF(MIN(W224:W235)>25,25,MIN(W224:W235))","v":-1.39}]
[68,{"$f":"Budget!$M$19","v":3.2311785311999999},3.6162940981071983,4.3720856960924266,286.3446542836038,0.8908593517885024,0.8908593517885024,{"$error":"#N/A"},-3.1611150769107006,-0.3161115076910701,{"$f":"IF(($Y$2+$Y$3*$I225+$Y$4*$I225^2)>1,1,($Y$2+$Y$3*$I225+$Y$4*$I225^2))","v":0.78346759338034533},313.38703735213812,252.91855674027292,0.80704855847652801,2,45,{"$f":"R225*$J$6","v":4},1.6,{"$f":"Q225","v":4},{"$f":"P225","v":45},null,null,-1.33,null,-0.13300000000000001]
[69,{"$f":"Budget!$M$19","v":3.2311785311999999},3.7490543538329972,4.5048459518182256,287.61832170422201,0.89482191409148948,0.89482191409148948,{"$error":"#N/A"},-3.0727588606189933,-0.30727588606189937,0.78448141123072102,313.79256449228842,253.43643256290594,0.8076559525014948,3,{"$f":"P225+31","v":76},{"$f":"R226*$J$6","v":6.1},2.44,6.1,76,null,null,-0.83,null,-8.3000000000000004E-2]
[70,{"$f":"Budget!$M$19","v":3.2311785311999999},3.8835363821688111,4.6393279801540395,289.02647115317609,0.89920286930245741,0.89920286930245741,{"$error":"#N/A"},-2.9811244987133207,-0.29811244987133206,0.78553158856788508,314.21263542715405,254.08879041387476,0.80865236392691731,4,{"$f":"P226+30","v":106},8.875,3.55,8.875,106,null,null,0.23,null,2.3000000000000003E-2]
[71,{"$f":"Budget!$M$19","v":3.2311785311999999},4.0196316277261754,4.7754232257114033,290.5707158476875,0.9040072363719146,0.9040072363719146,{"$error":"#N/A"},-2.8863301291144872,-0.28863301291144872,0.78661663689394579,314.64665475757829,{"$f":"IF(($C228-$B228>=0),IF($M227-$B228+$C228>$L228,$L228,$M227-$B228+$C228),IF($M227<$L228,IF($M227-$B228+$C228<0,0,$M227-$B228+$C228),IF($L228-$B228+$C228<0,0,$L228-$B228+$C228)))","v":254.87724351040094},0.81004275639533785,5,{"$f":"P227+31","v":137},11.325000000000001,4.53,11.325000000000001,137,null,null,3.69,null,0.36899999999999999]
[72,{"$f":"Budget!$M$19","v":3.2311785311999999},4.1572333917675959,4.9130249897528238,292.25256230624035,0.90923970229527085,0.90923970229527085,{"$error":"#N/A"},-2.7884921903341606,-0.27884921903341608,0.78773508926725333,315.09403570690131,255.80329837096855,0.81183161019561578,6,{"$f":"P228+30","v":167},13.75,5.5,13.75,167,null,null,6.41,null,0.64100000000000001]
[73,{"$f":"Budget!$M$19","v":3.2311785311999999},4.2962368168629315,5.0520284148481593,294.07341218988853,0.91490462784140802,0.91490462784140802,{"$error":"#N/A"},-2.6877254340004697,-0.26877254340004697,0.78888550058658258,315.55420023463302,256.86835665663148,0.81402293636286516,7,{"$f":"P229+31","v":198},16.299999999999997,6.52,16.299999999999997,198,null,null,10.53,null,1.0529999999999999]
[74,{"$f":"Budget!$M$19","v":3.2311785311999999},4.4365388715988683,5.1923304695840962,296.03456412827262,0.92100605323368101,0.92100605323368101,{"$error":"#N/A"},-2.5841429373442253,-0.25841429373442254,0.7900664478448155,316.02657913792621,258.07371699703037,0.81662029092938104,8,{"$f":"P230+30","v":228},13.55,5.42,13.55,228,null,null,10.46,null,1.046]
[75,{"$f":"Budget!$M$19","v":3.2311785311999999},4.5780383353412706,5.3338299333264985,298.13721553039915,0.92754770378351237,0.92754770378351237,{"$error":"#N/A"},-2.4778561156457251,-0.24778561156457252,0.79127653035326384,316.51061214130556,259.42057680117165,0.81962678927603805,9,{"$f":"P231+31","v":259},9.8000000000000007,3.92,9.8000000000000007,259,null,null,8.5299999999999994,null,0.85299999999999998]
[76,{"$f":"Budget!$M$19","v":3.2311785311999999},4.7206357830506622,5.4764273810358901,300.38246438023504,0.93453299547674451,0.93453299547674451,{"$error":"#N/A"},-2.3689747346420731,-0.23689747346420731,0.79251436993775026,317.00574797510012,260.91003405302234,0.82304512053679246,10,{"$f":"P232+30","v":289},5.5,2.2000000000000002,5.5,289,null,null,4.0599999999999996,null,0.40599999999999997]
[77,{"$f":"Budget!$M$19","v":3.2311785311999999},4.864233570150569,5.6200251681357969,302.77131101717083,0.9419650405129163,0.9419650405129163,{"$error":"#N/A"},-2.2576069228951425,-0.22576069228951426,0.7937786111075309,317.51144444301235,262.54308909197294,0.82687756201208285,11,{"$f":"P233+31","v":320},2.5750000000000002,1.03,2.5750000000000002,320,null,null,1.43,null,0.14299999999999999]
[78,{"$f":"Budget!$M$19","v":3.2311785311999999},5.0087358174489882,5.7645274154342161,305.30465990140505,0.94984665279762737,0.94984665279762737,{"$error":"#N/A"},-2.1438591841200463,-0.21438591841200463,0.79506792119812375,318.0271684792495,264.32064637822197,0.83112599355003924,12,{"$f":"P234+30","v":350},1.7749999999999999,0.71,1.7749999999999999,350,null,null,-1.39,null,-0.13899999999999998]
[79,{"$f":"Budget!$M$19","v":3.2311785311999999},5.1540483961127226,5.9098399940979505,307.98332136430304,0.95818035338815666,0.95818035338815666,{"$error":"#N/A"},-2.0278364094742116,-0.20278364094742118,0.79638099048907562,318.55239619563025,266.24351624313471,0.83579191185750346,13,{"$f":"P235+P224","v":365},{"$f":"R236*$J$6","v":2.375},0.95,2.375,365,null,null,-1.03,null,-0.10300000000000001]
[80,{"$f":"Budget!$M$19","v":3.2311785311999999},5.3000789126948522,6.0558705106800801,310.80801334378316,0.96696837589249685,0.96696837589249685,{"$error":"#N/A"},-1.9096418898070482,-0.19096418898070483,0.79771653229767692,319.08661291907077,268.31241662462958,0.84087644470588008,14,{"$f":"P236+P225-P224","v":395},4,1.6,4,395,null,null,-1.33,null,-0.13300000000000001]
[81,{"$f":"Budget!$M$19","v":3.2311785311999999},5.4467366942150566,6.2025282922002845,313.77936310478344,0.97621267182197458,0.97621267182197458,{"$error":"#N/A"},-1.7893773278701275,-0.17893773278701275,0.79907328304960934,319.62931321984371,270.52797478764467,0.84638036499979363,15,{"$f":"P237+P226-P225","v":426},6.1,2.44,6.1,426,null,null,-0.83,null,-8.3000000000000004E-2]
[82,{"$f":"Budget!$M$19","v":3.2311785311999999},5.5939327732930568,6.3497243712782847,316.89790894486174,0.98591491589761671,0.98591491589761671,{"$error":"#N/A"},-1.6671428504879771,-0.16671428504879771,0.80045000232748342,320.18000093099334,272.89072902973771,0.85230410467939366,16,{"$f":"P238+P227-P226","v":456},8.875,3.55,8.875,456,null,null,0.23,null,2.3000000000000003E-2]
[83,{"$f":"Budget!$M$19","v":3.2311785311999999},5.7415798733349721,6.4973714713202,320.16410188498196,0.9960765113104294,0.9960765113104294,{"$error":"#N/A"},-1.5430370206894679,-0.15430370206894681,0.80184547289819996,320.73818915928001,275.40113037187268,0.8586477684299304,17,{"$f":"P239+P228-P227","v":487},11.325000000000001,4.53,11.325000000000001,487,null,null,3.69,null,0.36899999999999999]
[84,{"$f":"Budget!$M$19","v":3.2311785311999999},5.8895923937727108,6.6453839917579387,321.42521006119995,1,1,{"$error":"#N/A"},-1.4171568497997029,-0.14171568497997031,0.80325850072004856,321.30340028801942,278.05954423444541,0.86541114717488266,18,{"$f":"P240+P229-P228","v":517},13.75,5.5,13.75,517,null,null,6.41,null,0.64100000000000001]
[85,{"$f":"Budget!$M$19","v":3.2311785311999999},6.0378863953563435,6.7936779933415714,321.42521006119995,1,1,{"$error":"#N/A"},-1.2895978094925411,-0.12895978094925412,0.80468791493042746,321.87516597217098,280.86625209860176,0.87259373133149765,19,{"$f":"P241+P230-P229","v":548},{"$f":"R242*$J$6","v":16.299999999999997},6.52,16.299999999999997,548,null,null,10.53,null,1.0529999999999999]
[86,{"$f":"Budget!$M$19","v":3.2311785311999999},6.1863795854994752,6.9421711834847031,321.42521006119995,1,1,{"$error":"#N/A"},-1.1604538438037153,-0.11604538438037154,0.80613256781504683,322.45302712601875,283.82145315290126,0.88019472381005193,20,578,13.55,5.42,13.55,578,null,null,10.46,null,1.046]
[87,{"$f":"Budget!$M$19","v":3.2311785311999999},6.3349913036776133,7.0907829016628412,321.42521006119995,1,1,{"$error":"#N/A"},-1.0298173811043512,-0.10298173811043512,0.8075913347594631,323.03653390378526,286.92526592537888,0.88821305274046214,21,609,9.8000000000000007,3.92,9.8000000000000007,609,null,null,8.5299999999999994,null,0.85299999999999998]
[88,{"$f":"Budget!$M$19","v":3.2311785311999999},6.4836425068795709,7.2394341048647988,321.42521006119995,1,1,{"$error":"#N/A"},-0.89777934603532827,-8.9777934603532838E-2,0.80906311418375176,323.62524567350073,290.17772990105846,0.89664738391211041,22,639,5.5,2.2000000000000002,5.5,639,null,null,4.0599999999999996,null,0.40599999999999997]
[89,{"$f":"Budget!$M$19","v":3.2311785311999999},6.6322557551117516,7.3880473530969795,321.42521006119995,1,1,{"$error":"#N/A"},-0.76442917140198574,-7.6442917140198574E-2,0.81054682746112616,324.21873098445047,293.57880712497024,0.90549613291482001,23,670,2.5750000000000002,1.03,2.5750000000000002,670,null,null,1.43,null,0.14299999999999999]
[90,{"$f":"Budget!$M$19","v":3.2311785311999999},6.7807551969555764,7.5365467949408043,321.42521006119995,1,1,{"$error":"#N/A"},-0.62985481002949228,-6.2985481002949234E-2,0.81204141882126935,324.81656752850773,297.12838379072582,0.91475747697090037,24,700,1.7749999999999999,0.71,1.7749999999999999,700,null,null,-1.39,null,-0.13899999999999998]
[91,{"$f":"Budget!$M$19","v":3.2311785311999999},6.9290665551777852,7.6848581531630131,321.42521006119995,1,1,{"$error":"#N/A"},-0.49414274657884505,-4.9414274657884505E-2,0.81354585523913514,325.41834209565405,300.8262718147036,0.92442936645002693,null,"min(actual)=",{"$f":"MIN(Q233:Q245)","v":1.7749999999999999}]
[92,{"$f":"Budget!$M$19","v":3.2311785311999999},7.077117112393859,7.8329087103790869,321.42521006119995,1,1,{"$error":"#N/A"},-0.35737800932323438,-3.5737800932323441E-2,0.81505912630995381,326.02365052398153,304.67221039589748,0.9345095360604414]
[93,{"$f":"Budget!$M$19","v":3.2311785311999999},7.22483569678427,7.9806272947694978,321.42521006119995,1,1,{"$error":"#N/A"},-0.21964418188530033,-2.1964418188530035E-2,0.81658024411114771,326.63209764445907,308.66586756148178,0.94499551571158313]
[94,{"$f":"Budget!$M$19","v":3.2311785311999999},7.3721526678638956,8.1279442658491234,321.42521006119995,1,1,{"$error":"#N/A"},-8.102341493464138E-2,-8.1023414934641384E-3,0.81810824305185692,327.24329722074276,312.80684169814566,0.95588464104473636]
[95,{"$f":"Budget!$M$19","v":3.2311785311999999},7.5189999023043104,8.2747915002895382,321.42521006119995,1,1,{"$error":"#N/A"},5.8403562153905852E-2,5.8403562153905852E-3,0.81964217971074316,327.85687188429728,317.09466306924998,0.96717406362967628]
[96,{"$f":"Budget!$M$19","v":3.2311785311999999},7.66531077980917,8.4211023777943979,321.42521006119995,1,1,{"$error":"#N/A"},0.19855742968150025,1.9855742968150028E-2,0.82118113266272375,328.4724530650895,321.52879531785914,0.97886076082655726]
[97,{"$f":"Budget!$M$19","v":3.2311785311999999},7.811020169042509,8.5668117670277368,321.42521006119995,1,1,{"$error":"#N/A"},0.33936026604587255,3.3936026604587256E-2,0.82272420229527421,329.08968091810971,326.10863695570168,0.99094154531344958]
[98,{"$f":"Budget!$M$19","v":3.2311785311999999},7.956064413610024,8.7118560115952519,321.42521006119995,1,1,{"$error":"#N/A"},0.4807355362014647,4.8073553620146474E-2,0.82427051061491186,329.70820424596474,329.70820424596474,1]
[99,{"$f":"Budget!$M$19","v":3.2311785311999999},8.1003813180934774,8.8561729160787053,321.42521006119995,1,1,{"$error":"#N/A"},0.62260808015887648,6.2260808015887653E-2,0.82581920104445761,330.32768041778303,330.32768041778303,1]
[100,{"$f":"Budget!$M$19","v":3.2311785311999999},8.2439101341379857,8.9997017321232136,321.42521006119995,1,1,{"$error":"#N/A"},0.76490410152379695,7.6490410152379701E-2,0.82736943821165765,330.94777528466307,330.94777528466307,1]
[101,{"$f":"Budget!$M$19","v":3.2311785311999999},8.3865915465923084,9.1423831445775363,321.42521006119995,1,1,{"$error":"#N/A"},0.90755115607533554,9.0755115607533562E-2,0.82892040772972364,331.56816309188946,331.56816309188946,1]
[102,{"$f":"Budget!$M$19","v":3.2311785311999999},8.52836765970215,9.2841592576873779,321.42521006119995,1,1,{"$error":"#N/A"},1.0504781403838166,0.10504781403838166,0.83047131597033907,332.18852638813564,332.18852638813564,1]
[103,{"$f":"Budget!$M$19","v":3.2311785311999999},8.6691819833565322,9.4249735813417601,321.42521006119995,1,1,{"$error":"#N/A"},1.1936152804679807,0.11936152804679807,0.83202138982965679,332.80855593186271,332.80855593186271,1]
[104,{"$f":"Budget!$M$19","v":3.2311785311999999},8.8089794193870308,9.5647710173722587,321.42521006119995,1,1,{"$error":"#N/A"},1.3368941204916425,0.13368941204916426,0.8335698764878009,333.42795059512036,333.42795059512036,1]
[105,{"$f":"Budget!$M$19","v":3.2311785311999999},8.9477062479200971,9.7034978459053249,321.42521006119995,1,1,{"$error":"#N/A"},1.4802475114996838,0.14802475114996838,0.83511604316236498,334.046417264946,334.046417264946,1]
[106,{"$f":"Budget!$M$19","v":3.2311785311999999},9.0853101137823362,9.8411017117675641,321.42521006119995,1,1,{"$error":"#N/A"},1.6236096001935678,0.16236096001935679,0.83665917685638791,334.66367074255515,334.66367074255515,1]
[107,{"$f":"Budget!$M$19","v":3.2311785311999999},9.2217400129588345,9.9775316109440624,321.42521006119995,1,1,{"$error":"#N/A"},1.766915817746316,0.17669158177463162,0.83819858410127179,335.27943364050873,335.27943364050873,1]
[108,{"$f":"Budget!$M$19","v":3.2311785311999999},9.3569462791043936,10.112737877089621,321.42521006119995,1,1,{"$error":"#N/A"},1.9101028686568,0.19101028686568,0.83973359069508424,335.89343627803368,335.89343627803368,1]
[109,{"$f":"Budget!$M$19","v":3.2311785311999999},9.490880570107878,10.246672168093106,321.42521006119995,1,1,{"$error":"#N/A"},2.0531087196434612,0.20531087196434614,0.84126354143668358,336.5054165746734,336.5054165746734,1]
[110,{"$f":"Budget!$M$19","v":3.2311785311999999},9.6234958547094127,10.379287452694641,321.42521006119995,1,1,{"$error":"#N/A"},2.1958725885776147,0.21958725885776148,0.84278779985608365,337.11511994243347,337.11511994243347,1]
[111,{"$f":"Budget!$M$19","v":3.2311785311999999},9.7547463991707151,10.510537997155943,321.42521006119995,1,1,{"$error":"#N/A"},2.3383349334560108,0.23383349334560111,0.84430574794146018,337.7222991765841,337.7222991765841,1]
[112,{"$f":"Budget!$M$19","v":3.2311785311999999},9.884587753998348,10.640379351983576,321.42521006119995,1,1,{"$error":"#N/A"},2.4804374414129455,0.24804374414129457,0.84581678586319131,338.32671434527651,338.32671434527651,1]
[113,{"$f":"Budget!$M$19","v":3.2311785311999999},10.012976740719958,10.768768338705186,321.42521006119995,1,1,{"$error":"#N/A"},2.6221230177716564,0.26221230177716565,0.84732033169530485,338.92813267812193,338.92813267812193,1]
[114,{"$f":"Budget!$M$19","v":3.2311785311999999},10.139871438713643,10.89566303669887,321.42521006119995,1,1,{"$error":"#N/A"},2.7633357751353174,0.27633357751353177,0.84881582113469911,339.52632845387967,339.52632845387967,1]
[115,{"$f":"Budget!$M$19","v":3.2311785311999999},10.265231172090013,11.021022770075241,321.42521006119995,1,1,{"$error":"#N/A"},2.9040210225173624,0.29040210225173624,0.850302707218483,340.12108288739319,340.12108288739319,1]
[116,{"$f":"Budget!$M$19","v":3.2311785311999999},10.389016496627677,11.144808094612905,321.42521006119995,1,1,{"$error":"#N/A"},3.044125254511215,0.30441252545112152,0.85178046003977215,340.71218401590886,340.71218401590886,1]
[117,{"$f":"Budget!$M$19","v":3.2311785311999999},10.511189186761266,11.266980784746494,321.42521006119995,1,1,{"$error":"#N/A"},3.1835961404995743,0.31835961404995744,0.85324856646226721,341.29942658490688,341.29942658490688,1]
[118,{"$f":"Budget!$M$19","v":3.2311785311999999},10.631712222622911,11.387503820608138,321.42521006119995,1,1,{"$error":"#N/A"},3.3223825139028946,0.33223825139028951,0.8547065298339217,341.88261193356868,341.88261193356868,1]
[119,{"$f":"Budget!$M$19","v":3.2311785311999999},10.750549777136287,11.506341375121515,321.42521006119995,1,1,{"$error":"#N/A"},3.4604343614675983,0.34604343614675986,0.85615386970000373,342.46154788000149,342.46154788000149,1]
[120,{"$f":"Budget!$M$19","v":3.2311785311999999},10.86766720316392,11.623458801149148,321.42521006119995,1,1,{"$error":"#N/A"},3.5977028125934041,0.35977028125934041,0.85759012151583203,343.03604860633283,343.03604860633283,1]
[121,{"$f":"Budget!$M$19","v":3.2311785311999999},10.983031020707459,11.738822618692687,321.42521006119995,1,1,{"$error":"#N/A"},3.7341401287004317,0.37341401287004317,0.85901483635947107,343.60593454378841,343.60593454378841,1]
[122,{"$f":"Budget!$M$19","v":3.2311785311999999},11.09660890416089,11.852400502146118,321.42521006119995,1,1,{"$error":"#N/A"},3.869699692635308,0.38696996926353083,0.86042758064463876,344.17103225785553,344.17103225785553,1]
[123,{"$f":"Budget!$M$19","v":3.2311785311999999},11.208369669616703,11.964161267601931,321.42521006119995,1,1,{"$error":"#N/A"},4.0043359981170781,0.40043359981170784,0.86182793583409067,344.73117433363626,344.73117433363626,1]
[124,{"$f":"Budget!$M$19","v":3.2311785311999999},11.318283262225195,12.074074860210423,321.42521006119995,1,1,{"$error":"#N/A"},4.138004639222423,0.41380046392224235,0.86321549815371779,345.28619926148713,345.28619926148713,1]
[125,{"$f":"Budget!$M$19","v":3.2311785311999999},11.42632074360664,12.182112341591868,321.42521006119995,1,1,{"$error":"#N/A"},4.2706622999101427,0.42706622999101429,0.86458987830758749,345.83595132303498,345.83595132303498,1]
[126,{"$f":"Budget!$M$19","v":3.2311785311999999},11.532454279316484,12.288245877301712,321.42521006119995,1,1,{"$error":"#N/A"},4.4022667435854004,0.44022667435854007,0.86595070119415807,346.38028047766323,346.38028047766323,1]
[127,{"$f":"Budget!$M$19","v":3.2311785311999999},11.63665712636366,12.392448724348888,321.42521006119995,1,1,{"$error":"#N/A"},4.5327768027029549,0.45327768027029552,0.86729760562386715,346.91904224954686,346.91904224954686,1]
[128,{"$f":"Budget!$M$19","v":3.2311785311999999},11.738903620781644,12.494695218766871,321.42521006119995,1,1,{"$error":"#N/A"},4.6621523684103181,0.46621523684103183,0.86863024403830713,347.45209761532283,347.45209761532283,1]
[129,{"$f":"Budget!$M$19","v":3.2311785311999999},11.839169165252772,12.594960763237999,321.42521006119995,1,1,{"$error":"#N/A"},4.790354380229914,0.47903543802299142,0.86994828223117049,347.97931289246822,347.97931289246822,1]
[130,{"$f":"Budget!$M$19","v":3.2311785311999999},{"$f":"IF($D287-ABS($B$891)<0,0,$D287-ABS($B$891))","v":11.937430216785375},{"$f":"($I$154*$A287^6)+($J$154*$A287^5)+($K$154*$A287^4)+($L$154*$A287^3)+($M$154*$A287^2)+($N$154*$A287^1)+$O$154","v":12.693221814770602},{"$f":"IF(($E286-$B287+$D287>$E$157),$E$157,IF($E286-$B287+$D287<0,0,$E286-$B287+$D287))","v":321.42521006119995},{"$f":"E287/$E$157","v":1},{"$f":"IF(F287<=0.5,NA(),F287)","v":1},{"$f":"IF(F287>0.5,NA(),F287)","v":{"$error":"#N/A"}},{"$f":"($Q$154*$A287^6)+($R$154*$A287^5)+($S$154*$A287^4)+($T$154*$A287^3)+($U$154*$A287^2)+($V$154*$A287^1)+$W$154","v":4.917344815780865},{"$f":"I287*0.1","v":0.49173448157808652},0.87125139907115312,{"$f":"$C$6*K287","v":348.50055962846125},348.50055962846125,{"$f":"M287/L287","v":1}]
[{"$f":"A287+1","v":131},{"$f":"Budget!$M$19","v":3.2311785311999999},12.033664274444051,12.789455872429279,321.42521006119995,1,1,{"$error":"#N/A"},5.0430866805403269,0.50430866805403274,0.87253928622698917,349.01571449079569,349.01571449079569,1]
[132,{"$f":"Budget!$M$19","v":3.2311785311999999},12.127849867132712,12.88364146511794,321.42521006119995,1,1,{"$error":"#N/A"},5.1675439976438895,0.51675439976438897,{"$f":"IF(($Y$2+$Y$3*$I289+$Y$4*$I289^2)>1,1,($Y$2+$Y$3*$I289+$Y$4*$I289^2))","v":0.87381164789477861},349.52465915791146,349.52465915791146,1]
[133,{"$f":"Budget!$M$19","v":3.2311785311999999},12.219966541430908,12.975758139416136,321.42521006119995,1,1,{"$error":"#N/A"},5.2906817977258243,0.52906817977258247,0.87506820052776835,350.02728021110732,350.02728021110732,1]
[134,{"$f":"Budget!$M$19","v":3.2311785311999999},12.309994849482978,13.065786447468206,321.42521006119995,1,1,{"$error":"#N/A"},5.4124661087983696,0.54124661087983694,0.8763086725687298,350.5234690274919,350.5234690274919,1]
[135,{"$f":"Budget!$M$19","v":3.2311785311999999},12.397916336940172,13.1537079349254,321.42521006119995,1,1,{"$error":"#N/A"},5.5328639461708065,0.55328639461708062,0.87753280418507795,351.0131216740312,{"$f":"IF(($C292-$B292>=0),IF($M291-$B292+$C292>$L292,$L292,$M291-$B292+$C292),IF($M291<$L292,IF($M291-$B292+$C292<0,0,$M291-$B292+$C292),IF($L292-$B292+$C292<0,0,$L292-$B292+$C292)))","v":351.0131216740312},1]
[136,{"$f":"Budget!$M$19","v":3.2311785311999999},12.483713530955884,13.239505128941111,321.42521006119995,1,1,{"$error":"#N/A"},5.6518433024076415,0.5651843302407642,0.87874034700685622,351.49613880274251,351.49613880274251,1]
[137,{"$f":"Budget!$M$19","v":3.2311785311999999},12.567369928233804,13.323161526219032,321.42521006119995,1,1,{"$error":"#N/A"},5.7693731373265535,0.57693731373265533,0.87993106386771858,351.97242554708743,351.97242554708743,1]
[138,{"$f":"Budget!$M$19","v":3.2311785311999999},12.648869983129048,13.404661581114276,321.42521006119995,1,1,{"$error":"#N/A"},5.8854233680353332,0.58854233680353329,0.88110472854901589,352.44189141960635,352.44189141960635,1]
[139,{"$f":"Budget!$M$19","v":3.2311785311999999},12.72819909580244,13.483990693787668,321.42521006119995,1,1,{"$error":"#N/A"},5.9999648590086991,0.59999648590086996,0.88226112552710423,352.90445021084167,352.90445021084167,1]
[140,{"$f":"Budget!$M$19","v":3.2311785311999999},12.805343600427451,13.561135198412678,321.42521006119995,1,1,{"$error":"#N/A"},6.1129694122042366,0.61129694122042366,0.88340004972396868,353.36001988958748,353.36001988958748,1]
[141,{"$f":"Budget!$M$19","v":3.2311785311999999},12.880290753450568,13.636082351435796,321.42521006119995,1,1,{"$error":"#N/A"},6.2244097572179697,0.62244097572179702,0.8845213062612628,353.80852250450511,353.80852250450511,1]
[142,{"$f":"Budget!$M$19","v":3.2311785311999999},12.953028721904376,13.708820319889604,321.42521006119995,1,1,{"$error":"#N/A"},6.3342595414791276,0.63342595414791281,0.88562471021784439,354.24988408713773,354.24988408713773,1]
[143,{"$f":"Budget!$M$19","v":3.2311785311999999},13.023546571773638,13.779338169758866,321.42521006119995,1,1,{"$error":"#N/A"},6.4424933204845161,0.64424933204845169,0.88671008639089566,354.68403455635826,354.68403455635826,1]
[144,{"$f":"Budget!$M$19","v":3.2311785311999999},13.091834256414559,13.847625854399787,321.42521006119995,1,1,{"$error":"#N/A"},6.5490865480724239,0.65490865480724247,0.88777726906069876,355.11090762427949,355.11090762427949,1]
[145,{"$f":"Budget!$M$19","v":3.2311785311999999},13.157882605026716,13.913674203011944,321.42521006119995,1,1,{"$error":"#N/A"},6.6540155667355236,0.66540155667355239,0.88882610175913013,355.53044070365206,355.53044070365206,1]
[146,{"$f":"Budget!$M$19","v":3.2311785311999999},13.221683311178539,13.977474909163767,321.42521006119995,1,1,{"$error":"#N/A"},6.7572575979737337,0.67572575979737337,0.88985643704194539,355.94257481677818,355.94257481677818,1]
[147,{"$f":"Budget!$M$19","v":3.2311785311999999},13.283228921385048,14.039020519370276,321.42521006119995,1,1,{"$error":"#N/A"},6.8587907326861455,0.68587907326861464,0.89086813626490213,356.34725450596085,356.34725450596085,1]
[148,{"$f":"Budget!$M$19","v":3.2311785311999999},13.342512823739243,14.098304421724471,321.42521006119995,1,1,{"$error":"#N/A"},6.9585939216024997,0.69585939216025006,0.89186106936377385,356.74442774550954,356.74442774550954,1]
[149,{"$f":"Budget!$M$19","v":3.2311785311999999},13.399529236596154,14.155320834581381,321.42521006119995,1,1,{"$error":"#N/A"},7.0566469657540409,0.70566469657540409,0.89283511463830079,357.13404585532032,357.13404585532032,1]
[150,{"$f":"Budget!$M$19","v":3.2311785311999999},13.454273197309897,14.210064795295125,321.42521006119995,1,1,{"$error":"#N/A"},7.1529305069840206,0.7152930506984021,0.89379015854011701,357.51606341604679,357.51606341604679,1]
[151,{"$f":"Budget!$M$19","v":3.2311785311999999},13.506740551023961,14.262532149009189,321.42521006119995,1,1,{"$error":"#N/A"},7.2474260184971939,0.72474260184971939,0.89472609546468362,357.89043818587345,357.89043818587345,1]
[152,{"$f":"Budget!$M$19","v":3.2311785311999999},13.556927939514049,14.312719537499277,321.42521006119995,1,1,{"$error":"#N/A"},7.3401157954491936,0.73401157954491936,0.89564282754726288,358.25713101890517,358.25713101890517,1]
[153,{"$f":"Budget!$M$19","v":3.2311785311999999},13.604832790084481,14.360624388069709,321.42521006119995,1,1,{"$error":"#N/A"},7.4309829455750389,0.74309829455750398,0.89654026446295332,358.61610578518133,358.61610578518133,1]
[154,{"$f":"Budget!$M$19","v":3.2311785311999999},13.650453304517024,14.406244902502252,321.42521006119995,1,1,{"$error":"#N/A"},7.5200113798572374,0.75200113798572377,0.89741832323080706,358.9673292923228,358.9673292923228,1]
[155,{"$f":"Budget!$M$19","v":3.2311785311999999},13.693788448073215,14.449580046058443,321.42521006119995,1,1,{"$error":"#N/A"},7.6071858032331647,0.76071858032331652,0.89827692802204229,359.3107712088169,359.3107712088169,1]
[156,{"$f":"Budget!$M$19","v":3.2311785311999999},13.734837938549328,14.490629536534556,321.42521006119995,1,1,{"$error":"#N/A"},7.6924917053420785,0.76924917053420794,0.89911600997236474,359.64640398894591,359.64640398894591,1]
[157,{"$f":"Budget!$M$19","v":3.2311785311999999},13.773602235384468,14.529393833369696,321.42521006119995,1,1,{"$error":"#N/A"},7.775915351311312,0.77759153513113122,0.89993550699839808,359.9742027993592,359.9742027993592,1]
[158,{"$f":"Budget!$M$19","v":3.2311785311999999},13.810082528821718,14.565874126806946,321.42521006119995,1,1,{"$error":"#N/A"},7.8574437725822008,0.78574437725822011,0.90073536361823325,360.29414544729332,360.29414544729332,1]
[159,{"$f":"Budget!$M$19","v":3.2311785311999999},13.84428072912217,14.600072327107398,321.42521006119995,1,1,{"$error":"#N/A"},7.937064757774877,0.79370647577748776,0.90151553077608326,360.60621231043331,360.60621231043331,1]
[160,{"$f":"Budget!$M$19","v":3.2311785311999999},13.876199455832102,14.63199105381733,321.42521006119995,1,1,{"$error":"#N/A"},8.0147668435934349,0.80147668435934349,0.90227596567105428,360.91038626842169,360.91038626842169,1]
[161,{"$f":"Budget!$M$19","v":3.2311785311999999},13.905842027102802,14.661633625088029,321.42521006119995,1,1,{"$error":"#N/A"},8.0905393057694681,0.80905393057694686,0.90301663159000278,361.20665263600114,361.20665263600114,1]
[162,{"$f":"Budget!$M$19","v":3.2311785311999999},13.933212449063982,14.68900404704921,321.42521006119995,1,1,{"$error":"#N/A"},8.1643721500458497,0.81643721500458499,0.9037374977444842,361.49499909779365,361.49499909779365,1]
[163,{"$f":"Budget!$M$19","v":3.2311785311999999},13.958315405249587,14.714107003234815,321.42521006119995,1,1,{"$error":"#N/A"},8.2362561031994233,0.82362561031994241,0.90443853911176264,361.77541564470505,361.77541564470505,1]
[164,{"$f":"Budget!$M$19","v":3.2311785311999999},13.981156246076916,14.736947844062144,321.42521006119995,1,1,{"$error":"#N/A"},8.3061826041034408,0.83061826041034414,0.90511973627987008,362.04789451194802,362.04789451194802,1]
[165,{"$f":"Budget!$M$19","v":3.2311785311999999},14.001740978378814,14.757532576364042,321.42521006119995,1,1,{"$error":"#N/A"},8.3741437948292372,0.83741437948292374,0.90578107529668861,362.31243011867542,362.31243011867542,1]
[166,{"$f":"Budget!$M$19","v":3.2311785311999999},14.020076254988476,14.775867852973704,321.42521006119995,1,1,{"$error":"#N/A"},8.4401325117874393,0.84401325117874393,0.9064225475230282,362.56901900921127,362.56901900921127,1]
[167,{"$f":"Budget!$M$19","v":3.2311785311999999},14.036169364377793,14.791960962363021,321.42521006119995,1,1,{"$error":"#N/A"},8.5041422769086239,0.85041422769086239,0.90704414948967549,362.81765979587021,362.81765979587021,1]
[168,{"$f":"Budget!$M$19","v":3.2311785311999999},14.050028220348105,14.805819818333333,321.42521006119995,1,1,{"$error":"#N/A"},8.5661672888631699,0.85661672888631701,0.90764588275837332,363.0583531033493,363.0583531033493,1]
[169,{"$f":"Budget!$M$19","v":3.2311785311999999},14.061661351774513,14.81745294975974,321.42521006119995,1,1,{"$error":"#N/A"},8.6262024143209572,0.86262024143209581,0.90822775378670839,363.29110151468336,363.29110151468336,1]
[170,{"$f":"Budget!$M$19","v":3.2311785311999999},14.071077892402707,14.826869490387935,321.42521006119995,1,1,{"$error":"#N/A"},8.6842431792500463,0.86842431792500463,0.90878977379685599,363.51590951874238,363.51590951874238,1]
[171,{"$f":"Budget!$M$19","v":3.2311785311999999},14.078287570699098,14.834079168684326,321.42521006119995,1,1,{"$error":"#N/A"},8.7402857602549773,0.87402857602549777,0.90933195864815308,363.73278345926121,363.73278345926121,1]
[172,{"$f":"Budget!$M$19","v":3.2311785311999999},14.083300699753829,14.839092297739057,321.42521006119995,1,1,{"$error":"#N/A"},8.7943269759548883,0.87943269759548892,0.90985432871345595,363.94173148538238,363.94173148538238,1]
[173,{"$f":"Budget!$M$19","v":3.2311785311999999},14.086128167236859,14.841919765222087,321.42521006119995,1,1,{"$error":"#N/A"},8.8463642784001735,0.88463642784001739,0.91035690875922781,364.14276350369113,364.14276350369113,1]
[174,{"$f":"Budget!$M$19","v":3.2311785311999999},14.086781425406821,14.842573023392049,321.42521006119995,1,1,{"$error":"#N/A"},8.8963957445293147,0.88963957445293151,0.9108397278293261,364.33589113173042,364.33589113173042,1]
[175,{"$f":"Budget!$M$19","v":3.2311785311999999},14.085272481173343,14.841064079158571,321.42521006119995,1,1,{"$error":"#N/A"},8.9444200676650496,0.89444200676650498,0.91130281913243061,364.52112765297227,364.52112765297227,1]
[176,{"$f":"Budget!$M$19","v":3.2311785311999999},14.081613886211693,14.837405484196921,321.42521006119995,1,1,{"$error":"#N/A"},8.9904365490495906,0.89904365490495908,0.91174621993306249,364.69848797322499,364.69848797322499,1]
[177,{"$f":"Budget!$M$19","v":3.2311785311999999},14.075818727131059,14.831610325116287,321.42521006119995,1,1,{"$error":"#N/A"},9.0344450894195916,0.90344450894195916,0.9121699714461462,364.86798857845849,364.86798857845849,1]
[178,{"$f":"Budget!$M$19","v":3.2311785311999999},14.06790061569543,14.823692213680658,321.42521006119995,1,1,{"$error":"#N/A"},9.0764461806204793,0.90764461806204799,0.91257411873505911,365.02964749402366,365.02964749402366,1]
[179,{"$f":"Budget!$M$19","v":3.2311785311999999},14.057873679097662,14.81366527708289,321.42521006119995,1,1,{"$error":"#N/A"},9.1164408972602899,0.91164408972602906,0.91295871061311262,365.18348424524504,365.18348424524504,1]
[180,{"$f":"Budget!$M$19","v":3.2311785311999999},14.04575255028646,14.801544148271688,321.42521006119995,1,1,{"$error":"#N/A"},9.154430888402473,0.91544308884024739,0.91332379954840393,365.32951981936156,365.32951981936156,1]
[181,{"$f":"Budget!$M$19","v":3.2311785311999999},14.031552358346255,14.787343956331483,321.42521006119995,1,1,{"$error":"#N/A"},9.190418369298925,0.9190418369298925,0.91366944157199315,365.46777662879725,365.46777662879725,1]
[182,{"$f":"Budget!$M$19","v":3.2311785311999999},14.015288718930487,14.771080316915715,321.42521006119995,1,1,{"$error":"#N/A"},9.2244061131619048,0.92244061131619048,0.91399569618933019,365.59827847573206,365.59827847573206,1]
[183,{"$f":"Budget!$M$19","v":3.2311785311999999},13.996977724747291,14.752769322732519,321.42521006119995,1,1,{"$error":"#N/A"},9.2563974429752562,0.92563974429752571,0.91430262629487802,365.7210505179512,365.7210505179512,1]
[184,{"$f":"Budget!$M$19","v":3.2311785311999999},13.976635936098655,14.732427534083882,321.42521006119995,1,1,{"$error":"#N/A"},9.2863962233454913,0.92863962233454922,0.9145902980898738,365.83611923594952,365.83611923594952,1]
[185,{"$f":"Budget!$M$19","v":3.2311785311999999},13.95428037147226,14.710071969457488,321.42521006119995,1,1,{"$error":"#N/A"},9.3144068523920112,0.9314406852392012,0.91485878100315787,365.94351240126315,365.94351240126315,1]
[186,{"$f":"Budget!$M$19","v":3.2311785311999999},13.929928498186593,14.685720096171821,321.42521006119995,1,1,{"$error":"#N/A"},9.3404342536768326,0.93404342536768326,0.91510814761501003,366.04325904600398,366.04325904600398,1]
[187,{"$f":"Budget!$M$19","v":3.2311785311999999},13.903598223088858,14.659389821074086,321.42521006119995,1,1,{"$error":"#N/A"},9.3644838681739913,0.93644838681739917,0.9153384735839315,366.13538943357258,366.13538943357258,1]
[188,{"$f":"Budget!$M$19","v":3.2311785311999999},13.875307883305959,14.631099481291187,321.42521006119995,1,1,{"$error":"#N/A"},9.3865616462777268,0.93865616462777268,0.91554983757629493,366.21993503051795,366.21993503051795,1]
[189,{"$f":"Budget!$M$19","v":3.2311785311999999},13.845076237048398,14.600867835033625,321.42521006119995,1,1,{"$error":"#N/A"},9.4066740398508273,0.94066740398508275,0.91574232119881238,366.29692847952498,366.29692847952498,1]
[190,{"$f":"Budget!$M$19","v":3.2311785311999999},13.812922454467293,14.56871405245252,321.42521006119995,1,1,{"$error":"#N/A"},9.42482799431194,0.94248279943119406,0.91591600893374092,366.36640357349637,366.36640357349637,1]
[191,{"$f":"Budget!$M$19","v":3.2311785311999999},13.778866108564495,14.534657706549723,321.42521006119995,1,1,{"$error":"#N/A"},9.4410309407625306,0.94410309407625315,0.91607098807676501,366.42839523070603,366.42839523070603,1]
[192,{"$f":"Budget!$M$19","v":3.2311785311999999},13.742927166154994,14.498718764140222,321.42521006119995,1,1,{"$error":"#N/A"},9.4552907881529791,0.94552907881529791,0.91620734867748221,366.4829394709929,366.4829394709929,1]
[193,{"$f":"Budget!$M$19","v":3.2311785311999999},13.705125978883752,14.460917576868979,321.42521006119995,1,1,{"$error":"#N/A"},9.4676159154885369,0.94676159154885375,0.91632518348243108,366.53007339297244,366.53007339297244,1]
[194,{"$f":"Budget!$M$19","v":3.2311785311999999},{"$f":"IF($D351-ABS($B$891)<0,0,$D351-ABS($B$891))","v":13.665483274293672},{"$f":"($I$154*$A351^6)+($J$154*$A351^5)+($K$154*$A351^4)+($L$154*$A351^3)+($M$154*$A351^2)+($N$154*$A351^1)+$O$154","v":14.4212748722789},{"$f":"IF(($E350-$B351+$D351>$E$157),$E$157,IF($E350-$B351+$D351<0,0,$E350-$B351+$D351))","v":321.42521006119995},{"$f":"E351/$E$157","v":1},{"$f":"IF(F351<=0.5,NA(),F351)","v":1},{"$f":"IF(F351>0.5,NA(),F351)","v":{"$error":"#N/A"}},{"$f":"($Q$154*$A351^6)+($R$154*$A351^5)+($S$154*$A351^4)+($T$154*$A351^3)+($U$154*$A351^2)+($V$154*$A351^1)+$W$154","v":9.4780151640743924},{"$f":"I351*0.1","v":0.94780151640743926},0.91642458788058456,{"$f":"$C$6*K351","v":366.56983515223385},366.56983515223385,{"$f":"M351/L351","v":1}]
[{"$f":"A351+1","v":195},{"$f":"Budget!$M$19","v":3.2311785311999999},13.624020146948192,14.37981174493342,321.42521006119995,1,1,{"$error":"#N/A"},9.4864978298004132,0.94864978298004132,0.91650565985124388,366.60226394049755,366.60226394049755,1]
[196,{"$f":"Budget!$M$19","v":3.2311785311999999},13.580758049606141,14.336549647591369,321.42521006119995,1,1,{"$error":"#N/A"},9.4930736554648263,0.94930736554648265,{"$f":"IF(($Y$2+$Y$3*$I353+$Y$4*$I353^2)>1,1,($Y$2+$Y$3*$I353+$Y$4*$I353^2))","v":0.91656849991425893},366.62739996570355,366.62739996570355,1]
[197,{"$f":"Budget!$M$19","v":3.2311785311999999},13.535718784449381,14.291510382434609,321.42521006119995,1,1,{"$error":"#N/A"},9.4977528231380148,0.94977528231380148,0.91661321108251348,366.64528443300537,366.64528443300537,1]
[198,{"$f":"Budget!$M$19","v":3.2311785311999999},13.488924494363937,14.244716092349165,321.42521006119995,1,1,{"$error":"#N/A"},9.5005459465650546,0.95005459465650555,0.91663989881659336,366.65595952663733,366.65595952663733,1]
[199,{"$f":"Budget!$M$19","v":3.2311785311999999},13.440397654274074,14.196189252259302,321.42521006119995,1,1,{"$error":"#N/A"},9.5014640636084948,0.95014640636084957,0.91664867098158342,366.65946839263336,{"$f":"IF(($C356-$B356>=0),IF($M355-$B356+$C356>$L356,$L356,$M355-$B356+$C356),IF($M355<$L356,IF($M355-$B356+$C356<0,0,$M355-$B356+$C356),IF($L356-$B356+$C356<0,0,$L356-$B356+$C356)))","v":366.65946839263336},1]
[200,{"$f":"Budget!$M$19","v":3.2311785311999999},13.390161062528728,14.145952660513956,321.42521006119995,1,1,{"$error":"#N/A"},9.5005186287294805,0.95005186287294807,0.91663963780590163,366.65585512236066,366.65585512236066,1]
[201,{"$f":"Budget!$M$19","v":3.2311785311999999},13.338237832342026,14.094029430327254,321.42521006119995,1,1,{"$error":"#N/A"},9.4977215055094035,0.94977215055094044,0.91661291184212523,366.64516473685012,366.64516473685012,1]
[202,{"$f":"Budget!$M$19","v":3.2311785311999999},13.284651383285757,14.040442981270985,321.42521006119995,1,1,{"$error":"#N/A"},9.4930849592103357,0.94930849592103361,0.91656860792971895,366.62744317188759,366.62744317188759,1]
[203,{"$f":"Budget!$M$19","v":3.2311785311999999},13.229425432835365,13.985217030820593,321.42521006119995,1,1,{"$error":"#N/A"},9.486621649374797,0.94866216493747979,0.91650684315960307,366.60273726384122,366.60273726384122,1]
[204,{"$f":"Budget!$M$19","v":3.2311785311999999},13.172583987969086,13.928375585954313,321.42521006119995,1,1,{"$error":"#N/A"},9.4783446224656558,0.94783446224656565,0.91642773684049839,366.57109473619937,366.57109473619937,1]
[205,{"$f":"Budget!$M$19","v":3.2311785311999999},13.114151336819498,13.869942934804726,321.42521006119995,1,1,{"$error":"#N/A"},9.4682673045445682,0.94682673045445687,0.91633141046696431,366.53256418678575,366.53256418678575,1]
[206,{"$f":"Budget!$M$19","v":3.2311785311999999},13.054152040378705,13.809943638363933,321.42521006119995,1,1,{"$error":"#N/A"},9.4564034939905355,0.94564034939905361,0.91621798768907503,366.48719507562998,366.48719507562998,1]
[207,{"$f":"Budget!$M$19","v":3.2311785311999999},12.99261092425615,13.748402522241378,321.42521006119995,1,1,{"$error":"#N/A"},9.4427673542577111,0.94427673542577117,0.91608759428365905,366.4350377134636,366.4350377134636,1]
[208,{"$f":"Budget!$M$19","v":3.2311785311999999},12.929553070489243,13.685344668474471,321.42521006119995,1,1,{"$error":"#N/A"},9.4273734066721175,0.94273734066721182,0.9159403581270279,366.37614325081114,366.37614325081114,1]
[209,{"$f":"Budget!$M$19","v":3.2311785311999999},12.86500380940779,13.620795407393018,321.42521006119995,1,1,{"$error":"#N/A"},9.4102365232686793,0.94102365232686802,0.91577640916914238,366.31056366765694,366.31056366765694,1]
[210,{"$f":"Budget!$M$19","v":3.2311785311999999},12.79898871155026,13.554780309535488,321.42521006119995,1,1,{"$error":"#N/A"},9.3913719196669945,0.93913719196669954,0.91559587940913278,366.2383517636531,366.2383517636531,1]
[211,{"$f":"Budget!$M$19","v":3.2311785311999999},12.731533579634084,13.487325177619311,321.42521006119995,1,1,{"$error":"#N/A"},9.3707951479868399,0.93707951479868401,0.91539890287211523,366.15956114884608,366.15956114884608,1]
[212,{"$f":"Budget!$M$19","v":3.2311785311999999},12.662664440578391,13.418456038563619,321.42521006119995,1,1,{"$error":"#N/A"},9.3485220898031542,0.93485220898031551,0.91518561558723732,366.07424623489493,366.07424623489493,1]
[213,{"$f":"Budget!$M$19","v":3.2311785311999999},12.592407537579925,13.348199135565153,321.42521006119995,1,1,{"$error":"#N/A"},9.3245689491400583,0.93245689491400585,0.91495615556688215,365.98246222675289,365.98246222675289,1]
[214,{"$f":"Budget!$M$19","v":3.2311785311999999},12.520789322241692,13.27658092022692,321.42521006119995,1,1,{"$error":"#N/A"},9.2989522455048359,0.92989522455048368,0.9147106627869751,365.88426511479003,365.88426511479003,1]
[215,{"$f":"Budget!$M$19","v":3.2311785311999999},12.447836446755199,13.203628044740427,321.42521006119995,1,1,{"$error":"#N/A"},9.2716888069609666,0.92716888069609671,0.91444927916831975,365.77971166732789,365.77971166732789,1]
[216,{"$f":"Budget!$M$19","v":3.2311785311999999},12.37357575613485,13.129367354120077,321.42521006119995,1,1,{"$error":"#N/A"},9.2427957632407072,0.92427957632407076,0.91417214855890672,365.66885942356271,365.66885942356271,1]
[217,{"$f":"Budget!$M$19","v":3.2311785311999999},12.298034280506366,13.053825878491594,321.42521006119995,1,1,{"$error":"#N/A"},9.2122905388970366,0.92122905388970366,0.91387941671712736,365.55176668685095,365.55176668685095,1]
[218,{"$f":"Budget!$M$19","v":3.2311785311999999},12.221239227447009,12.977030825432237,321.42521006119995,1,1,{"$error":"#N/A"},9.1801908464953357,0.91801908464953363,0.91357123129583639,365.42849251833456,365.42849251833456,1]
[219,{"$f":"Budget!$M$19","v":3.2311785311999999},12.143217974380017,12.899009572365244,321.42521006119995,1,1,{"$error":"#N/A"},9.146514679843861,0.91465146798438612,0.9132477418271937,365.29909673087747,365.29909673087747,1]
[220,{"$f":"Budget!$M$19","v":3.2311785311999999},12.063998061020735,12.819789659005963,321.42521006119995,1,1,{"$error":"#N/A"},9.1112803072645079,0.91112803072645088,0.91290909970823741,365.16363988329499,365.16363988329499,1]
[221,{"$f":"Budget!$M$19","v":3.2311785311999999},11.983607181877383,12.739398779862611,321.42521006119995,1,1,{"$error":"#N/A"},9.0745062649020554,0.90745062649020558,0.91255545818711326,365.0221832748453,365.0221832748453,1]
[222,{"$f":"Budget!$M$19","v":3.2311785311999999},11.902073178802974,12.657864776788202,321.42521006119995,1,1,{"$error":"#N/A"},9.0362113500736001,0.90362113500736008,0.91218697234991697,364.87478893996678,364.87478893996678,1]
[223,{"$f":"Budget!$M$19","v":3.2311785311999999},11.819424033601743,12.575215631586971,321.42521006119995,1,1,{"$error":"#N/A"},8.9964146146571551,0.89964146146571555,0.91180379910808429,364.72151964323371,364.72151964323371,1]
[224,{"$f":"Budget!$M$19","v":3.2311785311999999},11.735687860687827,12.491479458673055,321.42521006119995,1,1,{"$error":"#N/A"},8.9551353585195841,0.89551353585195848,0.91140609718627008,364.56243887450802,364.56243887450802,1]
[225,{"$f":"Budget!$M$19","v":3.2311785311999999},11.650892899796625,12.406684497781853,321.42521006119995,1,1,{"$error":"#N/A"},8.9123931229836586,0.89123931229836595,0.91099402711066368,364.3976108442655,364.3976108442655,1]
[226,{"$f":"Budget!$M$19","v":3.2311785311999999},11.565067508750568,12.320859106735796,321.42521006119995,1,1,{"$error":"#N/A"},8.8682076843358999,0.88682076843359003,0.91056775119769651,364.22710047907862,364.22710047907862,1]
[227,{"$f":"Budget!$M$19","v":3.2311785311999999},11.478240156276152,12.23403175426138,321.42521006119995,1,1,{"$error":"#N/A"},8.8225990473713694,0.882259904737137,0.91012743354305692,364.05097341722279,364.05097341722279,1]
[228,{"$f":"Budget!$M$19","v":3.2311785311999999},11.390439414874871,12.146231012860099,321.42521006119995,1,1,{"$error":"#N/A"},8.7755874389812902,0.87755874389812905,0.90967324001101157,363.86929600440465,363.86929600440465,1]
[229,{"$f":"Budget!$M$19","v":3.2311785311999999},11.301693953747,12.057485551732228,321.42521006119995,1,1,{"$error":"#N/A"},8.7271933017761825,0.87271933017761827,0.90920533822391403,363.68213528956562,363.68213528956562,1]
[230,{"$f":"Budget!$M$19","v":3.2311785311999999},11.212032531768935,11.967824129754163,321.42521006119995,1,1,{"$error":"#N/A"},8.6774372877520847,0.86774372877520856,0.90872389755192295,363.48955902076921,363.48955902076921,1]
[231,{"$f":"Budget!$M$19","v":3.2311785311999999},11.121483990522316,11.877275588507544,321.42521006119995,1,1,{"$error":"#N/A"},8.6263402519935539,0.86263402519935539,0.90822908910281852,363.29163564112741,363.29163564112741,1]
[232,{"$f":"Budget!$M$19","v":3.2311785311999999},11.030077247377202,11.78586884536243,321.42521006119995,1,1,{"$error":"#N/A"},8.573923246417479,0.85739232464174797,0.9077210857119089,363.08843428476354,363.08843428476354,1]
[233,{"$f":"Budget!$M$19","v":3.2311785311999999},10.93784128862732,11.693632886612548,321.42521006119995,1,1,{"$error":"#N/A"},8.5202075135559454,0.85202075135559463,0.90720006193196201,362.88002477278479,362.88002477278479,1]
[234,{"$f":"Budget!$M$19","v":3.2311785311999999},10.844805162679885,11.600596760665113,321.42521006119995,1,1,{"$error":"#N/A"},8.4652144803783358,0.84652144803783358,0.90666619402311832,362.66647760924735,362.66647760924735,1]
[235,{"$f":"Budget!$M$19","v":3.2311785311999999},10.750997973296458,11.506789571281686,321.42521006119995,1,1,{"$error":"#N/A"},8.4089657521531933,0.84089657521531935,0.90611965994274624,362.44786397709851,362.44786397709851,1]
[236,{"$f":"Budget!$M$19","v":3.2311785311999999},10.65644887288776,11.412240470872987,321.42521006119995,1,1,{"$error":"#N/A"},8.351483106349022,0.83514831063490225,0.90556063933518582,362.22425573407435,362.22425573407435,1]
[237,{"$f":"Budget!$M$19","v":3.2311785311999999},10.561187055862129,11.316978653847357,321.42521006119995,1,1,{"$error":"#N/A"},8.2927884865760433,0.82927884865760437,0.90498931352135981,361.99572540854393,361.99572540854393,1]
[238,{"$f":"Budget!$M$19","v":3.2311785311999999},10.465241752025671,11.221033350010899,321.42521006119995,1,1,{"$error":"#N/A"},8.2329039965643176,0.8232903996564318,0.90440586548816726,361.7623461952669,361.7623461952669,1]
[239,{"$f":"Budget!$M$19","v":3.2311785311999999},10.368642220036103,11.12443381802133,321.42521006119995,1,1,{"$error":"#N/A"},8.1718518941846128,0.8171851894184613,0.90381047987767693,361.52419195107075,361.52419195107075,1]
[240,{"$f":"Budget!$M$19","v":3.2311785311999999},10.27141774090982,11.027209338895048,321.42521006119995,1,1,{"$error":"#N/A"},8.1096545855066182,0.81096545855066182,0.90320334297603466,361.28133719041386,361.28133719041386,1]
[241,{"$f":"Budget!$M$19","v":3.2311785311999999},10.173597611581309,10.929389209566537,321.42521006119995,1,1,{"$error":"#N/A"},8.0463346188979301,0.80463346188979301,0.90258464270207628,361.0338570808305,361.0338570808305,1]
[242,{"$f":"Budget!$M$19","v":3.2311785311999999},10.075211138516332,10.83100273650156,321.42521006119995,1,1,{"$error":"#N/A"},7.9819146791603544,0.79819146791603546,0.90195456859557754,360.78182743823101,360.78182743823101,1]
[243,{"$f":"Budget!$M$19","v":3.2311785311999999},9.9762876313769002,10.732079229362128,321.42521006119995,1,1,{"$error":"#N/A"},7.9164175817086715,0.79164175817086724,0.90131331180515539,360.52532472206218,360.52532472206218,1]
[244,{"$f":"Budget!$M$19","v":3.2311785311999999},9.8768563967408145,10.632647994726042,321.42521006119995,1,1,{"$error":"#N/A"},7.8498662667859946,0.78498662667859953,0.90066106507572918,360.2644260302917,360.2644260302917,1]
[245,{"$f":"Budget!$M$19","v":3.2311785311999999},9.7769467318731618,10.53273832985839,321.42521006119995,1,1,{"$error":"#N/A"},7.7822837937205236,0.77822837937205236,0.89999802273555607,359.99920909422241,359.99920909422241,1]
[246,{"$f":"Budget!$M$19","v":3.2311785311999999},9.676587918550732,10.43237951653596,321.42521006119995,1,1,{"$error":"#N/A"},7.7136933352204835,0.77136933352204839,0.89932438068277765,359.72975227311105,359.72975227311105,1]
[247,{"$f":"Budget!$M$19","v":3.2311785311999999},9.5758092169402662,10.331600814925494,321.42521006119995,1,1,{"$error":"#N/A"},7.6441181717093514,0.7644118171709352,0.8986403363714669,359.45613454858676,359.45613454858676,1]
[248,{"$f":"Budget!$M$19","v":3.2311785311999999},9.474639859528887,10.230431457514115,321.42521006119995,1,1,{"$error":"#N/A"},7.5735816856997076,0.75735816856997085,0.89794608879713089,359.17843551885238,359.17843551885238,1]
[249,{"$f":"Budget!$M$19","v":3.2311785311999999},9.3731090451075065,10.128900643092734,321.42521006119995,1,1,{"$error":"#N/A"},7.5021073562072331,0.75021073562072338,0.89724183848165617,358.89673539266249,358.89673539266249,1]
[250,{"$f":"Budget!$M$19","v":3.2311785311999999},9.2712459328084069,10.027037530793635,321.42521006119995,1,1,{"$error":"#N/A"},7.4297187532039288,0.74297187532039288,0.8965277874576606,358.61111498306423,358.61111498306423,1]
[251,{"$f":"Budget!$M$19","v":3.2311785311999999},9.1690796361940361,9.924871234179264,321.42521006119995,1,1,{"$error":"#N/A"},7.356439532110528,0.7356439532110528,0.89580413925222491,358.32165570088995,358.32165570088995,1]
[252,{"$f":"Budget!$M$19","v":3.2311785311999999},9.0666392174003736,9.8224308153856015,321.42521006119995,1,1,{"$error":"#N/A"},7.2822934283280745,0.72822934283280749,0.89507109886998182,358.02843954799272,358.02843954799272,1]
[253,{"$f":"Budget!$M$19","v":3.2311785311999999},8.9639536813324217,9.7197452793176495,321.42521006119995,1,1,{"$error":"#N/A"},7.2073042518102284,0.72073042518102293,0.89432887277555162,357.73154911022067,357.73154911022067,1]
[254,{"$f":"Budget!$M$19","v":3.2311785311999999},8.8610519699125607,9.6168435678977886,321.42521006119995,1,1,{"$error":"#N/A"},7.1314958816734872,0.71314958816734875,0.8935776688752779,357.43106755011115,357.43106755011115,1]
[255,{"$f":"Budget!$M$19","v":3.2311785311999999},8.7579629563830199,9.5137545543682478,321.42521006119995,1,1,{"$error":"#N/A"},7.0548922608476516,0.70548922608476516,0.89281769649826248,357.12707859930498,357.12707859930498,1]
[256,{"$f":"Budget!$M$19","v":3.2311785311999999},8.6547154396597339,9.4105070376449618,321.42521006119995,1,1,{"$error":"#N/A"},6.9775173907653425,0.69775173907653432,0.89204916637667209,356.81966655066884,356.81966655066884,1]
[257,{"$f":"Budget!$M$19","v":3.2311785311999999},8.5513381387406557,9.3071297367258836,321.42521006119995,1,1,{"$error":"#N/A"},6.8993953260913656,0.68993953260913665,0.89127229062530189,356.50891625012076,356.50891625012076,1]
[258,{"$f":"Budget!$M$19","v":3.2311785311999999},{"$f":"IF($D415-ABS($B$891)<0,0,$D415-ABS($B$891))","v":8.4478596871661384},{"$f":"($I$154*$A415^6)+($J$154*$A415^5)+($K$154*$A415^4)+($L$154*$A415^3)+($M$154*$A415^2)+($N$154*$A415^1)+$O$154","v":9.2036512851513663},{"$f":"IF(($E414-$B415+$D415>$E$157),$E$157,IF($E414-$B415+$D415<0,0,$E414-$B415+$D415))","v":321.42521006119995},{"$f":"E415/$E$157","v":1},{"$f":"IF(F415<=0.5,NA(),F415)","v":1},{"$f":"IF(F415>0.5,NA(),F415)","v":{"$error":"#N/A"}},{"$f":"($Q$154*$A415^6)+($R$154*$A415^5)+($S$154*$A415^4)+($T$154*$A415^3)+($U$154*$A415^2)+($V$154*$A415^1)+$W$154","v":6.8205501694914972},{"$f":"I415*0.1","v":0.68205501694914972},0.89048728272037758,{"$f":"$C$6*K415","v":356.19491308815105},356.19491308815105,{"$f":"M415/L415","v":1}]
[{"$f":"A415+1","v":259},{"$f":"Budget!$M$19","v":3.2311785311999999},8.344308627532806,9.1001002255180339,321.42521006119995,1,1,{"$error":"#N/A"},6.7410060664392972,0.67410060664392979,0.88969435747756642,355.87774299102659,355.87774299102659,1]
[260,{"$f":"Budget!$M$19","v":3.2311785311999999},8.2407134060596636,8.9965050040448915,321.42521006119995,1,1,{"$error":"#N/A"},6.660787200065414,0.66607872000654145,{"$f":"IF(($Y$2+$Y$3*$I417+$Y$4*$I417^2)>1,1,($Y$2+$Y$3*$I417+$Y$4*$I417^2))","v":0.88889373102922464},355.55749241168985,355.55749241168985,1]
[261,{"$f":"Budget!$M$19","v":3.2311785311999999},8.1371023672090619,8.8928939651942898,321.42521006119995,1,1,{"$error":"#N/A"},6.5799177860425289,0.65799177860425295,0.88808562080080078,355.23424832032032,355.23424832032032,1]
[262,{"$f":"Budget!$M$19","v":3.2311785311999999},8.0335037483579672,8.7892953463431951,321.42521006119995,1,1,{"$error":"#N/A"},6.4984220675132747,0.64984220675132753,0.88727024548645694,354.90809819458275,354.90809819458275,1]
[263,{"$f":"Budget!$M$19","v":3.2311785311999999},7.9299456745239727,8.6857372725092006,321.42521006119995,1,1,{"$error":"#N/A"},6.4163243100543639,0.64163243100543643,0.88644782502382591,354.57913000953039,{"$f":"IF(($C420-$B420>=0),IF($M419-$B420+$C420>$L420,$L420,$M419-$B420+$C420),IF($M419<$L420,IF($M419-$B420+$C420<0,0,$M419-$B420+$C420),IF($L420-$B420+$C420<0,0,$L420-$B420+$C420)))","v":354.57913000953039},1]
[264,{"$f":"Budget!$M$19","v":3.2311785311999999},7.826456153144969,8.5822477511301969,321.42521006119995,1,1,{"$error":"#N/A"},6.3336487966831214,0.63336487966831223,0.8856185805679595,354.24743222718382,354.24743222718382,1]
[265,{"$f":"Budget!$M$19","v":3.2311785311999999},7.7230630689092923,8.4788546668945202,321.42521006119995,1,1,{"$error":"#N/A"},6.2504198229012786,0.62504198229012786,0.88478273446440536,353.91309378576216,353.91309378576216,1]
[266,{"$f":"Budget!$M$19","v":3.2311785311999999},7.6197941786415786,8.3755857766268065,321.42521006119995,1,1,{"$error":"#N/A"},6.166661691778728,0.61666616917787287,0.88394051022143183,353.57620408857275,353.57620408857275,1]
[267,{"$f":"Budget!$M$19","v":3.2311785311999999},7.5166771062396638,8.2724687042248917,321.42521006119995,1,1,{"$error":"#N/A"},6.0823987090777791,0.60823987090777798,0.88309213248140106,353.23685299256044,353.23685299256044,1]
[268,{"$f":"Budget!$M$19","v":3.2311785311999999},7.4137393376658824,8.1695309356511103,321.42521006119995,1,1,{"$error":"#N/A"},5.9976551784153287,0.59976551784153287,0.88223782699125675,352.89513079650271,352.89513079650271,1]
[269,{"$f":"Budget!$M$19","v":3.2311785311999999},7.3110082159899807,8.0667998139752086,321.42521006119995,1,1,{"$error":"#N/A"},5.9124553964651057,0.59124553964651061,0.88137782057214464,352.55112822885786,352.55112822885786,1]
[270,{"$f":"Budget!$M$19","v":3.2311785311999999},7.2085109364861442,7.964302534471372,321.42521006119995,1,1,{"$error":"#N/A"},5.8268236482001612,0.58268236482001612,0.88051234108816467,352.20493643526589,352.20493643526589,1]
[271,{"$f":"Budget!$M$19","v":3.2311785311999999},7.1062745417830033,7.8620661397682312,321.42521006119995,1,1,{"$error":"#N/A"},5.7407842021728186,0.57407842021728184,0.87964161741422331,351.85664696568932,351.85664696568932,1]
[272,{"$f":"Budget!$M$19","v":3.2311785311999999},7.0043259170652536,7.7601175150504815,321.42521006119995,1,1,{"$error":"#N/A"},5.6543613058362325,0.5654361305836233,0.87876587940302686,351.50635176121074,351.50635176121074,1]
[273,{"$f":"Budget!$M$19","v":3.2311785311999999},6.902691785330811,7.6584833833160388,321.42521006119995,1,1,{"$error":"#N/A"},5.5675791809037491,0.55675791809037489,0.87788535785117761,351.15414314047104,351.15414314047104,1]
[274,{"$f":"Budget!$M$19","v":3.2311785311999999},6.8013987026975347,7.5571903006827625,321.42521006119995,1,1,{"$error":"#N/A"},5.480462018748625,0.54804620187486253,0.87700028446439915,350.80011378575966,350.80011378575966,1]
[275,{"$f":"Budget!$M$19","v":3.2311785311999999},6.7004730537666806,7.4562646517519084,321.42521006119995,1,1,{"$error":"#N/A"},5.3930339758425703,0.53930339758425705,0.87611089182187663,350.44435672875068,350.44435672875068,1]
[276,{"$f":"Budget!$M$19","v":3.2311785311999999},6.5999410470359781,7.3557326450212059,321.42521006119995,1,1,{"$error":"#N/A"},5.3053191692343376,0.53053191692343382,0.87521741333972769,350.08696533589108,350.08696533589108,1]
[277,{"$f":"Budget!$M$19","v":3.2311785311999999},6.4998287103685843,7.2556203083538122,321.42521006119995,1,1,{"$error":"#N/A"},5.2173416720675334,0.52173416720675336,0.87432008323359922,349.72803329343969,349.72803329343969,1]
[278,{"$f":"Budget!$M$19","v":3.2311785311999999},6.4001618865128567,7.1559534844980845,321.42521006119995,1,1,{"$error":"#N/A"},5.1291255091369408,0.51291255091369414,0.87341913648038771,349.36765459215508,349.36765459215508,1]
[279,{"$f":"Budget!$M$19","v":3.2311785311999999},6.3009662286756711,7.056757826660899,321.42521006119995,1,1,{"$error":"#N/A"},5.040694652486053,0.5040694652486053,0.87251480877911625,349.00592351164647,349.00592351164647,1]
[280,{"$f":"Budget!$M$19","v":3.2311785311999999},6.2022671961504248,6.9580587941356526,321.42521006119995,1,1,{"$error":"#N/A"},4.9520730170426361,0.49520730170426364,0.87160733651094202,348.64293460437682,348.64293460437682,1]
[281,{"$f":"Budget!$M$19","v":3.2311785311999999},6.1040900499948894,6.8598816479801172,321.42521006119995,1,1,{"$error":"#N/A"},4.863284456293627,0.48632844562936273,0.8706969566983157,348.2787826793263,348.2787826793263,1]
[282,{"$f":"Budget!$M$19","v":3.2311785311999999},6.0064598487648855,6.7622514467501134,321.42521006119995,1,1,{"$error":"#N/A"},4.7743527580011289,0.47743527580011291,0.86978390696331898,347.9135627853276,347.9135627853276,1]
[283,{"$f":"Budget!$M$19","v":3.2311785311999999},5.9094014443001388,6.6651930422853667,321.42521006119995,1,1,{"$error":"#N/A"},4.6853016399553837,0.46853016399553837,0.8688684254851472,347.54737019405889,347.54737019405889,1]
[284,{"$f":"Budget!$M$19","v":3.2311785311999999},5.8129394775612955,6.5687310755465234,321.42521006119995,1,1,{"$error":"#N/A"},4.5961547457693541,0.45961547457693541,0.86795075095679508,347.18030038271803,347.18030038271803,1]
[285,{"$f":"Budget!$M$19","v":3.2311785311999999},5.7170983745235535,6.4728899725087814,321.42521006119995,1,1,{"$error":"#N/A"},4.5069356407113617,0.4506935640711362,0.86703112254092096,346.81244901636836,346.81244901636836,1]
[286,{"$f":"Budget!$M$19","v":3.2311785311999999},5.6219023421199754,6.3776939401052033,321.42521006119995,1,1,{"$error":"#N/A"},4.4176678075785389,0.44176678075785392,0.8661097798249271,346.44391192997085,346.44391192997085,1]
[287,{"$f":"Budget!$M$19","v":3.2311785311999999},5.5273753642390293,6.2831669622242572,321.42521006119995,1,1,{"$error":"#N/A"},4.3283746426071161,0.43283746426071162,0.86518696277523088,346.07478511009236,346.07478511009236,1]
[288,{"$f":"Budget!$M$19","v":3.2311785311999999},5.433541197775563,6.1893327957607909,321.42521006119995,1,1,{"$error":"#N/A"},4.2390794514249421,0.42390794514249425,0.86426291169079505,345.70516467631802,345.70516467631802,1]
[289,{"$f":"Budget!$M$19","v":3.2311785311999999},5.3404233687340739,6.0962149667193017,321.42521006119995,1,1,{"$error":"#N/A"},4.1498054450429436,0.41498054450429439,0.86333786715589633,345.33514686235856,345.33514686235856,1]
[290,{"$f":"Budget!$M$19","v":3.2311785311999999},5.2480451683862075,6.0038367663714354,321.42521006119995,1,1,{"$error":"#N/A"},4.0605757358838446,0.40605757358838446,0.86241206999213027,344.96482799685214,344.96482799685214,1]
[291,{"$f":"Budget!$M$19","v":3.2311785311999999},5.1564296494789605,5.9122212474641884,321.42521006119995,1,1,{"$error":"#N/A"},3.971413333852837,0.39714133338528373,0.86148576120971931,344.59430448388775,344.59430448388775,1]
[292,{"$f":"Budget!$M$19","v":3.2311785311999999},5.0655996224977944,5.8213912204830223,321.42521006119995,1,1,{"$error":"#N/A"},3.882341142446478,0.38823411424464782,0.86055918195809766,344.22367278323907,344.22367278323907,1]
[293,{"$f":"Budget!$M$19","v":3.2311785311999999},4.9755776519821584,5.7313692499673863,321.42521006119995,1,1,{"$error":"#N/A"},3.7933819549014345,0.37933819549014347,0.85963257347581112,343.85302939032442,343.85302939032442,1]
[294,{"$f":"Budget!$M$19","v":3.2311785311999999},4.8863860528944461,5.6421776508796739,321.42521006119995,1,1,{"$error":"#N/A"},3.7045584503819384,0.37045584503819384,0.85870617703973484,343.48247081589392,343.48247081589392,1]
[295,{"$f":"Budget!$M$19","v":3.2311785311999999},4.7980468870413606,5.5538384850265885,321.42521006119995,1,1,{"$error":"#N/A"},3.6158931902075437,0.36158931902075442,0.85778023391364633,343.11209356545851,343.11209356545851,1]
[296,{"$f":"Budget!$M$19","v":3.2311785311999999},4.7105819595473495,5.4663735575325774,321.42521006119995,1,1,{"$error":"#N/A"},3.5274086141200485,0.35274086141200489,0.85685498529615978,342.74199411846394,342.74199411846394,1]
[297,{"$f":"Budget!$M$19","v":3.2311785311999999},4.6240128153841997,5.3798044133694276,321.42521006119995,1,1,{"$error":"#N/A"},3.4391270365891558,0.34391270365891558,0.85593067226803787,342.37226890721513,342.37226890721513,1]
[298,{"$f":"Budget!$M$19","v":3.2311785311999999},4.5383607359495191,5.2941523339347469,321.42521006119995,1,1,{"$error":"#N/A"},3.3510706431592894,0.33510706431592896,0.85500753573892641,342.00301429557055,342.00301429557055,1]
[299,{"$f":"Budget!$M$19","v":3.2311785311999999},4.4536467357017049,5.2094383336869328,321.42521006119995,1,1,{"$error":"#N/A"},3.2632614868337271,0.32632614868337273,0.85408581639349335,341.63432655739734,341.63432655739734,1]
[300,{"$f":"Budget!$M$19","v":3.2311785311999999},4.3698915588460299,5.1256831568312577,321.42521006119995,1,1,{"$error":"#N/A"},3.1757214844991495,0.31757214844991499,0.85316575463702404,341.26630185480963,341.26630185480963,1]
[301,{"$f":"Budget!$M$19","v":3.2311785311999999},4.2871156760736771,5.0429072740589049,321.42521006119995,1,1,{"$error":"#N/A"},3.0884724133903774,0.30884724133903774,0.85224759054049593,340.8990362161984,340.8990362161984,1]
[302,{"$f":"Budget!$M$19","v":3.2311785311999999},4.2053392813545774,4.9611308793398052,321.42521006119995,1,1,{"$error":"#N/A"},3.0015359075925687,0.30015359075925691,0.85133156378512476,340.53262551404993,340.53262551404993,1]
[303,{"$f":"Budget!$M$19","v":3.2311785311999999},4.124582288783154,4.8803738867683819,321.42521006119995,1,1,{"$error":"#N/A"},2.9149334545853094,0.29149334545853095,0.85041791360645103,340.16716544258043,340.16716544258043,1]
[304,{"$f":"Budget!$M$19","v":3.2311785311999999},4.0448643294770594,4.8006559274622873,321.42521006119995,1,1,{"$error":"#N/A"},2.8286863918243057,0.2828686391824306,0.84950687873794795,339.80275149517917,339.80275149517917,1]
[305,{"$f":"Budget!$M$19","v":3.2311785311999999},3.9662047485283209,4.7219963465135493,321.42521006119995,1,1,{"$error":"#N/A"},2.74281590336264,0.27428159033626404,0.84859869735419324,339.43947894167729,339.43947894167729,1]
[306,{"$f":"Budget!$M$19","v":3.2311785311999999},3.8886226020063304,4.6444141999915587,321.42521006119995,1,1,{"$error":"#N/A"},2.6573430165127547,0.26573430165127548,0.84769360701364371,339.07744280545751,339.07744280545751,1]
[307,{"$f":"Budget!$M$19","v":3.2311785311999999},3.812136654018468,4.5679282520036963,321.42521006119995,1,1,{"$error":"#N/A"},2.5722885985463506,0.25722885985463506,0.84679184460100532,338.71673784040212,338.71673784040212,1]
[308,{"$f":"Budget!$M$19","v":3.2311785311999999},3.7367653738182525,4.4925569718034808,321.42521006119995,1,1,{"$error":"#N/A"},2.48767335343436,0.24876733534343601,0.84589364626925057,338.35745850770024,338.35745850770024,1]
[309,{"$f":"Budget!$M$19","v":3.2311785311999999},3.6625269329694219,4.4183185309546502,321.42521006119995,1,1,{"$error":"#N/A"},2.4035178186264261,0.24035178186264261,0.84499924738129872,337.99969895251951,337.99969895251951,1]
[310,{"$f":"Budget!$M$19","v":3.2311785311999999},3.5894392025627666,4.3452308005479949,321.42521006119995,1,1,{"$error":"#N/A"},2.3198423618705704,0.23198423618705705,0.8441088824513967,337.6435529805587,337.6435529805587,1]
[311,{"$f":"Budget!$M$19","v":3.2311785311999999},3.5175197504848028,4.2733113484700311,321.42521006119995,1,1,{"$error":"#N/A"},2.2366671780698653,0.22366671780698655,0.84322278508618931,337.28911403447574,337.28911403447574,1]
[312,{"$f":"Budget!$M$19","v":3.2311785311999999},3.4467858387419255,4.2025774367271538,321.42521006119995,1,1,{"$error":"#N/A"},2.1540122861808868,0.21540122861808869,0.84234118792555934,336.93647517022373,336.93647517022373,1]
[313,{"$f":"Budget!$M$19","v":3.2311785311999999},3.3772544208333328,4.1330460188185612,321.42521006119995,1,1,{"$error":"#N/A"},2.0718975261514458,0.20718975261514461,0.84146432258323645,336.58572903329457,336.58572903329457,1]
[314,{"$f":"Budget!$M$19","v":3.2311785311999999},3.3089421391813629,4.0647337371665913,321.42521006119995,1,1,{"$error":"#N/A"},1.9903425558958929,0.19903425558958932,0.84059241958718489,336.23696783487395,336.23696783487395,1]
[315,{"$f":"Budget!$M$19","v":3.2311785311999999},3.2418653226126479,3.9976569205978763,321.42521006119995,1,1,{"$error":"#N/A"},1.9093668483123452,0.19093668483123452,0.83972570831984339,335.89028332793737,335.89028332793737,1]
[316,{"$f":"Budget!$M$19","v":3.2311785311999999},3.1760399838927014,3.9318315818779297,321.42521006119995,1,1,{"$error":"#N/A"},1.8289896883370886,0.18289896883370887,0.83886441695819502,335.545766783278,335.49062823597069,0.99983567503224402]
[317,{"$f":"Budget!$M$19","v":3.2311785311999999},3.1114818173124603,3.8672734152976886,321.42521006119995,1,1,{"$error":"#N/A"},1.7492301700391408,0.17492301700391411,0.8380087724137264,335.20350896549058,335.08381225160304,0.99964291330285604]
[318,{"$f":"Budget!$M$19","v":3.2311785311999999},3.0482061963292835,3.8039977943145118,321.42521006119995,1,1,{"$error":"#N/A"},1.6701071937562517,0.16701071937562517,0.83715900027231971,334.86360010892787,334.68062777405714,0.9994535914479471]
[319,{"$f":"Budget!$M$19","v":3.2311785311999999},2.9862281712612684,3.7420197692464967,321.42521006119995,1,1,{"$error":"#N/A"},1.5916394632667732,0.15916394632667732,0.83631532473404357,334.52612989361745,334.28117953367871,0.99926776912758164]
[320,{"$f":"Budget!$M$19","v":3.2311785311999999},2.9255624670321594,3.6813540650173877,321.42521006119995,1,1,{"$error":"#N/A"},1.5138454830036494,0.15138454830036496,0.83547796855294265,334.19118742117706,333.88557135700921,0.99908550531650409]
[321,{"$f":"Budget!$M$19","v":3.2311785311999999},2.8662234809716209,3.6220150789568493,321.42521006119995,1,1,{"$error":"#N/A"},1.4367435553057533,0.14367435553057534,0.83464715297679803,333.85886119071921,333.49390614049082,0.99890685827859482]
[322,{"$f":"Budget!$M$19","v":3.2311785311999999},{"$f":"IF($D479-ABS($B$891)<0,0,$D479-ABS($B$891))","v":2.8082252806673522},{"$f":"($I$154*$A479^6)+($J$154*$A479^5)+($K$154*$A479^4)+($L$154*$A479^3)+($M$154*$A479^2)+($N$154*$A479^1)+$O$154","v":3.5640168786525805},{"$f":"IF(($E478-$B479+$D479>$E$157),$E$157,IF($E478-$B479+$D479<0,0,$E478-$B479+$D479))","v":321.42521006119995},{"$f":"E479/$E$157","v":1},{"$f":"IF(F479<=0.5,NA(),F479)","v":1},{"$f":"IF(F479>0.5,NA(),F479)","v":{"$error":"#N/A"}},{"$f":"($Q$154*$A479^6)+($R$154*$A479^5)+($S$154*$A479^4)+($T$154*$A479^3)+($U$154*$A479^2)+($V$154*$A479^1)+$W$154","v":1.3603517777123955},{"$f":"I479*0.1","v":0.13603517777123955},0.83382309768695562,{"$f":"$C$6*K479","v":333.52923907478225},333.07095288995816,{"$f":"M479/L479","v":0.99862594899896817}]
[{"$f":"A479+1","v":323},{"$f":"Budget!$M$19","v":3.2311785311999999},2.7515816018713166,3.5073731998565449,321.42521006119995,1,1,{"$error":"#N/A"},1.2846880402918259,0.12846880402918259,0.83300602073814867,333.20240829525949,332.59135596062947,0.99816612269474192]
[324,{"$f":"Budget!$M$19","v":3.2311785311999999},2.6963058464570167,3.452097444442245,321.42521006119995,1,1,{"$error":"#N/A"},1.2097700230143289,0.12097700230143289,{"$f":"IF(($Y$2+$Y$3*$I481+$Y$4*$I481^2)>1,1,($Y$2+$Y$3*$I481+$Y$4*$I481^2))","v":0.83219613849845953},332.87845539938382,332.05648327588648,0.99753071395830906]
[325,{"$f":"Budget!$M$19","v":3.2311785311999999},2.6424110804320207,3.398202678417249,321.42521006119995,1,1,{"$error":"#N/A"},1.135615193160163,0.11356151931601631,0.83139366558934391,332.55746623573759,331.46771582511849,0.99672312150151332]
[326,{"$f":"Budget!$M$19","v":3.2311785311999999},2.5899100320010802,3.3457016299863085,321.42521006119995,1,1,{"$error":"#N/A"},1.0622408027717825,0.10622408027717825,0.83059881482584941,332.23952593033977,330.82644732591956,0.99574680766695867]
[327,{"$f":"Budget!$M$19","v":3.2311785311999999},2.5388150896849537,3.2946066876701821,321.42521006119995,1,1,{"$error":"#N/A"},0.98966388614101675,9.8966388614101675E-2,0.82981179715695619,331.92471886278247,{"$f":"IF(($C484-$B484>=0),IF($M483-$B484+$C484>$L484,$L484,$M483-$B484+$C484),IF($M483<$L484,IF($M483-$B484+$C484<0,0,$M483-$B484+$C484),IF($L484-$B484+$C484<0,0,$L484-$B484+$C484)))","v":330.1340838844045},0.9946052978985328]
[328,{"$f":"Budget!$M$19","v":3.2311785311999999},2.4891383004897079,3.2449298984749362,321.42521006119995,1,1,{"$error":"#N/A"},0.91790125733814421,9.1790125733814426E-2,0.82903282160614422,331.6131286424577,329.3920436536942,0.99330218017044114]
[329,{"$f":"Budget!$M$19","v":3.2311785311999999},2.4408913681308149,3.1966829661160432,321.390714496116,0.9998926793418681,0.9998926793418681,{"$error":"#N/A"},0.84696950778061364,8.4696950778061372E-2,0.82826209521219207,331.30483808487685,328.60175649062501,0.9918411043742158]
[330,{"$f":"Budget!$M$19","v":3.2311785311999999},2.394085651309092,3.1498772492943203,321.30941321421034,0.99963973937524198,0.99963973937524198,{"$error":"#N/A"},0.77688500383882797,7.7688500383882808E-2,0.82749982297020697,330.99992918808277,327.76466361073409,0.99022578166320296]
[331,{"$f":"Budget!$M$19","v":3.2311785311999999},2.3487321620407555,3.1045237600259838,321.18275844303633,0.99924569818864717,0.99924569818864717,{"$error":"#N/A"},0.70766388448515727,7.0766388448515724E-2,0.8267462077729858,330.69848310919434,326.88221724157484,0.98845998375396416]
[332,{"$f":"Budget!$M$19","v":3.2311785311999999},2.30484156403852,3.0606331620237484,321.0122130738601,0.99871510704695121,0.99871510704695121,{"$error":"#N/A"},0.63932205897734207,6.3932205897734212E-2,0.82600145035263484,330.40058014105392,325.95588027441335,0.98654754218426899]
[333,{"$f":"Budget!$M$19","v":3.2311785311999999},2.2624241711487456,3.0182157691339739,320.79925031179408,0.99805254930287923,0.99805254930287923,{"$error":"#N/A"},0.57187520458731456,5.7187520458731461E-2,0.82526574922260165,330.10629968904067,324.98712591436208,0.98449234752714254]
[334,{"$f":"Budget!$M$19","v":3.2311785311999999},2.2214899458384934,2.9772815438237217,320.54535332441782,0.99726263930382253,0.99726263930382253,{"$error":"#N/A"},0.50533876436361425,5.0533876436361425E-2,0.82453930062001657,329.81572024800664,323.97743732900057,0.98229834856077825]
[335,{"$f":"Budget!$M$19","v":3.2311785311999999},2.1820484977369232,2.9378400957221515,320.25201488893998,0.99635002129410888,0.99635002129410888,{"$error":"#N/A"},0.43972794493740253,4.3972794493740253E-2,0.82382229844848232,329.5289193793929,322.92830729553748,0.97996955139389141]
[336,{"$f":"Budget!$M$19","v":3.2311785311999999},2.1441090822313753,2.8999006802166036,319.9207370379566,0.99531936831290579,0.99531936831290579,{"$error":"#N/A"},0.37505771436559598,3.7505771436559601E-2,0.82311493422126925,329.24597368850772,321.84123784656884,0.97751001854636399]
[337,{"$f":"Budget!$M$19","v":3.2311785311999999},2.1076805991118817,2.86347219709711,319.55303070385372,0.99417538108790604,0.99417538108790604,{"$error":"#N/A"},0.31134280001589332,3.1134280001589333E-2,0.82241739700499772,328.96695880199911,320.71773991448072,0.9749238679849197]
[338,{"$f":"Budget!$M$19","v":3.2311785311999999},2.0727715912741131,2.8285631892593415,319.15041536191308,0.99292278692497782,0.99292278692497782,{"$error":"#N/A"},0.24859768648641989,2.4859768648641992E-2,0.82172987336375469,328.69194934550188,319.55933297455482,0.97221527211380709]
[339,{"$f":"Budget!$M$19","v":3.2311785311999999},2.039390243471439,2.7951818414566674,318.71441867216976,0.99156633859393273,0.99156633859393273,{"$error":"#N/A"},0.18683661357192705,1.8683661357192707E-2,0.82105254730380373,328.42101892152147,318.36754468682625,0.96938845672025165]
[340,{"$f":"Budget!$M$19","v":3.2311785311999999},2.0075443811212152,2.7633359791064436,318.24657612007621,0.99011081321058014,0.99011081321058014,{"$error":"#N/A"},0.12607357426190902,1.2607357426190902E-2,0.82038560021875706,328.15424008750284,317.14391053674746,0.96644769987485313]
[341,{"$f":"Budget!$M$19","v":3.2311785311999999},1.9772414691650737,2.733033067150302,317.74843065602653,0.98856101111523464,0.98856101111523464,{"$error":"#N/A"},6.6322312783626103E-2,6.6322312783626105E-3,0.8197292108353772,327.89168433415085,315.88997347471252,0.96339733078681089]
[342,{"$f":"Budget!$M$19","v":3.2311785311999999},1.9484886109808257,2.704280208966054,317.2215323337926,0.98692175474784016,0.98692175474784016,{"$error":"#N/A"},7.5963226824455887E-3,7.5963226824455894E-4,0.81908355515995457,327.63342206398181,314.60728355449334,0.96024172861416845]
[343,{"$f":"Budget!$M$19","v":3.2311785311999999},1.92129254734632,2.6770841453315484,316.66743794792416,0.98519788751986848,0.98519788751986848,{"$error":"#N/A"},-5.0091155058311188E-2,-5.0091155058311189E-3,0.81844880642530993,327.37952257012398,313.29739757063965,0.95698532122922264]
[344,{"$f":"Budget!$M$19","v":3.2311785311999999},1.8956596554613951,2.6514512534466235,316.08771067017079,0.98339427268317603,0.98339427268317603,{"$error":"#N/A"},-0.10672713385915245,-1.0672713385915245E-2,0.81782513503843779,327.13005401537509,311.96187869490103,0.95363258393934924]
[345,{"$f":"Budget!$M$19","v":3.2311785311999999},1.8715959480151922,2.6273875460004206,315.48391968497123,0.98151579219595908,0.98151579219595908,{"$error":"#N/A"},-0.16229888334260067,-1.6229888334260069E-2,0.81721270852887384,326.88508341154954,310.60229611171621,0.95018803816345077]
[346,{"$f":"Budget!$M$19","v":3.2311785311999999},1.8491070723126994,2.6048986702979278,314.85763982406917,0.9795673455859909,0.9795673455859909,{"$error":"#N/A"},-0.2167939310993745,-2.1679393109937453E-2,0.81661169149768353,326.64467659907342,309.2202246528289,0.94665625006455734]
[347,{"$f":"Budget!$M$19","v":3.2311785311999999},1.828198309452,2.5839899074372283,314.21045120030641,0.97755384881129936,0.97755384881129936,{"$error":"#N/A"},-0.2702000644069642,-2.7020006440696423E-2,0.81602224556727287,326.40889822690917,307.81724443108089,0.94304182913878787]
[348,{"$f":"Budget!$M$19","v":3.2311785311999999},1.8088745735540441,2.5646661715392725,313.54393884064569,0.97548023311844878,0.97548023311844878,{"$error":"#N/A"},-0.32250533191410113,-3.2250533191410115E-2,0.81544452933189393,326.17781173275756,306.39494047343493,0.93934942676134259]
[349,{"$f":"Budget!$M$19","v":3.2311785311999999},1.7911404110468765,2.5469320090321048,312.85969231847781,0.97335144389859385,0.97335144389859385,{"$error":"#N/A"},-0.37369804528358941,-3.7369804528358939E-2,0.81487869830895665,325.95147932358265,304.9549023532818,0.93558373468998168]
[350,{"$f":"Budget!$M$19","v":3.2311785311999999},1.7749999999999999,2.5307915979852282,312.15930538526305,0.97117243954146393,0.97117243954146393,{"$error":"#N/A"},-0.42376678079813246,-4.2376678079813247E-2,0.81432490489111797,325.7299619564472,303.49872382208179,0.93174948352667075]
[351,{"$f":"Budget!$M$19","v":3.2311785311999999},1.7604571495161507,2.5162487475013791,311.44437560156445,0.96894819028745405,0.96894819028745405,{"$error":"#N/A"},-0.47270038092165123,-4.7270038092165123E-2,0.81378329829925689,325.51331931970276,302.02800244039793,0.92785144113799312]
[352,{"$f":"Budget!$M$19","v":3.2311785311999999},1.7475152991710501,2.5033068971562784,310.71650396752074,0.96668367707797331,0.96668367707797331,{"$error":"#N/A"},-0.52048795582859952,-5.2048795582859957E-2,0.8132540245362212,325.30160981448847,300.54433920836897,0.92389441103522985]
[353,{"$f":"Budget!$M$19","v":3.2311785311999999},1.736177518512386,2.4919691164976143,309.97729455281836,0.96438389040423467,0.96438389040423467,{"$error":"#N/A"},-0.56711888488615614,-5.6711888488615615E-2,0.812737226341535,325.094890536614,299.04933819568134,0.91988323071475875]
[354,{"$f":"Budget!$M$19","v":3.2311785311999999},1.7264465066032471,2.4822381045884754,309.22835412620685,0.96205382915462423,0.96205382915462423,{"$error":"#N/A"},-0.61258281810268045,-6.1258281810268045E-2,0.81223304314694411,324.89321725877767,297.54460617108458,0.91582276995979917]
[355,{"$f":"Budget!$M$19","v":3.2311785311999999},1.7183245916279701,2.4741161896131985,308.47129178462006,0.95969849946084362,0.95969849946084362,{"$error":"#N/A"},-0.65686967753353542,-6.5686967753353545E-2,0.81174161103291897,324.69664441316758,296.03175223151254,0.91171792910437433]
[356,{"$f":"Budget!$M$19","v":3.2311785311999999},1.7118137305436902,2.4676053285289186,307.707718581949,0.95732291354296972,0.95732291354296972,{"$error":"#N/A"},-0.69996965864993399,-6.9996965864993405E-2,0.81126306268607373,324.50522507442952,294.51238743085622,0.90757363726055862]
[357,{"$f":"Budget!$M$19","v":3.2311785311999999},1.7069155087880516,2.46270710677328,306.93924715752229,0.95493208855360312,0.95493208855360312,{"$error":"#N/A"},-0.74187323166498231,-7.4187323166498231E-2,0.81079752735759136,324.31901094303657,292.98812440844426,0.90339485051002677]
[358,{"$f":"Budget!$M$19","v":3.2311785311999999},1.7036311400411477,2.459422738026376,306.16749136434868,0.95253104542127798,0.95253104542127798,{"$error":"#N/A"},-0.78257114282340012,-7.8257114282340015E-2,0.81034513082259896,324.13805232903957,291.4605770172854,0.89918655006113701]
[359,{"$f":"Budget!$M$19","v":3.2311785311999999},1.7019614660360047,2.4577530640212331,305.39406589716992,0.95012480769328056,0.95012480769328056,{"$error":"#N/A"},-0.82205441565196224,-8.2205441565196227E-2,0.80990599534055174,323.96239813622071,289.9313599521214,0.89495374037270259]
[360,{"$f":"Budget!$M$19","v":3.2311785311999999},1.7019069564273877,2.457698554412616,304.62058592038255,0.94771840037806065,0.94771840037806065,{"$error":"#N/A"},-0.86031435216668228,-8.6031435216668228E-2,0.80948023961668614,323.79209584667444,288.40208837734878,0.89070144724569211]
[361,{"$f":"Budget!$M$19","v":3.2311785311999999},1.7034677087093768,2.4592593066946051,303.84866669587717,0.94531684878738609,0.94531684878738609,{"$error":"#N/A"},-0.89734253404591868,-8.9734253404591874E-2,0.80906797876446213,323.62719150578482,286.87437755485814,0.88643471588428091]
[362,{"$f":"Budget!$M$19","v":3.2311785311999999},1.7066434481886517,2.46243504617388,303.07992321085106,0.94292517737841441,0.94292517737841441,{"$error":"#N/A"},-0.93313082375800604,-9.3313082375800604E-2,0.80866932426913962,323.46772970765585,285.34984247184678,0.88215860892751397]
[363,{"$f":"Budget!$M$19","v":3.2311785311999999},1.7114335280106387,2.4672251259958671,302.31596980564694,0.94054840859584543,0.94054840859584543,{"$error":"#N/A"},-0.96767136565611622,-9.6767136565611631E-2,0.80828438395236635,323.31375358094652,283.83009746865741,0.87787820445317433]
[364,{"$f":"Budget!$M$19","v":3.2311785311999999},1.7178369292348861,2.4736285272201144,301.55841980166707,0.93819156171430917,0.93819156171430917,{"$error":"#N/A"},-1.0009565870292931,-0.10009565870292932,0.80791326193791857,323.16530477516744,282.31675586669229,0.87359859395520723]
[365,{"$f":"Budget!$M$19","v":3.2311785311999999},1.7258522609687588,2.4816438589539871,300.80888512942107,0.93585965168116869,0.93585965168116869,{"$error":"#N/A"},-1.0329791991126172,-0.10329791991126172,0.8075560586185786,323.02242344743144,280.81142959646104,0.86932488029630617]
[366,{"$f":"Budget!$M$19","v":3.2311785311999999},1.7354777605501339,2.4912693585353622,300.06897595675645,0.93355768795989202,0.93355768795989202,{"$error":"#N/A"},-1.0637321980643435,-0.10637321980643435,0.80721287062407976,322.88514824963192,279.31572882581116,0.86506217563733845]
[367,{"$f":"Budget!$M$19","v":3.2311785311999999},1.7467112937875071,2.5025028917727354,299.34030031732919,0.93129067337417082,0.93129067337417082,{"$error":"#N/A"},-1.0932088658965995,-0.10932088658965995,0.80688379079028361,322.75351631611346,277.83126158839866,0.86081559934511531]
[368,{"$f":"Budget!$M$19","v":3.2311785311999999},1.7595503552463696,2.5153419532315979,298.62446373936081,0.92906360295293,0.92906360295293,{"$error":"#N/A"},-1.1214027713720043,-0.11214027713720043,0.80656890812946691,322.62756325178674,276.35963341244502,0.85659027588032499]
[369,{"$f":"Budget!$M$19","v":3.2311785311999999},1.7739920685940205,2.5297836665792488,297.92306887474007,0.92688146277641059,0.92688146277641059,{"$error":"#N/A"},-1.1483077708564053,-0.11483077708564055,0.80626830780184566,322.50732312073825,274.90244694983903,0.85239133266726719]
[370,{"$f":"Budget!$M$19","v":3.2311785311999999},1.7900331869988348,2.5458247849840632,297.23771512852414,0.92474922882349375,0.92474922882349375,{"$error":"#N/A"},-1.1739180091356616,-0.11739180091356616,0.80598207108825815,322.39282843530327,273.46130160563786,0.84822389794726827]
[371,{"$f":"Budget!$M$19","v":3.2311785311999999},1.8076700935737562,2.5634616915589845,296.56999828888314,0.9226718658204055,0.9226718658204055,{"$error":"#N/A"},-1.1982279201931476,-0.11982279201931477,0.80571027536406148,322.2841101456246,272.0377931680116,0.8440930986175238]
[372,{"$f":"Budget!$M$19","v":3.2311785311999999},1.8268988018826575,2.5826903998678858,295.92151015755104,0.92065432609099651,0.92065432609099651,{"$error":"#N/A"},-1.2212322279418402,-0.12212322279418403,0.80545299407432203,322.18119762972879,270.63351343869425,0.84000405805717926]
[373,{"$f":"Budget!$M$19","v":3.2311785311999999},1.8477149564950195,2.6035065544802478,295.2938381808313,0.9187015484087474,0.9187015484087474,{"$error":"#N/A"},-1.2429259469274712,-0.12429259469274712,0.80521029671012867,322.08411868405148,269.25004986398926,0.83596189394271314]
[374,{"$f":"Budget!$M$19","v":3.2311785311999999},1.870113833592336,2.6259054315775643,294.68856508120888,0.91681845685066099,0.91681845685066099,{"$error":"#N/A"},-1.263304382979328,-0.12633043829793281,0.80498224878630165,321.99289951452067,267.88898516638159,0.83197171605425668]
[375,{"$f":"Budget!$M$19","v":3.2311785311999999},1.8940903416321588,2.6498819396173872,294.10726848962628,0.91500995965321985,0.91500995965321985,{"$error":"#N/A"},-1.2823631338379187,-0.12823631338379188,0.8047689118201844,321.90756472807374,266.55189697681374,0.82803862407514151]
[376,{"$f":"Budget!$M$19","v":3.2311785311999999},1.9196390220597777,2.675430620045006,293.5515205784713,0.91328094807055904,0.91328094807055904,{"$error":"#N/A"},-1.3000980897244858,-0.1300098089724486,0.80457034331191679,321.82813732476671,265.2403574676735,0.82416770538621753]
[377,{"$f":"Budget!$M$19","v":3.2311785311999999},1.9467540500759468,2.7025456480611751,293.02288769533249,0.91163629523502654,0.91163629523502654,{"$error":"#N/A"},-1.3165054338852258,-0.13165054338852258,0.80438659672583734,321.75463869033496,263.95593298654944,0.82036403285730874]
[378,{"$f":"Budget!$M$19","v":3.2311785311999999},1.9754292354591825,2.7312208334444108,292.52292999757691,0.91008085502030167,0.91008085502030167,{"$error":"#N/A"},-1.3315816430922496,-0.13315816430922497,0.80421772147321946,321.68708858928778,262.70018369080861,0.81663266263760315]
[379,{"$f":"Budget!$M$19","v":3.2311785311999999},2.0056580234352395,2.7614496214204678,292.05320108779739,0.90861946090721979,0.90861946090721979,{"$error":"#N/A"},-1.3453234881009166,-0.13453234881009166,0.80406376289635939,321.62550515854377,261.47466318304384,0.81297863194696307]
[380,{"$f":"Budget!$M$19","v":3.2311785311999999},2.0374334956070697,2.793225093592298,291.6152476501897,0.90725692485248943,0.90725692485248943,{"$error":"#N/A"},-1.3577280340748814,-0.13577280340748815,0.80392476225389431,321.56990490155772,260.2809181474509,0.80940695687032893]
[381,{"$f":"Budget!$M$19","v":3.2311785311999999},2.0707483709323014,2.8265399689175297,291.21060908790724,0.90599803616044994,0.90599803616044994,{"$error":"#N/A"},-1.3687926409626812,-0.13687926409626813,0.80380075670753948,321.52030268301581,259.1204879871832,0.80592263015703836]
[382,{"$f":"Budget!$M$19","v":3.2311785311999999},2.1055950067543789,2.8613866047396073,290.84081716144686,0.90484756035803859,0.90484756035803859,{"$error":"#N/A"},-1.378514963846186,-0.1378514963846186,0.80369177931002489,321.47671172400993,257.99490446273757,0.80253061902732181]
[383,{"$f":"Budget!$M$19","v":3.2311785311999999},2.1419653998889543,2.8977569978741826,290.50739562812106,0.90381023807313654,0.90381023807313654,{"$error":"#N/A"},-1.3868929532386289,-0.1386892953238629,0.8035978589944861,321.43914359779444,256.90569133142651,0.79923586298774996]
[384,{"$f":"Budget!$M$19","v":3.2311785311999999},2.1798511877634836,2.935642785748712,290.21185988266978,0.90289078391646038,0.90289078391646038,{"$error":"#N/A"},-1.3939248553521111,-0.13939248553521111,0.80351902056509161,321.40760822603664,255.85436398799001,0.79604327165788513]
[385,{"$f":"Budget!$M$19","v":3.2311785311999999},2.2192436496059371,2.9750352475911654,289.95571659906096,0.90209388536715229,0.90209388536715229,{"$error":"#N/A"},-1.3996092123168467,-0.13996092123168466,0.80345528468911098,321.38211387564439,254.84242910639597,0.79295772260992936]
[386,{"$f":"Budget!$M$19","v":3.2311785311999999},{"$f":"IF($D543-ABS($B$891)<0,0,$D543-ABS($B$891))","v":2.2601337076896697},{"$f":"($I$154*$A543^6)+($J$154*$A543^5)+($K$154*$A543^4)+($L$154*$A543^3)+($M$154*$A543^2)+($N$154*$A543^1)+$O$154","v":3.015925305674898},{"$f":"IF(($E542-$B543+$D543>$E$157),$E$157,IF($E542-$B543+$D543<0,0,$E542-$B543+$D543))","v":289.74046337353587},{"$f":"E543/$E$157","v":0.90142420166224291},{"$f":"IF(F543<=0.5,NA(),F543)","v":0.90142420166224291},{"$f":"IF(F543>0.5,NA(),F543)","v":{"$error":"#N/A"}},{"$f":"($Q$154*$A543^6)+($R$154*$A543^5)+($S$154*$A543^4)+($T$154*$A543^3)+($U$154*$A543^2)+($V$154*$A543^1)+$W$154","v":-1.4039448623711053},{"$f":"I543*0.1","v":-0.14039448623711054},0.80340666789021553,{"$f":"$C$6*K543","v":321.36266715608622},253.87138428288566,{"$f":"M543/L543","v":0.78998405922359372}]
[{"$f":"A543+1","v":387},{"$f":"Budget!$M$19","v":3.2311785311999999},2.3025119286310427,3.058303526616271,289.56758836895216,0.90088636269015099,0.90088636269015099,{"$error":"#N/A"},-1.4069309400022689,-0.14069309400022689,0.80337318254323298,321.34927301729317,252.94271768031672,0.78712708855795299]
[388,{"$f":"Budget!$M$19","v":3.2311785311999999},2.3463685247404782,3.1021601227257065,289.43856996047788,0.90048496788838761,0.90048496788838761,{"$error":"#N/A"},-1.4085668760555734,-0.14085668760555733,{"$f":"IF(($Y$2+$Y$3*$I545+$Y$4*$I545^2)>1,1,($Y$2+$Y$3*$I545+$Y$4*$I545^2))","v":0.80335483687017506},321.34193474807,252.05790767385722,0.78439157924243219]
[389,{"$f":"Budget!$M$19","v":3.2311785311999999},2.3916933554221713,3.1474849534073996,289.35487638268529,0.90022458514561321,0.90022458514561321,{"$error":"#N/A"},-1.4088523977967498,-0.14088523977967499,0.80335163493769313,321.34065397507726,251.21842249807941,0.78178225938870327]
[390,{"$f":"Budget!$M$19","v":3.2311785311999999},2.4384759286358757,3.194267526621104,289.31796537810641,0.90010974970824387,0.90010974970824387,{"$error":"#N/A"},-1.4077875289447093,-0.14077875289447092,0.80336357665578173,321.34543066231271,250.4257198955153,0.77930381452561026]
[391,{"$f":"Budget!$M$19","v":3.2311785311999999},2.4867054024005255,3.2424970003857538,289.32928384729217,0.90014496309173553,0.90014496309173553,{"$error":"#N/A"},-1.4053725896527851,-0.14053725896527852,0.80339065777797436,321.35626311118972,{"$f":"IF(($C548-$B548>=0),IF($M547-$B548+$C548>$L548,$L548,$M547-$B548+$C548),IF($M547<$L548,IF($M547-$B548+$C548<0,0,$M547-$B548+$C548),IF($L548-$B548+$C548<0,0,$L548-$B548+$C548)))","v":249.68124676671584},0.7769608855587351]
[392,{"$f":"Budget!$M$19","v":3.2311785311999999},2.5363705863585664,3.2921621843437947,289.39026750043598,0.90033469199673399,0.90033469199673399,{"$error":"#N/A"},-1.4016081964612681,-0.14016081964612681,0.80343286990277296,321.37314796110917,248.98643882187443,0.77475806675673298]
[393,{"$f":"Budget!$M$19","v":3.2311785311999999},2.587459943393037,3.3432515413782653,289.50234051061426,0.90068336723025699,0.90068336723025699,{"$error":"#N/A"},-1.3964952622035867,-0.13964952622035867,0.80349020047651021,321.3960801906041,248.34272023406749,0.77269990376605624]
[394,{"$f":"Budget!$M$19","v":3.2311785311999999},2.639961591292399,3.3957531892776274,289.6669151686919,0.90119538263205545,0.90119538263205545,{"$error":"#N/A"},-1.3900349958776985,-0.13900349958776986,0.80356263279751283,321.42505311900516,247.7515032941599,0.7707908916559526]
[395,{"$f":"Budget!$M$19","v":3.2311785311999999},2.6938633044744846,3.449654902459713,289.88539153995163,0.90187509400633792,0.90187509400633792,{"$error":"#N/A"},-1.3822289024737984,-0.13822289024737985,0.80365014602166507,321.46005840866604,247.21418806743441,0.76903547299539066]
[396,{"$f":"Budget!$M$19","v":3.2311785311999999},2.7491525157575096,3.504944113742738,290.15915712249438,0.90272681805900523,0.90272681805900523,{"$error":"#N/A"},-1.3730787827650204,-0.13730787827650204,0.80375271516929103,321.50108606771641,246.73216205199193,0.76743803596366011]
[397,{"$f":"Budget!$M$19","v":3.2311785311999999},2.805816318191114,3.5616079161763423,290.48958650747073,0.90375483134058143,0.90375483134058143,{"$error":"#N/A"},-1.362586733059544,-0.1362586733059544,0.80387031113337426,321.54812445334971,246.30679983898307,0.76600291249628272]
[398,{"$f":"Budget!$M$19","v":3.2311785311999999},2.8638414669335588,3.6196330649187871,290.87804104118953,0.90496336919498577,0.90496336919498577,{"$error":"#N/A"},-1.3507551449117159,-0.13507551449117158,0.80400290068913438,321.60116027565374,245.93946277471665,0.76473437646777997]
[399,{"$f":"Budget!$M$19","v":3.2311785311999999},2.9232143811850846,3.6790059791703129,291.32586848915986,0.9063566247143181,0.9063566247143181,{"$error":"#N/A"},-1.337586704792642,-0.13375867047926421,0.80415044650495171,321.6601786019807,245.63149862470175,0.76363664191284264]
[400,{"$f":"Budget!$M$19","v":3.2311785311999999},2.9839211461753847,3.7397127441606131,291.83440270212049,0.90793874769982941,0.90793874769982941,{"$error":"#N/A"},-1.3230843937253667,-0.13230843937253667,0.80431290715457715,321.72516286183088,245.38424123967715,0.7627138612874389]
[401,{"$f":"Budget!$M$19","v":3.2311785311999999},3.0459475152020103,3.8017391131872387,292.40496328410774,0.9097138436292328,0.9097138436292328,{"$error":"#N/A"},-1.3072514868757708,-0.13072514868757709,0.80449023713071965,321.79609485228787,245.19901022367918,0.7619701237711769]
[402,{"$f":"Budget!$M$19","v":3.2311785311999999},3.1092789117231177,3.865070509708346,293.0388552626161,0.91168597263052564,0.91168597263052564,{"$error":"#N/A"},-1.2900915531083967,-0.12900915531083967,0.8046823868599019,321.87295474396075,245.07711060420232,0.76140945361238266]
[403,{"$f":"Budget!$M$19","v":3.2311785311999999},3.1739004315004649,3.9296920294856932,293.7373687609018,0.91385914846247951,0.91385914846247951,{"$error":"#N/A"},-1.2716084544983346,-0.12716084544983347,0.80488930271867609,321.95572108747047,245.0198325045028,0.76103580851708064]
[404,{"$f":"Budget!$M$19","v":3.2311785311999999},3.2397968447999346,3.9955884427851629,294.50177867248698,0.91623733750197534,0.91623733750197534,{"$error":"#N/A"},-1.2518063458088022,-0.12518063458088022,0.80511092705108123,322.0443708204325,245.02845081810275,0.76085307808322855]
[405,{"$f":"Budget!$M$19","v":3.2311785311999999},3.306952598641169,4.0627441966263973,295.33334433791339,0.91882445773833787,0.91882445773833787,{"$error":"#N/A"},-1.2306896739250703,-0.12306896739250704,0.80534719818744249,322.138879274977,245.10422488554394,0.76086508228124661]
[406,{"$f":"Budget!$M$19","v":3.2311785311999999},3.3753518191033662,4.1311434170885946,296.233309223802,0.92162437777484418,0.92162437777484418,{"$error":"#N/A"},-1.2082631772506147,-0.12082631772506147,0.80559805046443178,322.23922018577269,245.24839817344733,0.76107556998201609]
[407,{"$f":"Budget!$M$19","v":3.2311785311999999},3.4449783136804171,4.2007699116656454,297.20290060426765,0.92464091583755881,0.92464091583755881,{"$error":"#N/A"},-1.1845318850651267,-0.11845318850651268,0.80586341424638652,322.34536569855459,245.46219795592776,0.76148821753334872]
[408,{"$f":"Budget!$M$19","v":3.2311785311999999},3.5158155736912931,4.2716071716765214,298.24332924474419,0.9278778387916683,0.9278778387916683,{"$error":"#N/A"},-1.1595011168389249,-0.11595011168389249,0.8061432159479367,322.45728637917466,245.74683499841908,0.76210662738582857]
[409,{"$f":"Budget!$M$19","v":3.2311785311999999},3.5878467767445499,4.3436383747297782,299.35578908827398,0.93133886116548259,0.93133886116548259,{"$error":"#N/A"},-1.1331764815145675,-0.11331764815145676,0.80643737805780646,322.57495122312258,246.10350324396364,0.76293432676902362]
[410,{"$f":"Budget!$M$19","v":3.2311785311999999},3.661054789253535,4.4168463872387633,300.54145694431276,0.93502764418226281,0.93502764418226281,{"$error":"#N/A"},-1.1055638767413427,-0.11055638767413428,0.80674581916393895,322.69832766557556,246.5333795020172,0.76397476641871243]
[411,{"$f":"Budget!$M$19","v":3.2311785311999999},3.7354221690048006,4.4912137669900289,301.8014921801028,0.93894779480003843,0.93894779480003843,{"$error":"#N/A"},-1.0766694880774992,-0.10766694880774992,0.80706845397976612,322.82738159190643,247.03762313982202,0.76523131935601418]
[412,{"$f":"Budget!$M$19","v":3.2311785311999999},3.8109311677799496,4.5667227657651779,303.13703641466799,0.94310286475958172,0.94310286475958172,{"$error":"#N/A"},-1.0464997881481395,-0.10464997881481396,0.80740519337174277,322.96207734869711,247.61737577640199,0.76670727971895403]
[413,{"$f":"Budget!$M$19","v":3.2311785311999999},3.8875637340343245,4.6433553320195529,304.54921321548755,0.94749634964071683,0.94749634964071683,{"$error":"#N/A"},-1.0150615357632944,-0.10150615357632944,0.80775594438808396,323.10237775523359,248.27376097923633,0.76840586164709768]
[414,{"$f":"Budget!$M$19","v":3.2311785311999999},3.9653015156200353,4.7210931136052636,306.03912779789283,0.95213168792709946,0.95213168792709946,{"$error":"#N/A"},-0.98236177500490385,-9.8236177500490393E-2,0.80812061028858873,323.24824411543551,249.00788396365638,0.77033019821983295]
[415,{"$f":"Budget!$M$19","v":3.2311785311999999},4.0441258625699223,4.7999174605551502,307.60786672724799,0.95701226007965867,0.95701226007965867,{"$error":"#N/A"},-0.94840783426042208,-9.4840783426042213E-2,0.80849909057578928,323.39963623031571,249.82083129502632,0.77248334044850708]
[416,{"$f":"Budget!$M$19","v":3.2311785311999999},4.1240178299301764,4.8798094279154043,309.25649762396341,0.96214138761885049,0.96214138761885049,{"$error":"#N/A"},-0.91320732522862613,-9.1320732522862616E-2,0.80889128102711905,323.55651241084763,250.71367059375652,0.7748682563230368]
[417,{"$f":"Budget!$M$19","v":3.2311785311999999},4.2049581806504879,4.9607497786357158,310.98606887139914,0.96752233221590433,0.96752233221590433,{"$error":"#N/A"},-0.87676814188353092,-8.7676814188353103E-2,0.80929707372824355,323.71882949129741,251.68745024320702,0.77748782991312892]
[418,{"$f":"Budget!$M$19","v":3.2311785311999999},4.2869273885201213,5.0427189865053492,312.7976093267045,0.97315829479320326,0.97315829479320326,{"$error":"#N/A"},-0.8390984593926305,-8.3909845939263053E-2,0.80971635710757905,323.88654284303163,252.74319910052716,0.78034486052425034]
[419,{"$f":"Budget!$M$19","v":3.2311785311999999},4.369905641162882,5.1256972391481099,314.69212803465263,0.97905241463398174,0.97905241463398174,{"$error":"#N/A"},-0.8002067330053535,-8.0020673300535361E-2,0.81014901597180244,324.05960638872097,253.88192621049006,0.78344206190866539]
[420,{"$f":"Budget!$M$19","v":3.2311785311999999},4.4538728430818768,5.2096644410671047,316.67061394451974,0.98520776850149705,0.98520776850149705,{"$error":"#N/A"},-0.7601016968930594,-7.6010169689305948E-2,0.81059493154254392,324.23797261701759,255.10462052237196,0.7867820615313792]
[421,{"$f":"Budget!$M$19","v":3.2311785311999999},4.5388086187618004,5.2946002167470283,318.73403563006678,0.99162736976785126,0.99162736976785126,{"$error":"#N/A"},-0.71879236295725946,-7.1879236295725943E-2,0.81105398149405827,324.42159259762332,256.41225060993378,0.79036739989116322]
[422,{"$f":"Budget!$M$19","v":3.2311785311999999},4.6246923158169242,5.3804839138021521,320.88334101266895,0.99831416755260793,0.99831416755260793,{"$error":"#N/A"},-0.6762880195906007,-6.762880195906007E-2,0.81152603999202577,324.61041599681033,257.80576439455069,0.79420052989637868]
[423,{"$f":"Budget!$M$19","v":3.2311785311999999},4.7115030082004754,5.4672946061857033,321.42521006119995,1,1,{"$error":"#N/A"},-0.63259823040846186,-6.3259823040846194E-2,0.81201097773326558,324.80439109330621,259.28608887155116,0.7982838162956557]
[424,{"$f":"Budget!$M$19","v":3.2311785311999999},4.7992194994556261,5.555011097440854,321.42521006119995,1,1,{"$error":"#N/A"},-0.58773283292933343,-5.8773283292933347E-2,0.81250866198658478,325.00346479463389,260.85412983980677,0.80261953516291784]
[425,{"$f":"Budget!$M$19","v":3.2311785311999999},4.887820326036513,5.6436119240217408,321.42521006119995,1,1,{"$error":"#N/A"},-0.54170193722566751,-5.4170193722566755E-2,0.81301895663449997,325.20758265379999,262.51077163464328,0.80720987343674377]
[426,{"$f":"Budget!$M$19","v":3.2311785311999999},4.9772837606633633,5.7330753586485912,321.42521006119995,1,1,{"$error":"#N/A"},-0.49451592452948034,-4.9451592452948036E-2,0.81354172221598509,325.41668888639401,264.25687686410663,0.812056928513464]
[427,{"$f":"Budget!$M$19","v":3.2311785311999999},5.067587815743531,5.8233794137287589,321.42521006119995,1,1,{"$error":"#N/A"},-0.44618544580222874,-4.461854458022288E-2,0.81407681597011838,325.63072638804738,266.09328614865018,0.81716270789370271]
[428,{"$f":"Budget!$M$19","v":3.2311785311999999},5.1587102468413324,5.9145018448265603,321.42521006119995,1,1,{"$error":"#N/A"},-0.39672142026199708,-3.967214202619971E-2,0.81462409188068363,325.84963675227345,268.02081786429153,0.82252912888177876]
[429,{"$f":"Budget!$M$19","v":3.2311785311999999},5.2506285562012582,6.0064201541864861,321.42521006119995,1,1,{"$error":"#N/A"},-0.34613503387208766,-3.4613503387208769E-2,0.8151834007216574,326.07336028866297,270.04026788929281,0.82815801833745095]
[430,{"$f":"Budget!$M$19","v":3.2311785311999999},5.34331999632081,6.0991115943060379,321.42521006119995,1,1,{"$error":"#N/A"},-0.29443773779522076,-2.9443773779522078E-2,0.81575459010351259,326.30183604140501,272.15240935441363,0.83405111247942765]
[431,{"$f":"Budget!$M$19","v":3.2311785311999999},5.4367615735859491,6.192553171571177,321.42521006119995,1,1,{"$error":"#N/A"},-0.2416412467953819,-2.4164124679538192E-2,0.81633750452051268,326.5350018082051,274.3579923967996,0.84021005673979055]
[432,{"$f":"Budget!$M$19","v":3.2311785311999999},5.5309300519454556,6.2867216499306835,321.42521006119995,1,1,{"$error":"#N/A"},-0.18775753761877922,-1.8775753761877925E-2,0.81693198539862799,326.77279415945122,276.65774391754508,0.84663640566891218]
[433,{"$f":"Budget!$M$19","v":3.2311785311999999},5.6258019566532713,6.3815935546384992,321.42521006119995,1,1,{"$error":"#N/A"},-0.13279884731750258,-1.3279884731750258E-2,0.81753787114444754,327.01514845777899,279.05236734299837,0.85333162288971731]
[434,{"$f":"Budget!$M$19","v":3.2311785311999999},5.7213535780485874,6.4771451760338152,321.42521006119995,1,1,{"$error":"#N/A"},-7.67776715463242E-2,-7.67776715463242E-3,0.81815499719472917,327.26199887789164,281.54254238984697,0.86029708110074965]
[435,{"$f":"Budget!$M$19","v":3.2311785311999999},5.8175609754061899,6.5733525733914178,321.42521006119995,1,1,{"$error":"#N/A"},-1.970676281362671E-2,-1.9706762813626712E-3,0.81878319606677108,327.51327842670844,284.12892483405318,0.86753406212699891]
[436,{"$f":"Budget!$M$19","v":3.2311785311999999},5.9143999808211394,6.6701915788063673,321.42521006119995,1,1,{"$error":"#N/A"},3.8400871306492945E-2,3.8400871306492946E-3,0.81942229740950179,327.76891896380073,286.81214628367434,0.87504375701757819]
[437,{"$f":"Budget!$M$19","v":3.2311785311999999},6.0118462031612072,6.7676378011464351,321.42521006119995,1,1,{"$error":"#N/A"},9.7531969997191936E-2,9.753196999719195E-3,0.820072128055222,328.0288512220888,289.59281395563556,0.88282726618936791]
[438,{"$f":"Budget!$M$19","v":3.2311785311999999},6.1098750320672881,6.865666630052516,321.42521006119995,1,1,{"$error":"#N/A"},0.15767302106874581,1.5767302106874583E-2,0.82073251207210196,328.29300482884076,292.47151045650287,0.89088559961545988]
[439,{"$f":"Budget!$M$19","v":3.2311785311999999},6.2084616420024705,6.9642532399876984,321.42521006119995,1,1,{"$error":"#N/A"},0.21881026285950611,2.1881026285950612E-2,0.8214032708172333,328.56130832689331,295.44879356730536,0.89921967705752026]
[440,{"$f":"Budget!$M$19","v":3.2311785311999999},6.3075809963602243,7.0633725943454522,321.42521006119995,1,1,{"$error":"#N/A"},0.28092968618273062,2.8092968618273064E-2,0.82208422299037387,328.83368919614952,298.5251960324656,0.90783032834082611]
[441,{"$f":"Budget!$M$19","v":3.2311785311999999},6.4072078516257935,7.1629994496110214,321.42521006119995,1,1,{"$error":"#N/A"},0.34401703630985025,3.4401703630985027E-2,0.82277518468825117,329.11007387530049,301.70122535289141,0.91671829367096713]
[442,{"$f":"Budget!$M$19","v":3.2311785311999999},6.5073167615846561,7.263108359569884,321.42521006119995,1,1,{"$error":"#N/A"},0.40805781499449267,4.0805781499449273E-2,0.82347596945944801,329.3903877837792,304.97736358327609,0.92588422399099124]
[443,{"$f":"Budget!$M$19","v":3.2311785311999999},6.6078820815869168,7.3636736795721447,321.42521006119995,1,1,{"$error":"#N/A"},0.47303728253376676,4.7303728253376677E-2,0.82418638835980174,329.6745553439207,308.35406713366302,0.93532868137786407]
[444,{"$f":"Budget!$M$19","v":3.2311785311999999},6.7088779728676347,7.4646695708528625,321.42521006119995,1,1,{"$error":"#N/A"},0.53894045987183858,5.3894045987183864E-2,0.82490625000834694,329.96250000333879,311.83176657533068,0.94505213947698707]
[445,{"$f":"Budget!$M$19","v":3.2311785311999999},6.8102784069189912,7.5660700049042191,321.42521006119995,1,1,{"$error":"#N/A"},0.6057521307410525,6.0575213074105252E-2,0.82563536064372023,330.25414425748806,315.41086645104969,0.95505498397359834]
[446,{"$f":"Budget!$M$19","v":3.2311785311999999},6.9120571699083886,7.6678487678936165,321.42521006119995,1,1,{"$error":"#N/A"},0.67345684384142146,6.7345684384142152E-2,0.82637352418100785,330.54940967240316,319.09174508975809,0.96533751309978022]
[447,{"$f":"Budget!$M$19","v":3.2311785311999999},7.0141878671649867,7.7699794651502145,321.42521006119995,1,1,{"$error":"#N/A"},0.74203891506576269,7.4203891506576275E-2,0.82712054226908893,330.84821690763556,322.8747544257231,0.97589993817576337]
[448,{"$f":"Budget!$M$19","v":3.2311785311999999},7.1166439276973907,7.8724355256826186,321.42521006119995,1,1,{"$error":"#N/A"},0.81148242975444873,8.1148242975444873E-2,0.82787621434826864,331.15048573930744,326.76021982222051,0.98674238418438232]
[449,{"$f":"Budget!$M$19","v":3.2311785311999999},7.219398608786145,7.9751902067713729,321.42521006119995,1,1,{"$error":"#N/A"},0.88177124499455317,8.817712449945532E-2,0.82864033770833712,331.45613508333486,330.74843989980667,0.99786489037727344]
[450,{"$f":"Budget!$M$19","v":3.2311785311999999},{"$f":"IF($D607-ABS($B$891)<0,0,$D607-ABS($B$891))","v":7.3224250006173808},{"$f":"($I$154*$A607^6)+($J$154*$A607^5)+($K$154*$A607^4)+($L$154*$A607^3)+($M$154*$A607^2)+($N$154*$A607^1)+$O$154","v":8.0782165986026087},{"$f":"IF(($E606-$B607+$D607>$E$157),$E$157,IF($E606-$B607+$D607<0,0,$E606-$B607+$D607))","v":321.42521006119995},{"$f":"E607/$E$157","v":1},{"$f":"IF(F607<=0.5,NA(),F607)","v":1},{"$f":"IF(F607>0.5,NA(),F607)","v":{"$error":"#N/A"}},{"$f":"($Q$154*$A607^6)+($R$154*$A607^5)+($S$154*$A607^4)+($T$154*$A607^3)+($U$154*$A607^2)+($V$154*$A607^1)+$W$154","v":0.95288899196626176},{"$f":"I607*0.1","v":9.5288899196626184E-2},0.82941270754705176,{"$f":"$C$6*K607","v":331.76508301882069},331.76508301882069,{"$f":"M607/L607","v":1}]
[{"$f":"A607+1","v":451},{"$f":"Budget!$M$19","v":3.2311785311999999},7.4256960309712614,8.1814876289564893,321.42521006119995,1,1,{"$error":"#N/A"},1.0248190783097471,0.10248190783097472,0.83019311702872878,332.07724681149153,332.07724681149153,1]
[452,{"$f":"Budget!$M$19","v":3.2311785311999999},7.5291844699611321,8.28497606794636,321.42521006119995,1,1,{"$error":"#N/A"},1.0975446905532351,0.10975446905532352,{"$f":"IF(($Y$2+$Y$3*$I609+$Y$4*$I609^2)>1,1,($Y$2+$Y$3*$I609+$Y$4*$I609^2))","v":0.83098135734335132},332.39254293734052,332.39254293734052,1]
[453,{"$f":"Budget!$M$19","v":3.2311785311999999},7.6328629348331507,8.3886545328183786,321.42521006119995,1,1,{"$error":"#N/A"},1.171048796560342,0.11710487965603421,0.83177721776571545,332.71088710628618,332.71088710628618,1]
[454,{"$f":"Budget!$M$19","v":3.2311785311999999},7.7367038948104838,8.4924954927957117,321.42521006119995,1,1,{"$error":"#N/A"},1.2453141480380623,0.12453141480380624,0.83258048571503063,333.03219428601227,333.03219428601227,1]
[455,{"$f":"Budget!$M$19","v":3.2311785311999999},7.8406796759957107,8.5964712739809386,321.42521006119995,1,1,{"$error":"#N/A"},1.3203232830605032,0.13203232830605033,0.83339094681445924,333.35637872578371,{"$f":"IF(($C612-$B612>=0),IF($M611-$B612+$C612>$L612,$L612,$M611-$B612+$C612),IF($M611<$L612,IF($M611-$B612+$C612<0,0,$M611-$B612+$C612),IF($L612-$B612+$C612<0,0,$L612-$B612+$C612)))","v":333.35637872578371},1]
[456,{"$f":"Budget!$M$19","v":3.2311785311999999},7.9447624663259777,8.7005540643112056,321.42521006119995,1,1,{"$error":"#N/A"},1.3960585286542937,0.13960585286542937,0.83420838495106553,333.6833539804262,333.6833539804262,1]
[457,{"$f":"Budget!$M$19","v":3.2311785311999999},8.0489243205765835,8.8047159185618113,321.42521006119995,1,1,{"$error":"#N/A"},1.4725020034032923,0.14725020034032923,0.83503258233568356,334.01303293427344,334.01303293427344,1]
[458,{"$f":"Budget!$M$19","v":3.2311785311999999},8.1531371654250453,8.9089287634102732,321.42521006119995,1,1,{"$error":"#N/A"},1.5496356201146853,0.15496356201146855,0.83586331956313287,334.34532782525315,334.34532782525315,1]
[459,{"$f":"Budget!$M$19","v":3.2311785311999999},8.2573728045599584,9.0131644025451862,321.42521006119995,1,1,{"$error":"#N/A"},1.6274410885021666,0.16274410885021667,0.83670037567227151,334.68015026890862,334.68015026890862,1]
[460,{"$f":"Budget!$M$19","v":3.2311785311999999},8.3616029238503362,9.1173945218355641,321.42521006119995,1,1,{"$error":"#N/A"},1.7058999179256773,0.17058999179256773,0.83754352820628697,335.01741128251479,335.01741128251479,1]
[461,{"$f":"Budget!$M$19","v":3.2311785311999999},8.4657990965613354,9.2215906945465633,321.42521006119995,1,1,{"$error":"#N/A"},1.7849934201590543,0.17849934201590545,0.83839255327288298,335.3570213091532,335.3570213091532,1]
[462,{"$f":"Budget!$M$19","v":3.2311785311999999},8.5699327886295524,9.3257243866147803,321.42521006119995,1,1,{"$error":"#N/A"},1.8647027122052577,0.18647027122052579,0.83924722560455067,335.69889024182027,335.69889024182027,1]
[463,{"$f":"Budget!$M$19","v":3.2311785311999999},8.6739753639837947,9.4297669619690225,321.42521006119995,1,1,{"$error":"#N/A"},1.9450087191464434,0.19450087191464435,0.84010731861875232,336.04292744750092,336.04292744750092,1]
[464,{"$f":"Budget!$M$19","v":3.2311785311999999},8.7778980899270156,9.5336896879122435,321.42521006119995,1,1,{"$error":"#N/A"},2.0258921770358143,0.20258921770358143,0.84097260447806987,336.38904179122795,336.38904179122795,1]
[465,{"$f":"Budget!$M$19","v":3.2311785311999999},8.881672142563497,9.6374637405487249,321.42521006119995,1,1,{"$error":"#N/A"},2.1073336358255688,0.2107333635825569,0.84184285415022375,336.73714166008949,336.73714166008949,1]
[466,{"$f":"Budget!$M$19","v":3.2311785311999999},8.9852686122858305,9.7410602102710584,321.42521006119995,1,1,{"$error":"#N/A"},2.1893134623376511,0.21893134623376512,0.84271783746800921,337.08713498720368,337.08713498720368,1]
[467,{"$f":"Budget!$M$19","v":3.2311785311999999},9.0886585093135128,9.8444501072987407,321.42521006119995,1,1,{"$error":"#N/A"},2.2718118432738947,0.22718118432738948,0.84359732318908498,337.438929275634,337.438929275634,1]
[468,{"$f":"Budget!$M$19","v":3.2311785311999999},9.1918127692713316,9.9476043672565595,321.42521006119995,1,1,{"$error":"#N/A"},2.3548087882636537,0.23548087882636537,0.84448107905556447,337.79243162222576,337.79243162222576,1]
[469,{"$f":"Budget!$M$19","v":3.2311785311999999},9.2947022588493784,10.050493856834606,321.42521006119995,1,1,{"$error":"#N/A"},2.4382841329498603,0.24382841329498606,0.84536887185339482,338.14754874135792,338.14754874135792,1]
[470,{"$f":"Budget!$M$19","v":3.2311785311999999},9.3972977814867082,10.153089379471936,321.42521006119995,1,1,{"$error":"#N/A"},2.5222175421208135,0.25222175421208137,0.84626046747157246,338.50418698862899,338.50418698862899,1]
[471,{"$f":"Budget!$M$19","v":3.2311785311999999},9.4995700831236665,10.255361681108894,321.42521006119995,1,1,{"$error":"#N/A"},2.6065885128696493,0.26065885128696492,0.84715563096097657,338.86225238439062,338.86225238439062,1]
[472,{"$f":"Budget!$M$19","v":3.2311785311999999},9.6014898580001447,10.357281455985373,321.42521006119995,1,1,{"$error":"#N/A"},2.6913763778090072,0.26913763778090072,0.84805412659308843,339.22165063723537,339.22165063723537,1]
[473,{"$f":"Budget!$M$19","v":3.2311785311999999},9.7030277545220489,10.458819352507277,321.42521006119995,1,1,{"$error":"#N/A"},2.7765603083137194,0.27765603083137197,0.84895571791827718,339.58228716731088,339.58228716731088,1]
[474,{"$f":"Budget!$M$19","v":3.2311785311999999},9.8041543811543708,10.559945979139599,321.42521006119995,1,1,{"$error":"#N/A"},2.8621193177994826,0.28621193177994825,0.84986016782371654,339.9440671294866,339.9440671294866,1]
[475,{"$f":"Budget!$M$19","v":3.2311785311999999},9.9048403123924746,10.660631910377703,321.42521006119995,1,1,{"$error":"#N/A"},2.9480322650565256,0.29480322650565255,0.85076723859110337,340.30689543644132,340.30689543644132,1]
[476,{"$f":"Budget!$M$19","v":3.2311785311999999},10.005056094767037,10.760847692752264,321.42521006119995,1,1,{"$error":"#N/A"},3.0342778576080605,0.30342778576080609,0.85167669195383555,340.67067678153421,340.67067678153421,1]
[477,{"$f":"Budget!$M$19","v":3.2311785311999999},10.104772252922652,10.86056385090788,321.42521006119995,1,1,{"$error":"#N/A"},3.1208346551165107,0.31208346551165111,0.85258828915386764,341.03531566154703,341.03531566154703,1]
[478,{"$f":"Budget!$M$19","v":3.2311785311999999},10.203959295726685,10.959750893711913,321.42521006119995,1,1,{"$error":"#N/A"},3.2076810728226519,0.32076810728226524,0.85350179099806278,341.40071639922513,341.40071639922513,1]
[479,{"$f":"Budget!$M$19","v":3.2311785311999999},10.302587722447237,11.058379320432465,321.42521006119995,1,1,{"$error":"#N/A"},3.294795385031307,0.32947953850313072,0.85441695791415928,341.7667831656637,341.7667831656637,1]
[480,{"$f":"Budget!$M$19","v":3.2311785311999999},10.400628028977275,11.156419626962503,321.42521006119995,1,1,{"$error":"#N/A"},3.3821557286302948,0.3382155728630295,0.85533355000619138,342.13342000247656,342.13342000247656,1]
[481,{"$f":"Budget!$M$19","v":3.2311785311999999},10.498050714117193,11.253842312102421,321.42521006119995,1,1,{"$error":"#N/A"},3.4697401066553653,0.34697401066553657,0.85625132710947272,342.50053084378908,342.50053084378908,1]
[482,{"$f":"Budget!$M$19","v":3.2311785311999999},10.594826285899666,11.350617883884894,321.42521006119995,1,1,{"$error":"#N/A"},3.5575263918869382,0.35575263918869382,0.85717004884497239,342.86801953798897,342.86801953798897,1]
[483,{"$f":"Budget!$M$19","v":3.2311785311999999},10.690925267980669,11.446716865965897,321.42521006119995,1,1,{"$error":"#N/A"},3.6454923304875422,0.36454923304875425,0.85808947467315477,343.23578986926191,343.23578986926191,1]
[484,{"$f":"Budget!$M$19","v":3.2311785311999999},10.786318206077562,11.54210980406279,321.42521006119995,1,1,{"$error":"#N/A"},3.733615545689986,0.37336155456899861,0.85900936394736738,343.60374557894693,343.60374557894693,1]
[485,{"$f":"Budget!$M$19","v":3.2311785311999999},10.880975674449923,11.636767272435151,321.42521006119995,1,1,{"$error":"#N/A"},3.8218735415075287,0.38218735415075289,0.85992947596645408,343.97179038658163,343.97179038658163,1]
[486,{"$f":"Budget!$M$19","v":3.2311785311999999},10.974868282457686,11.730659880442914,321.42521006119995,1,1,{"$error":"#N/A"},3.9102437064949243,0.39102437064949247,0.86084957002687712,344.33982801075086,344.33982801075086,1]
[487,{"$f":"Budget!$M$19","v":3.2311785311999999},11.067966681146567,11.823758279131795,321.42521006119995,1,1,{"$error":"#N/A"},3.998703317548177,0.39987033175481773,0.86176940547419978,344.7077621896799,344.7077621896799,1]
[488,{"$f":"Budget!$M$19","v":3.2311785311999999},11.160241569906924,11.916033167892152,321.42521006119995,1,1,{"$error":"#N/A"},4.0872295437396247,0.4087229543739625,0.86268874175387722,345.07549670155089,345.07549670155089,1]
[489,{"$f":"Budget!$M$19","v":3.2311785311999999},11.251663703166736,12.007455301151964,321.42521006119995,1,1,{"$error":"#N/A"},4.1757994501930398,0.41757994501930401,0.86360733846138427,345.44293538455372,345.44293538455372,1]
[490,{"$f":"Budget!$M$19","v":3.2311785311999999},11.342203897155281,12.097995495140509,321.42521006119995,1,1,{"$error":"#N/A"},4.2643900020013916,0.4264390002001392,0.86452495539169216,345.80998215667688,345.80998215667688,1]
[491,{"$f":"Budget!$M$19","v":3.2311785311999999},11.431833036707298,12.187624634692526,321.42521006119995,1,1,{"$error":"#N/A"},4.3529780681836883,0.43529780681836883,0.86544135258803745,346.176541035215,346.176541035215,1]
[492,{"$f":"Budget!$M$19","v":3.2311785311999999},11.520522082129441,12.276313680114669,321.42521006119995,1,1,{"$error":"#N/A"},4.4415404256741908,0.44415404256741908,0.86635629038990103,346.54251615596041,346.54251615596041,1]
[493,{"$f":"Budget!$M$19","v":3.2311785311999999},11.60824207611085,12.364033674096078,321.42521006119995,1,1,{"$error":"#N/A"},4.5300537633643785,0.45300537633643789,0.86726952948038938,346.90781179215577,346.90781179215577,1]
[494,{"$f":"Budget!$M$19","v":3.2311785311999999},11.694964150688969,12.450755748674197,321.42521006119995,1,1,{"$error":"#N/A"},4.6184946861664002,0.46184946861664006,0.86818083093268161,347.27233237307263,347.27233237307263,1]
[495,{"$f":"Budget!$M$19","v":3.2311785311999999},11.780659534277897,12.536451132263124,321.42521006119995,1,1,{"$error":"#N/A"},4.7068397191380882,0.47068397191380884,0.86908995625594321,347.63598250237726,347.63598250237726,1]
[496,{"$f":"Budget!$M$19","v":3.2311785311999999},11.865299558737883,12.621091156723111,321.42521006119995,1,1,{"$error":"#N/A"},4.7950653116275817,0.47950653116275821,0.86999666744025861,347.99866697610344,347.99866697610344,1]
[497,{"$f":"Budget!$M$19","v":3.2311785311999999},11.948855666494632,12.70464726447986,321.42521006119995,1,1,{"$error":"#N/A"},4.8831478414630851,0.48831478414630852,0.87090072700083443,348.36029080033376,348.36029080033376,1]
[498,{"$f":"Budget!$M$19","v":3.2311785311999999},12.031299417735903,12.787091015721131,321.42521006119995,1,1,{"$error":"#N/A"},4.9710636191926483,0.49710636191926483,0.87180189802151309,348.72075920860522,348.72075920860522,1]
[499,{"$f":"Budget!$M$19","v":3.2311785311999999},12.112602497628808,12.868394095614036,321.42521006119995,1,1,{"$error":"#N/A"},5.0587888923484456,0.50587888923484459,0.87269994419732033,349.07997767892812,349.07997767892812,1]
[500,{"$f":"Budget!$M$19","v":3.2311785311999999},12.192736723613956,12.948528321599184,321.42521006119995,1,1,{"$error":"#N/A"},5.1462998497588615,0.51462998497588619,0.87359462987628167,349.43785195051265,349.43785195051265,1]
[501,{"$f":"Budget!$M$19","v":3.2311785311999999},12.271674052738712,13.02746565072394,321.42521006119995,1,1,{"$error":"#N/A"},5.2335726258976365,0.52335726258976367,0.87448572010038228,349.79428804015294,349.79428804015294,1]
[502,{"$f":"Budget!$M$19","v":3.2311785311999999},12.349386589054797,13.105178187040025,321.42521006119995,1,1,{"$error":"#N/A"},5.320583305273658,0.53205833052736584,0.87537298064570546,350.1491922582822,350.1491922582822,1]
[503,{"$f":"Budget!$M$19","v":3.2311785311999999},12.425846591057274,13.181638189042502,321.42521006119995,1,1,{"$error":"#N/A"},5.4073079268576407,0.54073079268576407,0.87625617806169764,350.50247122467908,350.50247122467908,1]
[504,{"$f":"Budget!$M$19","v":3.2311785311999999},12.50102647918788,13.256818077173108,321.42521006119995,1,1,{"$error":"#N/A"},5.493722488552919,0.5493722488552919,0.87713507970963367,350.85403188385345,350.85403188385345,1]
[505,{"$f":"Budget!$M$19","v":3.2311785311999999},12.574898843380874,13.330690441366102,321.42521006119995,1,1,{"$error":"#N/A"},5.5798029517009695,0.55798029517009695,0.87800945380017636,351.20378152007055,351.20378152007055,1]
[506,{"$f":"Budget!$M$19","v":3.2311785311999999},12.64743645066755,13.403228048652778,321.42521006119995,1,1,{"$error":"#N/A"},5.6655252456272365,0.56655252456272365,0.87887906943008609,351.55162777203441,351.55162777203441,1]
[507,{"$f":"Budget!$M$19","v":3.2311785311999999},12.718612252838733,13.474403850823961,321.42521006119995,1,1,{"$error":"#N/A"},5.7508652722292481,0.57508652722292486,0.87974369661809582,351.8974786472383,351.8974786472383,1]
[508,{"$f":"Budget!$M$19","v":3.2311785311999999},12.788399394141601,13.544190992126829,321.42521006119995,1,1,{"$error":"#N/A"},5.83579891060009,0.58357989106000907,0.88060310633987915,352.24124253595164,352.24124253595164,1]
[509,{"$f":"Budget!$M$19","v":3.2311785311999999},12.856771219062461,13.612562817047689,321.42521006119995,1,1,{"$error":"#N/A"},5.9203020216968412,0.59203020216968416,0.88145707056220701,352.5828282248828,352.5828282248828,1]
[510,{"$f":"Budget!$M$19","v":3.2311785311999999},12.923701280116569,13.679492878101797,321.42521006119995,1,1,{"$error":"#N/A"},6.00435045303999,0.60043504530399905,0.88230536227615242,352.92214491046099,352.92214491046099,1]
[511,{"$f":"Budget!$M$19","v":3.2311785311999999},12.989163345742549,13.744954943727777,321.42521006119995,1,1,{"$error":"#N/A"},6.0879200434625318,0.60879200434625325,0.88314775552953084,353.25910221181232,353.25910221181232,1]
[512,{"$f":"Budget!$M$19","v":3.2311785311999999},13.053131408204985,13.808923006190213,321.42521006119995,1,1,{"$error":"#N/A"},6.1709866278886238,0.61709866278886238,0.8839840254583774,353.59361018335096,353.59361018335096,1]
[513,{"$f":"Budget!$M$19","v":3.2311785311999999},13.115579691580473,13.871371289565701,321.42521006119995,1,1,{"$error":"#N/A"},6.2535260421608427,0.6253526042160843,0.88481394831765325,353.92557932706131,353.92557932706131,1]
[514,{"$f":"Budget!$M$19","v":3.2311785311999999},{"$f":"IF($D671-ABS($B$891)<0,0,$D671-ABS($B$891))","v":13.17648265977868},{"$f":"($I$154*$A671^6)+($J$154*$A671^5)+($K$154*$A671^4)+($L$154*$A671^3)+($M$154*$A671^2)+($N$154*$A671^1)+$O$154","v":13.932274257763908},{"$f":"IF(($E670-$B671+$D671>$E$157),$E$157,IF($E670-$B671+$D671<0,0,$E670-$B671+$D671))","v":321.42521006119995},{"$f":"E671/$E$157","v":1},{"$f":"IF(F671<=0.5,NA(),F671)","v":1},{"$f":"IF(F671>0.5,NA(),F671)","v":{"$error":"#N/A"}},{"$f":"($Q$154*$A671^6)+($R$154*$A671^5)+($S$154*$A671^4)+($T$154*$A671^3)+($U$154*$A671^2)+($V$154*$A671^1)+$W$154","v":6.3355141278961469},{"$f":"I671*0.1","v":0.63355141278961469},0.88563730151098641,{"$f":"$C$6*K671","v":354.25492060439456},354.25492060439456,{"$f":"M671/L671","v":1}]
[{"$f":"A671+1","v":515},{"$f":"Budget!$M$19","v":3.2311785311999999},13.235815024627749,13.991606622612977,321.42521006119995,1,1,{"$error":"#N/A"},6.4169267373982279,0.64169267373982286,0.88645386361972944,354.58154544789176,354.58154544789176,1]
[516,{"$f":"Budget!$M$19","v":3.2311785311999999},13.293551754003142,14.049343351988369,321.42521006119995,1,1,{"$error":"#N/A"},6.4977397385839026,0.64977397385839031,{"$f":"IF(($Y$2+$Y$3*$I673+$Y$4*$I673^2)>1,1,($Y$2+$Y$3*$I673+$Y$4*$I673^2))","v":0.88726341443091483},354.90536577236594,354.90536577236594,1]
[517,{"$f":"Budget!$M$19","v":3.2311785311999999},13.349668080018541,14.105459678003768,321.42521006119995,1,1,{"$error":"#N/A"},6.5779290199745901,0.6577929019974591,0.88806573496462837,355.22629398585133,355.22629398585133,1]
[518,{"$f":"Budget!$M$19","v":3.2311785311999999},13.404139507266104,14.159931105251331,321.42521006119995,1,1,{"$error":"#N/A"},6.6574704957141648,0.6657470495714165,0.88886060750041851,355.5442430001674,355.5442430001674,1]
[519,{"$f":"Budget!$M$19","v":3.2311785311999999},13.456941821100139,14.212733419085367,321.42521006119995,1,1,{"$error":"#N/A"},6.7363401106262586,0.67363401106262588,0.88964781560288442,355.85912624115377,{"$f":"IF(($C676-$B676>=0),IF($M675-$B676+$C676>$L676,$L676,$M675-$B676+$C676),IF($M675<$L676,IF($M675-$B676+$C676<0,0,$M675-$B676+$C676),IF($L676-$B676+$C676<0,0,$L676-$B676+$C676)))","v":355.85912624115377},1]
[520,{"$f":"Budget!$M$19","v":3.2311785311999999},13.508051095997866,14.263842693983094,321.42521006119995,1,1,{"$error":"#N/A"},6.8145138453106142,0.68145138453106147,0.89042714414644764,356.17085765857905,356.17085765857905,1]
[521,{"$f":"Budget!$M$19","v":3.2311785311999999},13.557443703944267,14.313235301929495,321.42521006119995,1,1,{"$error":"#N/A"},6.8919677212867896,0.68919677212867902,0.89119837933940393,356.47935173576155,356.47935173576155,1]
[522,{"$f":"Budget!$M$19","v":3.2311785311999999},13.605096322890626,14.360887920875854,321.42521006119995,1,1,{"$error":"#N/A"},6.9686778061693531,0.69686778061693533,0.89196130874710622,356.78452349884247,356.78452349884247,1]
[523,{"$f":"Budget!$M$19","v":3.2311785311999999},13.650985945256247,14.406777543241475,321.42521006119995,1,1,{"$error":"#N/A"},7.0446202188858251,0.70446202188858253,0.89271572131440857,357.08628852576345,357.08628852576345,1]
[524,{"$f":"Budget!$M$19","v":3.2311785311999999},13.695089886491127,14.450881484476355,321.42521006119995,1,1,{"$error":"#N/A"},7.1197711349295787,0.71197711349295789,0.89346140738730728,357.3845629549229,357.3845629549229,1]
[525,{"$f":"Budget!$M$19","v":3.2311785311999999},13.737385793677271,14.493177391662499,321.42521006119995,1,1,{"$error":"#N/A"},7.1941067916578163,0.71941067916578172,0.89419815873389574,357.67926349355832,357.67926349355832,1]
[526,{"$f":"Budget!$M$19","v":3.2311785311999999},13.777851654203454,14.533643252188682,321.42521006119995,1,1,{"$error":"#N/A"},7.267603493629565,0.72676034936295653,0.89492576856460049,357.97030742584019,357.97030742584019,1]
[527,{"$f":"Budget!$M$19","v":3.2311785311999999},13.816465804474314,14.572257402459542,321.42521006119995,1,1,{"$error":"#N/A"},7.3402376179777207,0.73402376179777207,0.89564403155165817,358.25761262066328,358.25761262066328,1]
[528,{"$f":"Budget!$M$19","v":3.2311785311999999},13.853206938683337,14.608998536668565,321.42521006119995,1,1,{"$error":"#N/A"},7.4119856198179832,0.74119856198179834,0.89635274384788222,358.54109753915287,358.54109753915287,1]
[529,{"$f":"Budget!$M$19","v":3.2311785311999999},13.888054117631549,14.643845715616777,321.42521006119995,1,1,{"$error":"#N/A"},7.482824037719638,0.74828240377196387,0.89705170310498528,358.82068124199412,358.82068124199412,1]
[530,{"$f":"Budget!$M$19","v":3.2311785311999999},13.920986777604407,14.676778375589635,321.42521006119995,1,1,{"$error":"#N/A"},7.5527294991730969,0.75527294991730975,0.8977407084908382,359.09628339633525,359.09628339633525,1]
[531,{"$f":"Budget!$M$19","v":3.2311785311999999},13.951984739306448,14.707776337291676,321.42521006119995,1,1,{"$error":"#N/A"},7.6216787261461718,0.76216787261461727,0.89841956070659679,359.36782428263871,359.36782428263871,1]
[532,{"$f":"Budget!$M$19","v":3.2311785311999999},13.981028216838689,14.736819814823917,321.42521006119995,1,1,{"$error":"#N/A"},7.689648540639439,0.76896485406394399,0.89908806200283586,359.63522480113437,359.63522480113437,1]
[533,{"$f":"Budget!$M$19","v":3.2311785311999999},14.008097826726265,14.763889424711493,321.42521006119995,1,1,{"$error":"#N/A"},7.7566158703119754,0.77566158703119759,0.89974601619542072,359.89840647816828,359.89840647816828,1]
[534,{"$f":"Budget!$M$19","v":3.2311785311999999},14.033174597017927,14.788966195003155,321.42521006119995,1,1,{"$error":"#N/A"},7.8225577541124949,0.78225577541124958,0.90039322868050198,360.15729147220077,360.15729147220077,1]
[535,{"$f":"Budget!$M$19","v":3.2311785311999999},14.056239976420096,14.812031574405324,321.42521006119995,1,1,{"$error":"#N/A"},7.8874513479923962,0.78874513479923969,0.9010295064494146,360.41180257976583,360.41180257976583,1]
[536,{"$f":"Budget!$M$19","v":3.2311785311999999},14.077275843489582,14.83306744147481,321.42521006119995,1,1,{"$error":"#N/A"},7.9512739306139224,0.79512739306139224,0.90165465810266054,360.66186324106422,360.66186324106422,1]
[537,{"$f":"Budget!$M$19","v":3.2311785311999999},14.096264515883144,14.852056113868372,321.42521006119995,1,1,{"$error":"#N/A"},8.0140029091365363,0.80140029091365372,0.90226849386381658,360.90739754552663,360.90739754552663,1]
[538,{"$f":"Budget!$M$19","v":3.2311785311999999},14.113188759660256,14.868980357645484,321.42521006119995,1,1,{"$error":"#N/A"},8.0756158250155181,0.80756158250155186,0.90287082559275766,361.14833023710304,361.14833023710304,1]
[539,{"$f":"Budget!$M$19","v":3.2311785311999999},14.128031798619071,14.883823396604299,321.42521006119995,1,1,{"$error":"#N/A"},8.1360903598538243,0.81360903598538248,0.90346146679862627,361.38458671945051,361.38458671945051,1]
[540,{"$f":"Budget!$M$19","v":3.2311785311999999},14.140777323731522,14.896568921716749,321.42521006119995,1,1,{"$error":"#N/A"},8.1954043412830515,0.81954043412830524,0.90404023265235012,361.61609306094005,361.61609306094005,1]
[541,{"$f":"Budget!$M$19","v":3.2311785311999999},14.151409502571591,14.907201100556819,321.42521006119995,1,1,{"$error":"#N/A"},8.2535357488993668,0.82535357488993677,0.90460693999899255,361.842775999597,361.842775999597,1]
[542,{"$f":"Budget!$M$19","v":3.2311785311999999},14.159912988843184,14.915704586828411,321.42521006119995,1,1,{"$error":"#N/A"},8.3104627202240522,0.83104627202240522,0.90516140736967909,362.06456294787165,362.06456294787165,1]
[543,{"$f":"Budget!$M$19","v":3.2311785311999999},14.166272931943007,14.922064529928235,321.42521006119995,1,1,{"$error":"#N/A"},8.3661635567099779,0.83661635567099779,0.90570345499334437,362.28138199733775,362.28138199733775,1]
[544,{"$f":"Budget!$M$19","v":3.2311785311999999},14.170474986578478,14.926266584563706,321.42521006119995,1,1,{"$error":"#N/A"},8.4206167297857064,0.84206167297857071,0.90623290480825913,362.49316192330366,362.49316192330366,1]
[545,{"$f":"Budget!$M$19","v":3.2311785311999999},14.17250532243292,14.928296920418148,321.42521006119995,1,1,{"$error":"#N/A"},8.4738008869441046,0.8473800886944105,0.90674958047344234,362.69983218937693,362.69983218937693,1]
[546,{"$f":"Budget!$M$19","v":3.2311785311999999},14.172350633892615,14.928142231877843,321.42521006119995,1,1,{"$error":"#N/A"},8.5256948578605716,0.85256948578605718,0.90725330737985899,362.9013229519436,362.9013229519436,1]
[547,{"$f":"Budget!$M$19","v":3.2311785311999999},14.169998149824773,14.925789747810001,321.42521006119995,1,1,{"$error":"#N/A"},8.5762776605568547,0.85762776605568547,0.90774391266159615,363.09756506463845,363.09756506463845,1]
[548,{"$f":"Budget!$M$19","v":3.2311785311999999},14.165435643401446,14.921227241386674,321.42521006119995,1,1,{"$error":"#N/A"},8.6255285076139785,0.86255285076139787,0.90822122520710091,363.28849008284038,363.28849008284038,1]
[549,{"$f":"Budget!$M$19","v":3.2311785311999999},14.158651441995739,14.914443039980966,321.42521006119995,1,1,{"$error":"#N/A"},8.6734268123946663,0.86734268123946667,0.90868507567013701,363.47403026805478,363.47403026805478,1]
[550,{"$f":"Budget!$M$19","v":3.2311785311999999},14.149634437101207,14.905426035086435,321.42521006119995,1,1,{"$error":"#N/A"},8.7199521953463091,0.87199521953463099,0.90913529648119562,363.65411859247826,363.65411859247826,1]
[551,{"$f":"Budget!$M$19","v":3.2311785311999999},14.13837409432403,14.894165692309258,321.42521006119995,1,1,{"$error":"#N/A"},8.7650844903057532,0.87650844903057534,0.90957172185864765,363.82868874345905,363.82868874345905,1]
[552,{"$f":"Budget!$M$19","v":3.2311785311999999},14.124860463430645,14.880652061415873,321.42521006119995,1,1,{"$error":"#N/A"},8.8088037508708794,0.88088037508708794,0.90999418782030994,363.997675128124,363.997675128124,1]
[553,{"$f":"Budget!$M$19","v":3.2311785311999999},14.109084188444507,14.864875786429735,321.42521006119995,1,1,{"$error":"#N/A"},8.8510902567881544,0.88510902567881544,0.91040253219498879,364.16101287799552,364.16101287799552,1]
[554,{"$f":"Budget!$M$19","v":3.2311785311999999},14.091036517775132,14.84682811576036,321.42521006119995,1,1,{"$error":"#N/A"},8.891924520412033,0.88919245204120334,0.91079659463458529,364.3186378538341,364.3186378538341,1]
[555,{"$f":"Budget!$M$19","v":3.2311785311999999},14.07070931444718,14.826500912432408,321.42521006119995,1,1,{"$error":"#N/A"},8.9312872931565721,0.89312872931565723,0.91117621662605186,364.47048665042075,364.47048665042075,1]
[556,{"$f":"Budget!$M$19","v":3.2311785311999999},14.048095066327727,14.803886664312955,321.42521006119995,1,1,{"$error":"#N/A"},8.9691595720357782,0.89691595720357786,0.91154124150417681,364.61649660167075,364.61649660167075,1]
[557,{"$f":"Budget!$M$19","v":3.2311785311999999},14.02318689644448,14.778978494429708,321.42521006119995,1,1,{"$error":"#N/A"},9.0055226062130487,0.90055226062130489,0.91189151446448757,364.75660578579505,364.75660578579505,1]
[558,{"$f":"Budget!$M$19","v":3.2311785311999999},13.995978573346742,14.75177017133197,321.42521006119995,1,1,{"$error":"#N/A"},9.0403579035987036,0.90403579035987036,0.91222688257670181,364.89075303068074,364.89075303068074,1]
[559,{"$f":"Budget!$M$19","v":3.2311785311999999},13.966464521516395,14.722256119501623,321.42521006119995,1,1,{"$error":"#N/A"},9.0736472374833852,0.90736472374833854,0.91254719479866186,365.01887791946473,365.01887791946473,1]
[560,{"$f":"Budget!$M$19","v":3.2311785311999999},13.934639831834369,14.690431429819597,321.42521006119995,1,1,{"$error":"#N/A"},9.1053726532178985,0.91053726532178991,0.91285230199091449,365.14092079636578,365.14092079636578,1]
[561,{"$f":"Budget!$M$19","v":3.2311785311999999},13.90050027208394,14.656291870069168,321.42521006119995,1,1,{"$error":"#N/A"},9.1355164749272717,0.91355164749272721,0.91314205693187278,365.2568227727491,365.2568227727491,1]
[562,{"$f":"Budget!$M$19","v":3.2311785311999999},13.864042297553619,14.619833895538846,321.42521006119995,1,1,{"$error":"#N/A"},9.1640613122671084,0.91640613122671088,0.91341631433369741,365.36652573347897,365.36652573347897,1]
[563,{"$f":"Budget!$M$19","v":3.2311785311999999},13.825263061629579,14.581054659614807,321.42521006119995,1,1,{"$error":"#N/A"},9.1909900672153526,0.91909900672153533,0.91367493085889029,365.46997234355609,365.46997234355609,1]
[564,{"$f":"Budget!$M$19","v":3.2311785311999999},13.784160426493139,14.539952024478367,321.42521006119995,1,1,{"$error":"#N/A"},9.2162859409045836,0.92162859409045839,0.91391776513770906,365.56710605508363,365.56710605508363,1]
[565,{"$f":"Budget!$M$19","v":3.2311785311999999},13.740732973846429,14.496524571831657,321.42521006119995,1,1,{"$error":"#N/A"},9.2399324404979666,0.92399324404979666,0.91414467778649477,365.65787111459792,365.65787111459792,1]
[566,{"$f":"Budget!$M$19","v":3.2311785311999999},13.694980015691266,14.450771613676494,321.42521006119995,1,1,{"$error":"#N/A"},9.2619133861001615,0.92619133861001623,0.91435553142688852,365.74221257075538,365.74221257075538,1]
[567,{"$f":"Budget!$M$19","v":3.2311785311999999},13.64690160516488,14.402693203150108,321.42521006119995,1,1,{"$error":"#N/A"},9.2822129177114903,0.92822129177114909,0.91455019070608146,365.82007628243258,365.82007628243258,1]
[568,{"$f":"Budget!$M$19","v":3.2311785311999999},13.596498547445657,14.352290145430885,321.42521006119995,1,1,{"$error":"#N/A"},9.3008155022175742,0.93008155022175742,0.91472852231808477,365.8914089272339,365.8914089272339,1]
[569,{"$f":"Budget!$M$19","v":3.2311785311999999},13.543772410669812,14.29956400865504,321.42521006119995,1,1,{"$error":"#N/A"},9.3177059404175679,0.93177059404175688,0.91489039502611469,365.95615801044585,365.95615801044585,1]
[570,{"$f":"Budget!$M$19","v":3.2311785311999999},13.488725536945816,14.244517134931044,321.42521006119995,1,1,{"$error":"#N/A"},9.3328693740942867,0.9332869374094287,0.91503567968618738,366.01427187447496,366.01427187447496,1]
[571,{"$f":"Budget!$M$19","v":3.2311785311999999},13.431361053402947,14.187152651388175,321.42521006119995,1,1,{"$error":"#N/A"},9.3462912931348114,0.93462912931348119,0.91516424927207163,366.06569970882867,366.06569970882867,1]
[572,{"$f":"Budget!$M$19","v":3.2311785311999999},13.371682883274838,14.127474481260066,321.42521006119995,1,1,{"$error":"#N/A"},9.3579575426605288,0.93579575426605288,0.91527597890127177,366.11039156050873,366.11039156050873,1]
[573,{"$f":"Budget!$M$19","v":3.2311785311999999},13.309695757076264,14.065487355061492,321.42521006119995,1,1,{"$error":"#N/A"},9.3678543302326034,0.93678543302326034,0.91537074586273914,366.14829834509567,366.14829834509567,1]
[574,{"$f":"Budget!$M$19","v":3.2311785311999999},13.245405223798111,14.001196821783338,321.42521006119995,1,1,{"$error":"#N/A"},9.3759682330697842,0.93759682330697847,0.91544842964577344,366.17937185830937,366.17937185830937,1]
[575,{"$f":"Budget!$M$19","v":3.2311785311999999},13.178817662166461,13.934609260151689,321.42521006119995,1,1,{"$error":"#N/A"},9.3822862053181666,0.93822862053181666,0.91550891197056283,366.20356478822515,366.20356478822515,1]
[576,{"$f":"Budget!$M$19","v":3.2311785311999999},13.109940291963079,13.865731889948307,321.42521006119995,1,1,{"$error":"#N/A"},9.3867955853609715,0.93867955853609719,0.91555207682031259,366.22083072812501,366.22083072812501,1]
[577,{"$f":"Budget!$M$19","v":3.2311785311999999},13.038781185386364,13.794572783371592,321.42521006119995,1,1,{"$error":"#N/A"},9.3894841031605552,0.93894841031605558,0.91557781047495912,366.23112418998363,366.23112418998363,1]
[578,{"$f":"Budget!$M$19","v":3.2311785311999999},{"$f":"IF($D735-ABS($B$891)<0,0,$D735-ABS($B$891))","v":12.965349278472781},{"$f":"($I$154*$A735^6)+($J$154*$A735^5)+($K$154*$A735^4)+($L$154*$A735^3)+($M$154*$A735^2)+($N$154*$A735^1)+$O$154","v":13.721140876458009},{"$f":"IF(($E734-$B735+$D735>$E$157),$E$157,IF($E734-$B735+$D735<0,0,$E734-$B735+$D735))","v":321.42521006119995},{"$f":"E735/$E$157","v":1},{"$f":"IF(F735<=0.5,NA(),F735)","v":1},{"$f":"IF(F735>0.5,NA(),F735)","v":{"$error":"#N/A"}},{"$f":"($Q$154*$A735^6)+($R$154*$A735^5)+($S$154*$A735^4)+($T$154*$A735^3)+($U$154*$A735^2)+($V$154*$A735^1)+$W$154","v":9.3903398876464053},{"$f":"I735*0.1","v":0.93903398876464061},0.91558600154666625,{"$f":"$C$6*K735","v":366.23440061866648},366.23440061866648,{"$f":"M735/L735","v":1}]
[{"$f":"A735+1","v":579},{"$f":"Budget!$M$19","v":3.2311785311999999},12.889654382576504,13.645445980561732,321.42521006119995,1,1,{"$error":"#N/A"},9.3893514741372428,0.9389351474137243,0.9155765410170611,366.23061640682442,366.23061640682442,1]
[580,{"$f":"Budget!$M$19","v":3.2311785311999999},12.811707195874527,13.567498793859755,321.42521006119995,1,1,{"$error":"#N/A"},9.3865078118130896,0.93865078118130896,{"$f":"IF(($Y$2+$Y$3*$I737+$Y$4*$I737^2)>1,1,($Y$2+$Y$3*$I737+$Y$4*$I737^2))","v":0.91554932227642749},366.21972891057101,366.21972891057101,1]
[581,{"$f":"Budget!$M$19","v":3.2311785311999999},12.731519314972269,13.487310912957497,321.42521006119995,1,1,{"$error":"#N/A"},9.3817982712069465,0.9381798271206947,0.91550424116463702,366.20169646585481,366.20169646585481,1]
[582,{"$f":"Budget!$M$19","v":3.2311785311999999},12.649103246505087,13.404894844490315,321.42521006119995,1,1,{"$error":"#N/A"},9.3752126517537704,0.93752126517537704,0.91544119601424701,366.17647840569879,366.17647840569879,1]
[583,{"$f":"Budget!$M$19","v":3.2311785311999999},12.564472418855752,13.32026401684098,321.42521006119995,1,1,{"$error":"#N/A"},9.3667411893839017,0.93667411893839025,0.91536008769571076,366.14403507828428,{"$f":"IF(($C740-$B740>=0),IF($M739-$B740+$C740>$L740,$L740,$M739-$B740+$C740),IF($M739<$L740,IF($M739-$B740+$C740<0,0,$M739-$B740+$C740),IF($L740-$B740+$C740<0,0,$L740-$B740+$C740)))","v":366.14403507828428},1]
[584,{"$f":"Budget!$M$19","v":3.2311785311999999},12.477641193859649,13.233432791844876,321.42521006119995,1,1,{"$error":"#N/A"},9.3563745641232572,0.93563745641232576,0.91526081966440975,366.10432786576388,366.10432786576388,1]
[585,{"$f":"Budget!$M$19","v":3.2311785311999999},12.388624878618197,13.144416476603425,321.42521006119995,1,1,{"$error":"#N/A"},9.344103907777253,0.93441039077772536,0.91514329801031125,366.0573192041245,366.0573192041245,1]
[586,{"$f":"Budget!$M$19","v":3.2311785311999999},12.297439737333656,13.053231335318884,321.42521006119995,1,1,{"$error":"#N/A"},9.3299208116116574,0.93299208116116583,0.91500743150949182,366.00297260379671,366.00297260379671,1]
[587,{"$f":"Budget!$M$19","v":3.2311785311999999},12.204103003204404,12.959894601189632,321.42521006119995,1,1,{"$error":"#N/A"},9.313817334110297,0.9313817334110297,0.91485313167835869,365.94125267134348,365.94125267134348,1]
[588,{"$f":"Budget!$M$19","v":3.2311785311999999},12.108632890373423,12.864424488358651,321.42521006119995,1,1,{"$error":"#N/A"},9.2957860087463473,0.92957860087463473,0.91468031283003259,365.87212513201302,365.87212513201302,1]
[589,{"$f":"Budget!$M$19","v":3.2311785311999999},12.01104860593818,12.766840203923408,321.42521006119995,1,1,{"$error":"#N/A"},9.2758198517950632,0.92758198517950641,0.91448889213322637,365.79555685329058,365.79555685329058,1]
[590,{"$f":"Budget!$M$19","v":3.2311785311999999},11.911370361997792,12.667161959983019,321.42521006119995,1,1,{"$error":"#N/A"},9.2539123702147208,0.92539123702147208,0.91427878967394438,365.71151586957774,365.71151586957774,1]
[591,{"$f":"Budget!$M$19","v":3.2311785311999999},11.809619387762945,12.565410985748173,321.42521006119995,1,1,{"$error":"#N/A"},9.2300575695138605,0.92300575695138609,0.91404992851928379,365.61997140771354,365.61997140771354,1]
[592,{"$f":"Budget!$M$19","v":3.2311785311999999},11.705817941723575,12.461609539708803,321.42521006119995,1,1,{"$error":"#N/A"},9.2042499617159024,0.92042499617159024,0.91380223478447109,365.52089391378843,365.52089391378843,1]
[593,{"$f":"Budget!$M$19","v":3.2311785311999999},11.599989323856102,12.35578092184133,321.42521006119995,1,1,{"$error":"#N/A"},9.1764845733183051,0.91764845733183054,0.91353563770221202,365.4142550808848,365.4142550808848,1]
[594,{"$f":"Budget!$M$19","v":3.2311785311999999},11.492157887889784,12.247949485875012,321.42521006119995,1,1,{"$error":"#N/A"},9.1467569533207893,0.91467569533207893,0.91325006969513789,365.30002787805518,365.30002787805518,1]
[595,{"$f":"Budget!$M$19","v":3.2311785311999999},11.382349053634465,12.138140651619693,321.42521006119995,1,1,{"$error":"#N/A"},9.1150631812754455,0.91150631812754457,0.91294546645095709,365.17818658038283,365.17818658038283,1]
[596,{"$f":"Budget!$M$19","v":3.2311785311999999},11.270589319348796,12.026380917334023,321.42521006119995,1,1,{"$error":"#N/A"},9.0813998753814076,0.90813998753814085,0.91262176700059683,365.04870680023873,365.04870680023873,1]
[597,{"$f":"Budget!$M$19","v":3.2311785311999999},11.156906274166653,11.912697872151881,321.42521006119995,1,1,{"$error":"#N/A"},9.0457642006198853,0.90457642006198857,0.91227891379935611,364.91156551974245,364.91156551974245,1]
[598,{"$f":"Budget!$M$19","v":3.2311785311999999},11.041328610582207,11.797120208567435,321.42521006119995,1,1,{"$error":"#N/A"},9.0081538769323402,0.9008153876932341,0.91191685281115942,364.76674112446375,364.76674112446375,1]
[599,{"$f":"Budget!$M$19","v":3.2311785311999999},10.923886136969225,11.679677734954453,321.42521006119995,1,1,{"$error":"#N/A"},8.968567187425549,0.8968567187425549,0.91153553359581552,364.6142134383262,364.6142134383262,1]
[600,{"$f":"Budget!$M$19","v":3.2311785311999999},10.804609790181042,11.560401388166269,321.42521006119995,1,1,{"$error":"#N/A"},8.9270029866399909,0.89270029866399914,0.91113490939969277,364.45396375987713,364.45396375987713,1]
[601,{"$f":"Budget!$M$19","v":3.2311785311999999},10.6835316481831,11.439323246168328,321.42521006119995,1,1,{"$error":"#N/A"},8.8834607088241455,0.88834607088241457,0.91071493724931707,364.28597489972685,364.28597489972685,1]
[602,{"$f":"Budget!$M$19","v":3.2311785311999999},10.560684942735373,11.3164765407206,321.42521006119995,1,1,{"$error":"#N/A"},8.8379403762723996,0.88379403762723996,0.91027557804850423,364.11023121940167,364.11023121940167,1]
[603,{"$f":"Budget!$M$19","v":3.2311785311999999},10.436104072156207,11.191895670141434,321.42521006119995,1,1,{"$error":"#N/A"},8.7904426077025732,0.87904426077025732,0.90981679667885373,363.92671867154149,363.92671867154149,1]
[604,{"$f":"Budget!$M$19","v":3.2311785311999999},10.309824614099819,11.065616212085047,321.42521006119995,1,1,{"$error":"#N/A"},8.7409686266661879,0.87409686266661879,0.90933856210359121,363.7354248414365,363.7354248414365,1]
[605,{"$f":"Budget!$M$19","v":3.2311785311999999},10.181883338413366,10.937674936398594,321.42521006119995,1,1,{"$error":"#N/A"},8.6895202699850529,0.86895202699850538,0.90884084747475036,363.53633898990012,363.53633898990012,1]
[606,{"$f":"Budget!$M$19","v":3.2311785311999999},10.05231822005768,10.808109818042908,321.42521006119995,1,1,{"$error":"#N/A"},8.6360999962606684,0.86360999962606688,0.90832363024419571,363.32945209767831,363.32945209767831,1]
[607,{"$f":"Budget!$M$19","v":3.2311785311999999},9.9211684520289172,10.676960050014145,321.42521006119995,1,1,{"$error":"#N/A"},8.5807108943849926,0.8580710894384993,0.90778689227784382,363.11475691113753,363.11475691113753,1]
[608,{"$f":"Budget!$M$19","v":3.2311785311999999},9.7884744584011631,10.544266056386391,321.42521006119995,1,1,{"$error":"#N/A"},8.5233566921230022,0.85233566921230031,0.90723061997381382,362.89224798952552,362.89224798952552,1]
[609,{"$f":"Budget!$M$19","v":3.2311785311999999},9.6542779073649516,10.410069505350179,321.42521006119995,1,1,{"$error":"#N/A"},8.4640417647075878,0.84640417647075883,0.9066548043839755,362.66192175359021,362.66192175359021,1]
[610,{"$f":"Budget!$M$19","v":3.2311785311999999},9.5186217243599121,10.27441332234514,321.42521006119995,1,1,{"$error":"#N/A"},8.4027711434990238,0.84027711434990238,0.90605944133944538,362.42377653577813,362.42377653577813,1]
[611,{"$f":"Budget!$M$19","v":3.2311785311999999},9.3815501052242443,10.137341703209472,321.42521006119995,1,1,{"$error":"#N/A"},8.3395505246634229,0.83395505246634238,0.90544453157963145,362.17781263185259,362.17781263185259,1]
[612,{"$f":"Budget!$M$19","v":3.2311785311999999},9.2431085294351423,9.9989001274203702,321.42521006119995,1,1,{"$error":"#N/A"},8.2743862779043411,0.8274386277904342,0.90481008088519455,361.92403235407784,361.92403235407784,1]
[613,{"$f":"Budget!$M$19","v":3.2311785311999999},9.103343773372865,9.8591353713580929,321.42521006119995,1,1,{"$error":"#N/A"},8.2072854552212675,0.82072854552212682,0.90415610021471082,361.66244008588433,361.66244008588433,1]
[614,{"$f":"Budget!$M$19","v":3.2311785311999999},8.9623039236593858,9.7180955216446137,321.42521006119995,1,1,{"$error":"#N/A"},8.1382557997246181,0.81382557997246185,0.90348260584535522,361.3930423381421,361.3930423381421,1]
[615,{"$f":"Budget!$M$19","v":3.2311785311999999},8.8200383905097741,9.575829988495002,321.42521006119995,1,1,{"$error":"#N/A"},8.0673057544689186,0.80673057544689186,0.90278961951726588,361.11584780690634,361.11584780690634,1]
[616,{"$f":"Budget!$M$19","v":3.2311785311999999},8.6765979211986295,9.4323895191838574,321.42521006119995,1,1,{"$error":"#N/A"},7.9944444713418648,0.7994444471341865,0.90207716858198417,360.83086743279364,360.83086743279364,1]
[617,{"$f":"Budget!$M$19","v":3.2311785311999999},8.5320346135296976,9.2878262115149255,321.42521006119995,1,1,{"$error":"#N/A"},7.9196818199961854,0.7919681819996186,0.90134528615487064,360.53811446194828,360.53811446194828,1]
[618,{"$f":"Budget!$M$19","v":3.2311785311999999},8.3864019293777918,9.1421935273630197,321.42521006119995,1,1,{"$error":"#N/A"},7.8430283967906007,0.78430283967906012,0.90059401127118865,360.23760450847544,360.23760450847544,1]
[619,{"$f":"Budget!$M$19","v":3.2311785311999999},8.2397547082825557,8.9955463062677836,321.42521006119995,1,1,{"$error":"#N/A"},7.7644955338189448,0.77644955338189448,0.89982338904664894,359.9293556186596,359.9293556186596,1]
[620,{"$f":"Budget!$M$19","v":3.2311785311999999},8.0921491810927026,8.8479407790779305,321.42521006119995,1,1,{"$error":"#N/A"},7.6840953079297947,0.76840953079297947,0.89903347084147611,359.61338833659045,359.61338833659045,1]
[621,{"$f":"Budget!$M$19","v":3.2311785311999999},7.9436429836548204,8.6994345816400482,321.42521006119995,1,1,{"$error":"#N/A"},7.6018405498179504,0.76018405498179509,0.89822431442880613,359.28972577152246,359.28972577152246,1]
[622,{"$f":"Budget!$M$19","v":3.2311785311999999},7.7942951705940349,8.5500867685792628,321.42521006119995,1,1,{"$error":"#N/A"},7.517744853136719,0.75177448531367197,0.8973959841669249,358.95839366676995,358.95839366676995,1]
[623,{"$f":"Budget!$M$19","v":3.2311785311999999},7.6441662290773937,8.3999578270626216,321.42521006119995,1,1,{"$error":"#N/A"},7.431822583676535,0.7431822583676535,0.89654855117579912,358.61942047031965,358.61942047031965,1]
[624,{"$f":"Budget!$M$19","v":3.2311785311999999},7.4933180927041239,8.2491096906893517,321.42521006119995,1,1,{"$error":"#N/A"},7.3440888885340883,0.73440888885340883,0.89568209351715833,358.27283740686335,358.27283740686335,1]
[625,{"$f":"Budget!$M$19","v":3.2311785311999999},7.3418141554004368,8.0976057533856647,321.42521006119995,1,1,{"$error":"#N/A"},7.2545597053847928,0.72545597053847932,0.89479669637923287,357.91867855169312,357.91867855169312,1]
[626,{"$f":"Budget!$M$19","v":3.2311785311999999},7.189719285381182,7.9455108833664099,321.42521006119995,1,1,{"$error":"#N/A"},7.1632517717361566,0.71632517717361566,0.89389245226494018,357.55698090597605,357.55698090597605,1]
[627,{"$f":"Budget!$M$19","v":3.2311785311999999},7.0370998391710717,7.7928914371562996,321.42521006119995,1,1,{"$error":"#N/A"},7.0701826342529444,0.7070182634252945,0.89296946118440002,357.18778447376002,357.18778447376002,1]
[628,{"$f":"Budget!$M$19","v":3.2311785311999999},6.884023675687752,7.6398152736729799,321.42521006119995,1,1,{"$error":"#N/A"},6.9753706581119559,0.69753706581119568,0.8920278308513524,356.81113234054095,356.81113234054095,1]
[629,{"$f":"Budget!$M$19","v":3.2311785311999999},6.7305601703294204,7.4863517683146483,321.42521006119995,1,1,{"$error":"#N/A"},6.8788350364045527,0.68788350364045536,0.89106767688363486,356.42707075345396,356.42707075345396,1]
[630,{"$f":"Budget!$M$19","v":3.2311785311999999},6.5767802291847719,7.3325718271699998,321.42521006119995,1,1,{"$error":"#N/A"},6.7805957995759627,0.67805957995759636,0.89008912300758847,356.0356492030354,356.0356492030354,1]
[631,{"$f":"Budget!$M$19","v":3.2311785311999999},6.4227563032393054,7.1785479012245332,321.42521006119995,1,1,{"$error":"#N/A"},6.6806738248805573,0.66806738248805575,0.88909230126615557,355.63692050646222,355.63692050646222,1]
[632,{"$f":"Budget!$M$19","v":3.2311785311999999},6.2685624026693976,7.0243540006546255,321.42521006119995,1,1,{"$error":"#N/A"},6.5790908459148909,0.65790908459148911,0.88807735223124973,355.23094089249992,355.23094089249992,1]
[633,{"$f":"Budget!$M$19","v":3.2311785311999999},6.1142741111686636,6.8700657091538915,321.42521006119995,1,1,{"$error":"#N/A"},6.4758694621647805,0.64758694621647805,0.88704442521972626,354.81777008789049,354.81777008789049,1]
[634,{"$f":"Budget!$M$19","v":3.2311785311999999},5.9599686003338892,6.7157601983191171,321.42521006119995,1,1,{"$error":"#N/A"},6.3710331486042833,0.63710331486042837,0.8859936785132837,354.39747140531347,354.39747140531347,1]
[635,{"$f":"Budget!$M$19","v":3.2311785311999999},5.8057246441150827,6.5615162421003106,321.42521006119995,1,1,{"$error":"#N/A"},6.2646062653228682,0.62646062653228685,0.88492527958201161,353.97011183280466,353.97011183280466,1]
[636,{"$f":"Budget!$M$19","v":3.2311785311999999},5.6516226332982686,6.4074142312834965,321.42521006119995,1,1,{"$error":"#N/A"},6.1566140671984044,0.61566140671984049,0.88383940531170402,353.53576212468158,353.53576212468158,1]
[637,{"$f":"Budget!$M$19","v":3.2311785311999999},5.4977445900560387,6.2535361880412665,321.42521006119995,1,1,{"$error":"#N/A"},6.0470827136119283,0.60470827136119287,0.88273624223483682,353.09449689393472,353.09449689393472,1]
[638,{"$f":"Budget!$M$19","v":3.2311785311999999},5.3441741825540365,6.0999657805392644,321.42521006119995,1,1,{"$error":"#N/A"},5.9360392781915721,0.59360392781915727,0.88161598676501562,352.64639470600628,352.64639470600628,1]
[639,{"$f":"Budget!$M$19","v":3.2311785311999999},5.1909967395897301,5.9467883375749579,321.42521006119995,1,1,{"$error":"#N/A"},5.8235117586179967,0.58235117586179974,0.88047884543514388,352.19153817405754,352.19153817405754,1]
[640,{"$f":"Budget!$M$19","v":3.2311785311999999},5.0382992652916645,5.7940908632768924,321.42521006119995,1,1,{"$error":"#N/A"},5.7095290864380104,0.5709529086438011,0.87932503513869587,351.73001405547836,351.73001405547836,1]
[641,{"$f":"Budget!$M$19","v":3.2311785311999999},4.8861704539169413,5.6419620519021692,321.42521006119995,1,1,{"$error":"#N/A"},5.594121136944068,0.5594121136944068,0.87815478337458897,351.26191334983559,351.26191334983559,1]
[642,{"$f":"Budget!$M$19","v":3.2311785311999999},{"$f":"IF($D799-ABS($B$891)<0,0,$D799-ABS($B$891))","v":4.7347007046091338},{"$f":"($I$154*$A799^6)+($J$154*$A799^5)+($K$154*$A799^4)+($L$154*$A799^3)+($M$154*$A799^2)+($N$154*$A799^1)+$O$154","v":5.4904923025943617},{"$f":"IF(($E798-$B799+$D799>$E$157),$E$157,IF($E798-$B799+$D799<0,0,$E798-$B799+$D799))","v":321.42521006119995},{"$f":"E799/$E$157","v":1},{"$f":"IF(F799<=0.5,NA(),F799)","v":1},{"$f":"IF(F799>0.5,NA(),F799)","v":{"$error":"#N/A"}},{"$f":"($Q$154*$A799^6)+($R$154*$A799^5)+($S$154*$A799^4)+($T$154*$A799^3)+($U$154*$A799^2)+($V$154*$A799^1)+$W$154","v":5.4773187390788394},{"$f":"I799*0.1","v":0.54773187390788391},0.87696832849514805,{"$f":"$C$6*K799","v":350.78733139805922},350.78733139805922,{"$f":"M799/L799","v":1}]
[{"$f":"A799+1","v":643},{"$f":"Budget!$M$19","v":3.2311785311999999},4.5839821363008131,5.339773734286041,321.42521006119995,1,1,{"$error":"#N/A"},5.3591536853897992,0.53591536853897992,0.87576591995731645,350.30636798292659,350.30636798292659,1]
[644,{"$f":"Budget!$M$19","v":3.2311785311999999},4.4341086026160728,5.1899002006013006,321.42521006119995,1,1,{"$error":"#N/A"},5.2396587420096807,0.52396587420096807,{"$f":"IF(($Y$2+$Y$3*$I801+$Y$4*$I801^2)>1,1,($Y$2+$Y$3*$I801+$Y$4*$I801^2))","v":0.87454781857675856},349.81912743070342,349.81912743070342,1]
[645,{"$f":"Budget!$M$19","v":3.2311785311999999},4.2851757068453598,5.0409673048305876,321.42521006119995,1,1,{"$error":"#N/A"},5.1188676586874635,0.51188676586874637,0.87331429678499062,349.32571871399625,349.32571871399625,1]
[646,{"$f":"Budget!$M$19","v":3.2311785311999999},4.1372808169575936,4.8930724149428215,321.42521006119995,1,1,{"$error":"#N/A"},4.9968151788402793,0.49968151788402793,0.8720656388891147,348.8262555556459,348.8262555556459,1]
[647,{"$f":"Budget!$M$19","v":3.2311785311999999},3.9905230806977783,4.7463146786830066,321.42521006119995,1,1,{"$error":"#N/A"},4.8735370497020654,0.48735370497020658,0.87080214133480027,348.32085653392011,{"$f":"IF(($C804-$B804>=0),IF($M803-$B804+$C804>$L804,$L804,$M803-$B804+$C804),IF($M803<$L804,IF($M803-$B804+$C804<0,0,$M803-$B804+$C804),IF($L804-$B804+$C804<0,0,$L804-$B804+$C804)))","v":348.32085653392011},1]
[648,{"$f":"Budget!$M$19","v":3.2311785311999999},3.8450034406864346,4.600795038671663,321.42521006119995,1,1,{"$error":"#N/A"},4.7490700324157729,0.47490700324157731,0.86952411297080934,347.80964518832371,347.80964518832371,1]
[649,{"$f":"Budget!$M$19","v":3.2311785311999999},3.7008246496345349,4.4566162476197633,321.42521006119995,1,1,{"$error":"#N/A"},4.6234519122529605,0.46234519122529605,0.86823187531679791,347.29275012671917,347.29275012671917,1]
[650,{"$f":"Budget!$M$19","v":3.2311785311999999},3.5580912855543487,4.3138828835395771,321.42521006119995,1,1,{"$error":"#N/A"},4.4967215088221337,0.44967215088221341,0.86692576283281986,346.77030513312792,346.77030513312792,1]
[651,{"$f":"Budget!$M$19","v":3.2311785311999999},3.4169097670557789,4.1727013650410072,321.42521006119995,1,1,{"$error":"#N/A"},4.368918686350753,0.43689186863507534,0.8656061231912402,346.24244927649607,346.24244927649607,1]
[652,{"$f":"Budget!$M$19","v":3.2311785311999999},3.2773883686836256,4.0331799666688539,321.42521006119995,1,1,{"$error":"#N/A"},4.2400843639585446,0.4240084363958545,0.86427331755004011,345.70932702001602,345.70932702001602,1]
[653,{"$f":"Budget!$M$19","v":3.2311785311999999},3.1396372363303384,3.8954288343155667,321.42521006119995,1,1,{"$error":"#N/A"},4.1102605260340965,0.41102605260340969,0.86292772082848113,345.17108833139247,345.0795470365228,0.99973479443103941]
[654,{"$f":"Budget!$M$19","v":3.2311785311999999},3.0037684026478586,3.7595600006330869,321.42521006119995,1,1,{"$error":"#N/A"},3.9794902325905355,0.39794902325905357,0.86156972198366255,344.62788879346505,344.4004786649129,0.9993401284807556]
[655,{"$f":"Budget!$M$19","v":3.2311785311999999},2.8698958025831529,3.6256874005683812,321.42521006119995,1,1,{"$error":"#N/A"},3.8478176296998186,0.3847817629699819,0.86019972428879354,344.07988971551742,343.71860698690057,0.99895000335847717]
[656,{"$f":"Budget!$M$19","v":3.2311785311999999},2.7381352889132926,3.4939268868985209,321.42521006119995,1,1,{"$error":"#N/A"},3.715287959948455,0.37152879599484551,0.85881814561238345,343.52725824495337,343.03421500266666,0.99856476238652614]
[657,{"$f":"Budget!$M$19","v":3.2311785311999999},2.6086046478487446,3.3643962458339729,321.42521006119995,1,1,{"$error":"#N/A"},3.5819475729559827,0.3581947572955983,0.85742541869855593,342.97016747942234,342.34759359607108,0.99818475791079231]
[658,{"$f":"Budget!$M$19","v":3.2311785311999999},2.481423614702146,3.2372152126873743,321.42521006119995,1,1,{"$error":"#N/A"},3.4478439358701962,0.34478439358701962,0.8560219914473608,342.4087965789443,341.59783867957321,0.99763160903728676]
[659,{"$f":"Budget!$M$19","v":3.2311785311999999},2.3567138896007349,3.1125054875859632,321.30653701758592,0.99963079111438891,0.99963079111438891,{"$error":"#N/A"},3.3130256440020389,0.33130256440020389,0.85460832719654423,341.84333087861768,340.72337403797394,0.99672377156586556]
[660,{"$f":"Budget!$M$19","v":3.2311785311999999},2.2345991532378888,2.9903907512231171,321.06574923760905,0.99888166574263904,0.99888166574263904,{"$error":"#N/A"},3.1775424314013776,0.31775424314013778,0.85318490500244681,341.27396200097871,339.72679466001182,0.99546649462532844]
[661,{"$f":"Budget!$M$19","v":3.2311785311999999},2.1152050827060633,2.8709966806912917,320.70556738710036,0.99776108826696397,0.99776108826696397,{"$error":"#N/A"},3.041445181545896,0.30414451815458965,0.85175221992157091,340.70088796862836,338.61082121151787,0.99386539093111215]
[662,{"$f":"Budget!$M$19","v":3.2311785311999999},1.9986593673715674,2.7544509653567957,320.22883982125717,0.99627792032953799,0.99627792032953799,{"$error":"#N/A"},2.9047859380081036,0.29047859380081037,0.85031078329112553,340.12431331645018,337.37830204768943,0.9919264481801221]
[663,{"$f":"Budget!$M$19","v":3.2311785311999999},1.8850917247593428,2.6408833227445712,319.63854461280175,0.9944414271423887,0.9944414271423887,{"$error":"#N/A"},2.767617915215169,0.27676179152151692,0.84886112300947103,339.54444920378842,336.03221524124876,0.98965604070166469]
[664,{"$f":"Budget!$M$19","v":3.2311785311999999},1.7746339166037273,2.5304255145889556,318.93779159619072,0.99226128384722645,0.99226128384722645,{"$error":"#N/A"},2.6299955092152345,0.26299955092152344,0.84740378381525561,338.96151352610224,334.57567062665248,0.98706094136226463]
[665,{"$f":"Budget!$M$19","v":3.2311785311999999},1.6674197647937148,2.4232113627789431,318.12982442776968,0.98974758192488133,0.98974758192488133,{"$error":"#N/A"},2.4919743085128516,0.24919743085128518,0.84593932756559864,338.37573102623946,333.01191186024619,0.9841483337184801]
[666,{"$f":"Budget!$M$19","v":3.2311785311999999},1.5635851675260368,2.3193767655112651,317.21802266208095,0.98691083565499438,0.98691083565499438,{"$error":"#N/A"},2.3536111048798034,0.23536111048798036,0.84446833351200246,337.78733340480096,331.34431849657221,0.98092582441358889]
[667,{"$f":"Budget!$M$19","v":3.2311785311999999},1.4632681153941234,2.2190597133793517,316.20590384426032,0.98376198862576503,0.98376198862576503,{"$error":"#N/A"},2.2149639043037723,0.22149639043037725,0.84299139857538452,337.1965594301538,329.57640808076633,0.97740145580884585]
[668,{"$f":"Budget!$M$19","v":3.2311785311999999},1.3666087076057578,2.1224003055909861,315.09712561865132,0.98031242029415255,0.98031242029415255,{"$error":"#N/A"},2.0760919378687959,0.20760919378687959,0.84150913761769452,336.60365504707784,327.71183825717208,0.97358371884386652]
[669,{"$f":"Budget!$M$19","v":3.2311785311999999},1.2737491682121003,2.0295407661973286,313.89548785364866,0.97657395259656943,0.97657395259656943,{"$error":"#N/A"},1.9370556727889152,0.19370556727889154,0.84002218371210968,336.00887348484389,325.75440889418417,0.96948156611369296]
[670,{"$f":"Budget!$M$19","v":3.2311785311999999},1.1848338624058328,1.9406254603910611,312.60493478283973,0.97255885661028019,0.97255885661028019,{"$error":"#N/A"},1.7979168233559335,0.17979168233559337,0.83853118840889018,335.4124753635561,323.70806422538999,0.96510442515449191]
[671,{"$f":"Budget!$M$19","v":3.2311785311999999},1.1000093128670527,1.855800910852281,311.22955716249203,0.96827985926565419,0.96827985926565419,{"$error":"#N/A"},1.6587383620513378,0.1658738362051338,0.83703682199917362,334.81472879966947,321.57689500705703,0.96046221192218495]
[672,{"$f":"Budget!$M$19","v":3.2311785311999999},1.0194242161632814,1.7752158141485097,309.77359444544055,0.96375015010944254,0.96375015010944254,{"$error":"#N/A"},1.5195845305885314,0.15195845305885314,0.83553977377380773,334.2159095095231,319.3651406920203,0.95556534445264152]
[673,{"$f":"Budget!$M$19","v":3.2311785311999999},0.94322945921995816,1.6990210572051865,308.24143697144575,0.9589833881192954,0.9589833881192954,{"$error":"#N/A"},1.3805208510900684,0.13805208510900685,0.83404075227900099,333.61630091160038,317.07719162004025,0.95042475668494819]
[674,{"$f":"Budget!$M$19","v":3.2311785311999999},0.87157813578593268,1.627369733771161,306.63762817401692,0.95399370856950694,0.95399370856950694,{"$error":"#N/A"},1.2416141372121956,0.12416141372121957,0.83254048556634241,333.01619422653698,314.71759122462618,0.94505191243203313]
[675,{"$f":"Budget!$M$19","v":3.2311785311999999},0.80462556306266597,1.5604171610478943,304.96686680386483,0.94879572994849593,0.94879572994849593,{"$error":"#N/A"},1.1029325053872867,0.11029325053872868,0.83103972143858285,332.41588857543314,312.29103825648883,0.93945881947704346]
[676,{"$f":"Budget!$M$19","v":3.2311785311999999},0.74252929823202285,1.4983208962172512,303.2340091688821,0.9434045609277063,0.9434045609277063,{"$error":"#N/A"},0.96454538606354845,9.6454538606354848E-2,0.82953922768941779,331.81569107576712,309.80238902352085,0.93365804377460937]
[677,{"$f":"Budget!$M$19","v":3.2311785311999999},0.68544915519825045,1.4412407531834788,301.44407139086559,0.93783580738259475,0.93783580738259475,{"$error":"#N/A"},0.82652353499969422,8.2652353499969425E-2,0.82803979233741876,331.21591693496748,307.25665964751909,0.92766272373271041]
[678,{"$f":"Budget!$M$19","v":3.2311785311999999},0.63354722126174456,1.3893388192469729,299.60223167891257,0.93210557946549299,0.93210557946549299,{"$error":"#N/A"},0.68893904457331701,6.8893904457331706E-2,0.82654222385317344,330.61688954126936,304.65902833758082,0.92148658454894716]
[679,{"$f":"Budget!$M$19","v":3.2311785311999999},0.58698787389558893,1.3427794718808173,297.7138326195934,0.92623049873066321,0.92623049873066321,{"$error":"#N/A"},0.55186535517111679,5.5186535517111682E-2,0.82504735137986818,330.01894055194725,302.0148376802764,0.91514395257182879]
[680,{"$f":"Budget!$M$19","v":3.2311785311999999},0.54593779759985628,1.3017293955850846,295.7843834839785,0.92022770531179121,0.92022770531179121,{"$error":"#N/A"},0.41537726659453256,4.153772665945326E-2,0.82355602494606683,329.42240997842674,299.32959694667625,0.90864976965677224]
[681,{"$f":"Budget!$M$19","v":3.2311785311999999},0.51056600075090719,1.2663575987361355,293.81956255151465,0.9141148651518991,0.9141148651518991,{"$error":"#N/A"},0.2795509494881685,2.7955094948816851E-2,0.82206911567022312,328.82764626808927,296.60898441622714,0.90201960748277643]
[682,{"$f":"Budget!$M$19","v":3.2311785311999999},0.48104383252572225,1.2368354305109506,291.82521945082561,0.90791017728591217,0.90791017728591217,{"$error":"#N/A"},0.14446395684097979,1.444639568409798E-2,0.82058751595691548,328.23500638276619,293.85884971755286,0.8952696817927881]
[683,{"$f":"Budget!$M$19","v":3.2311785311999999},0.45754499992764286,1.2133365979128712,289.8073775175385,0.90163238117619537,0.90163238117619537,{"$error":"#N/A"},1.01952355101389E-2,1.0195235510138902E-3,0.81911213968368057,327.64485587347224,291.08521618628049,0.88841686651930796]
[684,{"$f":"Budget!$M$19","v":3.2311785311999999},0.44024558477118481,1.1960371827564131,287.77223616909492,0.89530076410093207,0.89530076410093207,{"$error":"#N/A"},-0.12317486221957097,-1.2317486221957098E-2,0.81764392237799355,327.05756895119742,288.29428323985167,0.8814787077527324]
[685,{"$f":"Budget!$M$19","v":3.2311785311999999},0.42932406080782348,1.1851156587930518,285.72617329668799,0.88893516859578381,0.88893516859578381,{"$error":"#N/A"},-0.25556456701633579,-2.5556456701633579E-2,0.81618382138405143,326.47352855362055,285.49242876945948,0.87447343750741413]
[686,{"$f":"Budget!$M$19","v":3.2311785311999999},0.42496131085860034,1.1807529088438287,283.67574767433183,0.88255599994885103,0.88255599994885103,{"$error":"#N/A"},-0.38689068088837075,-3.8689068088837077E-2,0.81473281601799907,325.89312640719965,282.68621154911807,0.86741998723810132]
[687,{"$f":"Budget!$M$19","v":3.2311785311999999},0.4273406440203984,1.1831322420056267,281.62770138513747,0.87618423374916687,0.87618423374916687,{"$error":"#N/A"},-0.51706856546417157,-5.1706856546417157E-2,0.81329190771219517,325.31676308487806,279.88237366193846,0.86033800105442038]
[688,{"$f":"Budget!$M$19","v":3.2311785311999999},0.43664781288085797,1.1924394108660863,279.58896226480357,0.8698414234887466,0.8698414234887466,{"$error":"#N/A"},-0.64601213029726523,-6.4601213029726531E-2,0.81186212014640358,324.74484805856144,277.08784294361931,0.85324784858065517]
[689,{"$f":"Budget!$M$19","v":3.2311785311999999},0.45307103085834788,1.2088626288435762,277.56664636244716,0.86354970821858668,0.86354970821858668,{"$error":"#N/A"},-0.77363382108535461,-7.7363382108535467E-2,0.81044449936643714,324.17779974657486,274.30973544327765,0.84617063740243337]
[690,{"$f":"Budget!$M$19","v":3.2311785311999999},0.47680098954239147,1.2325925875276198,275.56806041877479,0.85733182025861043,0.85733182025861043,{"$error":"#N/A"},-0.8998446078849156,-8.9984460788491566E-2,0.80904011388864971,323.61604555545989,271.55535790162003,0.8391282250406279]
[691,{"$f":"Budget!$M$19","v":3.2311785311999999},0.5080308760995762,1.2638224740848045,273.60070436165961,0.85121109296176722,0.85121109296176722,{"$error":"#N/A"},-1.0245539732635507,-0.10245539732635507,0.80765005479018792,323.06002191607519,268.83221024651959,0.83214323038818172]
[692,{"$f":"Budget!$M$19","v":3.2311785311999999},0.54695639074312785,1.3027479887283562,271.67227381918798,0.84521146853248097,0.84521146853248097,{"$error":"#N/A"},-1.1476699004072657,-0.11476699004072657,0.80627543578406313,322.51017431362527,266.14798810606271,0.82523904454327968]
[693,{"$f":"Budget!$M$19","v":3.2311785311999999},0.59377576422613165,1.34956736221136,269.79066265019935,0.83935750589952396,0.83935750589952396,{"$error":"#N/A"},-1.269098861232294,-0.1269098861232294,0.80491739327772216,321.96695731108889,263.51058533908883,0.81843984096939892]
[694,{"$f":"Budget!$M$19","v":3.2311785311999999},0.64868977542570283,1.4044813734109312,267.9639654924103,0.833674388643596,0.833674388643596,{"$error":"#N/A"},-1.3887458043823813,-0.13887458043823814,0.80357708641565173,321.43083456626067,260.92809658331453,0.81177058490798293]
[695,{"$f":"Budget!$M$19","v":3.2311785311999999},0.71190176897490565,1.467693366960134,266.20048032817044,0.82818793297976034,0.82818793297976034,{"$error":"#N/A"},-1.5065141432746714,-0.15065141432746715,0.80225569710338274,320.90227884135311,258.40881982108942,0.80525704196959269]
[696,{"$f":"Budget!$M$19","v":3.2311785311999999},0.7836176729087696,1.5394092708939979,264.50871106786445,0.82292459579477761,0.82292459579477761,{"$error":"#N/A"},-1.6223057440191724,-0.16223057440191724,0.80095443001401623,320.38177200560648,255.96125896279821,0.79892578582254381]
[697,{"$f":"Budget!$M$19","v":3.2311785311999999},0.86404601640261935,1.6198376143878477,262.89737015105231,0.81791148273962755,0.81791148273962755,{"$error":"#N/A"},-1.7360209133810258,-0.17360209133810259,0.79967451257451694,319.8698050298068,253.59412644800085,0.79280420489945869]
[698,{"$f":"Budget!$M$19","v":3.2311785311999999},0.95339794755315088,1.7091895455383792,261.37538116539071,0.81317635637734931,0.81317635637734931,{"$error":"#N/A"},-1.8475583866417651,-0.18475583866417652,0.79841719493250529,319.36687797300209,251.31634586435402,0.78692050803589975]
[699,{"$f":"Budget!$M$19","v":3.2311785311999999},1.0518872512027087,1.807678849187937,259.95188148337866,0.80874764438633595,0.80874764438633595,{"$error":"#N/A"},-1.9568153154396555,-0.19568153154396556,0.79718374990174701,318.87349996069878,249.13705458435675,0.78130372895541]
[700,{"$f":"Budget!$M$19","v":3.2311785311999999},1.1597303668372319,1.9155219648224602,258.63622491700113,0.80465444781931172,0.80465444781931172,{"$error":"#N/A"},-2.0636872555887749,-0.2063687255588775,0.79597547288541237,318.39018915416494,247.065606419994,0.77598372951235794]
[701,{"$f":"Budget!$M$19","v":3.2311785311999999},1.277146406510576,2.0329380044958043,257.43798439029695,0.80092654941807551,0.80092654941807551,{"$error":"#N/A"},-2.1680681548267557,-0.21680681548267558,0.79479368177671694,317.91747271068675,245.11157429530459,0.77099120160143753]
[702,{"$f":"Budget!$M$19","v":3.2311785311999999},1.4043571728497795,2.1601487708350078,256.36695462993197,0.79759442198425956,0.79759442198425956,{"$error":"#N/A"},-2.2698503405556494,-0.22698503405556494,0.79363971683524037,317.45588673409617,243.28475293695439,0.76635766764259705]
[703,{"$f":"Budget!$M$19","v":3.2311785311999999},1.5415871770707894,2.2973787750560177,255.433154873788,0.79468923680613934,0.79468923680613934,{"$error":"#N/A"},-2.3689245075149188,-0.2368924507514919,0.79251494053860816,317.00597621544324,241.5951615828252,0.76211547954740311]
[704,{"$f":"Budget!$M$19","v":3.2311785311999999},1.6890636571151503,2.4448552551003786,254.64683159768839,0.79224287214186828,0.79224287214186828,{"$error":"#N/A"},-2.4651797054457916,-0.24651797054457916,0.79142073740783692,316.56829496313475,240.05304670874037,0.75829781607376445]
[705,{"$f":"Budget!$M$19","v":3.2311785311999999},1.8470165957698668,2.6028081937550951,254.0184612602435,0.79028792175908635,0.79028792175908635,{"$error":"#N/A"},-2.5585033266738151,-0.2558503326673815,0.79035851380612121,316.14340552244846,238.66888477331025,0.75493867847375684]
[706,{"$f":"Budget!$M$19","v":3.2311785311999999},{"$f":"IF($D863-ABS($B$891)<0,0,$D863-ABS($B$891))","v":2.0156787388813995},{"$f":"($I$154*$A863^6)+($J$154*$A863^5)+($K$154*$A863^4)+($L$154*$A863^3)+($M$154*$A863^2)+($N$154*$A863^1)+$O$154","v":2.7714703368666278},{"$f":"IF(($E862-$B863+$D863>$E$157),$E$157,IF($E862-$B863+$D863<0,0,$E862-$B863+$D863))","v":253.55875306591014},{"$f":"E863/$E$157","v":0.788857703531195},{"$f":"IF(F863<=0.5,NA(),F863)","v":0.788857703531195},{"$f":"IF(F863>0.5,NA(),F863)","v":{"$error":"#N/A"}},{"$f":"($Q$154*$A863^6)+($R$154*$A863^5)+($S$154*$A863^4)+($T$154*$A863^3)+($U$154*$A863^2)+($V$154*$A863^1)+$W$154","v":-2.6487810937036329},{"$f":"I863*0.1","v":-0.26487810937036332},0.7893296977089107,{"$f":"$C$6*K863","v":315.73187908356431},237.45338498099167,{"$f":"M863/L863","v":0.75207288434167019}]
[{"$f":"A863+1","v":707},{"$f":"Budget!$M$19","v":3.2311785311999999},2.1952856136205923,2.9510772116058206,253.27865174631597,0.78798626809045647,0.78798626809045647,{"$error":"#N/A"},-2.7358970467196286,-0.27358970467196286,0.78833573844537963,315.33429537815186,236.41749206341228,0.7497360595678253]
[708,{"$f":"Budget!$M$19","v":3.2311785311999999},2.3860755467503281,3.1418671447355564,253.18934035985154,0.78770840753792715,0.78770840753792715,{"$error":"#N/A"},-2.8197335310957214,-0.28197335310957217,{"$f":"IF(($Y$2+$Y$3*$I865+$Y$4*$I865^2)>1,1,($Y$2+$Y$3*$I865+$Y$4*$I865^2))","v":0.78737810640897865},314.95124256359145,235.57238907896263,0.74796462830718469]
[709,{"$f":"Budget!$M$19","v":3.2311785311999999},2.5882896830664435,3.3440812810516718,253.30224310970323,0.78805966421076312,0.78805966421076312,{"$error":"#N/A"},-2.9001711848355285,-0.29001711848355288,0.78645829273680334,314.58331709472134,234.92950023082909,0.74679580087233799]
[710,{"$f":"Budget!$M$19","v":3.2311785311999999},2.802172003713133,3.5579636016983613,253.6290281802016,0.78907633950650657,0.78907633950650657,{"$error":"#N/A"},-2.9770889259820592,-0.29770889259820593,0.7855778089561406,314.23112358245623,234.50049370334224,0.74626755946346557]
[711,{"$f":"Budget!$M$19","v":3.2311785311999999},3.0279693447480098,3.7837609427332382,254.18161059173485,0.79079550276513222,0.79079550276513222,{"$error":"#N/A"},-3.0503639399997837,-0.30503639399997839,0.78473818659694039,313.89527463877613,{"$f":"IF(($C868-$B868>=0),IF($M867-$B868+$C868>$L868,$L868,$M867-$B868+$C868),IF($M867<$L868,IF($M867-$B868+$C868<0,0,$M867-$B868+$C868),IF($L868-$B868+$C868<0,0,$L868-$B868+$C868)))","v":234.29728451689027},0.74641864165210681]
[712,{"$f":"Budget!$M$19","v":3.2311785311999999},3.2659314155739252,4.0217230135591535,254.97215507409402,0.79325500020843687,0.79325500020843687,{"$error":"#N/A"},-3.1198716670789963,-0.31198716670789967,0.78394097676953844,313.57639070781539,234.33203740126422,0.74728852153799552]
[713,{"$f":"Budget!$M$19","v":3.2311785311999999},3.5163108176013451,4.2721024155865734,256.01307895848061,0.79649346393749032,0.79649346393749032,{"$error":"#N/A"},-3.1854857894633142,-0.31854857894633143,0.78318774970519311,313.27509988207726,234.61716968766558,0.74891738850607648]
[714,{"$f":"Budget!$M$19","v":3.2311785311999999},3.7793630627838524,4.5351546607690807,257.3170550880497,0.80055032098775347,0.80055032098775347,{"$error":"#N/A"},-3.2470782186692873,-0.32470782186692876,0.78248009425963083,312.99203770385236,235.16535421924945,0.75134612351308061]
[715,{"$f":"Budget!$M$19","v":3.2311785311999999},4.0553465923864795,4.8111381903717074,258.89701474722142,0.8054658024425867,0.8054658024425867,{"$error":"#N/A"},-3.3045190827187412,-0.33045190827187415,0.78181961737687611,312.72784695075046,235.98952228043595,0.75461627284378185]
[716,{"$f":"Budget!$M$19","v":3.2311785311999999},4.3445227956380794,5.1003143936233073,260.76615060964474,0.81128095260478916,0.81128095260478916,{"$error":"#N/A"},-3.3576767133052385,-0.33576767133052388,0.78120794351289713,312.48317740515887,237.10286654487405,0.7587700192815553]
[717,{"$f":"Budget!$M$19","v":3.2311785311999999},4.6471560285997047,5.4029476265849326,262.93791970502969,0.81803763822683917,0.81803763822683917,{"$error":"#N/A"},-3.4064176329436577,-0.3406417632943658,0.78064671401710117,312.25868560684046,238.51884404227377,0.76385015064909589]
[718,{"$f":"Budget!$M$19","v":3.2311785311999999},4.9635136329065634,5.7193052308917913,265.42604640472149,0.82577855779944542,0.82577855779944542,{"$error":"#N/A"},-3.4506065420133609,-0.34506065420133614,0.78013758647127585,312.05503458851035,240.25117914398035,0.76990002568228466]
[719,{"$f":"Budget!$M$19","v":3.2311785311999999},5.2938659547532669,6.0496575527384948,268.24452542626,0.83454725089916171,0.83454725089916171,{"$error":"#N/A"},-3.490106305892823,-0.34901063058928233,0.77968223398222825,311.87289359289127,242.31386656753364,0.77696353721539602]
[720,{"$f":"Budget!$M$19","v":3.2311785311999999},5.6384863637813059,6.3942779617665337,271.40762485682654,0.84438810759476535,0.84438810759476535,{"$error":"#N/A"},-3.5247779418991172,-0.35247779418991176,0.77928234442992483,311.71293777196991,244.72117440011496,0.78508507266110972]
[721,{"$f":"Budget!$M$19","v":3.2311785311999999},5.9976512720883992,6.7534428700736271,274.92988919570018,0.8553463779127749,0.8553463779127749,{"$error":"#N/A"},-3.5544806063265355,-0.35544806063265355,0.7789396196662044,311.57584786648175,247.48764714100338,0.79430947178889866]
[722,{"$f":"Budget!$M$19","v":3.2311785311999999},6.3716401533037814,7.1274317512890093,278.82614241578921,0.86746818136231507,0.86746818136231507,{"$error":"#N/A"},-3.5790715813438396,-0.35790715813438401,0.7786557746652677,311.46230986610709,250.62810876310718,0.8046819818129789]
[723,{"$f":"Budget!$M$19","v":3.2311785311999999},6.7607355616521208,7.5165271596373486,283.11149104422657,0.88080051651929114,0.88080051651929114,{"$error":"#N/A"},-3.5984062618828148,-0.3598406261882815,0.77843253662281287,311.37301464912514,254.15766579355932,0.81624820981985324]
[724,{"$f":"Budget!$M$19","v":3.2311785311999999},7.1652231511420386,7.9210147491272664,287.80132726215385,0.89539127067026247,0.89539127067026247,{"$error":"#N/A"},-3.6123381425541083,-0.36123381425541085,0.7782716440017573,311.30865760070293,258.09171041350135,0.82905407258072539]
[725,{"$f":"Budget!$M$19","v":3.2311785311999999},7.5853916947632687,8.3411832927484966,292.91133202370236,0.91128922951604041,0.91128922951604041,{"$error":"#N/A"},-3.6207188043871952,-0.36207188043871952,0.77817484552522098,311.26993821008841,262.4459235770646,0.84314574380751617]
[726,{"$f":"Budget!$M$19","v":3.2311785311999999},8.0215331037497553,8.7773247017349831,298.45747819423735,0.92854408693521739,0.92854408693521739,{"$error":"#N/A"},-3.6233979016759008,-0.3623397901675901,0.77814389911180615,311.25755964472245,267.23627814961435,0.85856959893486562]
[727,{"$f":"Budget!$M$19","v":3.2311785311999999},8.4739424468977749,9.2297340448830028,304.45603370792037,0.94720645480779608,0.94720645480779608,{"$error":"#N/A"},-3.6202231486828964,-0.36202231486828967,0.77818057075427716,311.27222830171087,272.47904206531211,0.8753721575225234]
[728,{"$f":"Budget!$M$19","v":3.2311785311999999},8.9429179699218029,9.6987095679070308,310.92356474462741,0.96732787289903921,0.96732787289903921,{"$error":"#N/A"},-3.6110403063645435,-0.36110403063645435,0.77828663333798498,311.31465333519401,278.19078150403391,0.89360002339660038]
[729,{"$f":"Budget!$M$19","v":3.2311785311999999},9.4287611149095145,10.184552712894742,317.87693892632217,0.98896081880384501,0.98896081880384501,{"$error":"#N/A"},-3.5956931689847806,-0.3595693168984781,0.77846386539873502,311.38554615949403,284.38836408774341,0.91329982266446474]
[730,{"$f":"Budget!$M$19","v":3.2311785311999999},9.9317765397617794,10.687568137747007,321.42521006119995,1,1,{"$error":"#N/A"},-3.5740235507968237,-0.35740235507968238,0.77871404981616554,311.4856199264662,291.08896209630518,0.93451813976203413]
[null,null,null,null,null,null,null,null,null,null,null,null,null,{"$f":"MIN(N431:N796)","v":0.76085307808322855},"Minimum percentage of used data"]
[null,null,null,"Copy of above","90% of values"]
["Min Solar(reg)=",{"$f":"MIN($D$431:$D$796)","v":2.457698554412616},null,1.0715521187544095,{"$f":"D890*0.9","v":0.96439690687896851}]
["reg correction=",{"$f":"B901","v":0.75579159798522833},null,1.056212285963225,{"$f":"D891*0.9","v":0.95059105736690253}]
["MinCorrSolar=",{"$f":"IF(MIN($C$431:$C$796)<0.0001,0.0001,MIN($C$431:$C$796))","v":1.7019069564273877},null,1.0409571868192318,0.93686146813730864]
["MaxCorrSolar=",{"$f":"MAX($C$431:$C$796)","v":14.17250532243292},null,1.025792178485573,0.92321296063701574]
["Range=",{"$f":"ROUND($B$892,1)&\" - \"&ROUND($B$893,1)","v":"1.7 - 14.2"},null,1.0107224921619036,0.90965024294571328]
[null,null,null,0.99575323427803664,0.89617791085023302]
[null,null,null,0.9808893876830922,0.88280044891478304]
[null,null,null,0.96613581283012895,0.86952223154711605]
["Correction Info",null,null,0.95149724895628918,0.85634752406066028]
["Minimum Actual =",{"$f":"$Q$248","v":1.7749999999999999},null,0.93697831525841302,0.8432804837325717]
["Location of Min =",{"$f":"VLOOKUP(Q248,S233:T247,2,FALSE)","v":350},null,0.92258351206416922,0.83032516085775232]
["Correction =",{"$f":"ABS(VLOOKUP(B900,A431:D796,4,FALSE)-B899)","v":0.75579159798522833},null,0.90831722199865705,0.81748549979879137]
[null,null,null,0.89418371114653272,0.80476534003187949]
[null,null,null,0.88018713020959094,0.79216841718863185]
[null,null,null,0.86633151565987632,0.77969836409388871]
[null,null,null,0.85262079088826592,0.76735871179943937]
[null,null,null,0.83905876734855234,0.75515289061369717]
[null,null,null,0.82564914569702008,0.74308423112731814]
[null,null,null,0.81239551692752343,0.73115596523477111]
[null,null,null,0.79930136350204073,0.71937122715183666]
[null,null,null,0.78637006047673985,0.70773305442906587]
[null,null,null,0.77360487662353261,0.69624438896117935]
[null,null,null,0.761008975547111,0.68490807799239994]
[null,null,null,0.74858541679749901,0.67372687511774909]
[null,null,null,0.73633715697807567,0.66270344128026815]
[null,null,null,0.72426705084911358,0.65184034576420224]
[null,null,null,0.7123778524267852,0.64114006718410665]
[null,null,null,0.70067221607769437,0.63060499446992491]
[null,null,null,0.68915269760887643,0.62023742784798885]
[null,null,null,0.67782175535329792,0.61003957981796819]
[null,null,null,0.66668175125086915,0.60001357612578221]
[null,null,null,0.65573495192490494,0.59016145673241449]
[null,null,null,0.64498352975413997,0.58048517677872602]
[null,null,null,0.63442956394019312,0.57098660754617381]
[null,null,null,0.62407504157053317,0.56166753741347986]
[null,null,null,0.61392185867695481,0.55252967280925935]
[null,null,null,0.60397182128953197,0.5435746391605788]
[null,null,null,0.59422664648607704,0.53480398183746936]
[null,null,null,0.58468796343707741,0.52621916709336969]
[null,null,null,0.57535731444614679,0.51782158300153214]
[null,null,null,0.56623615598595567,0.50961254038736015]
[null,null,null,0.55732585972966042,0.50159327375669438]
[null,null,null,0.54862771357781703,0.49376494222003536]
[null,null,null,0.54014292268081299,0.48612863041273169]
[null,null,null,0.53187261045676593,0.47868534941108937]
[null,null,null,0.52381781960493079,0.4714360376444377]
[null,null,null,0.51597951311459145,0.46438156180313234]
[null,null,null,0.50835857526946437,0.45752271774251796]
[null,null,null,0.50095581264757261,0.45086023138281534]
[null,null,null,0.4937719551166202,0.44439475960495817]
[null,null,null,0.48680765682489024,0.43812689114240122]
[null,null,null,0.48006349718757946,0.43205714746882151]
[null,null,null,0.47353998186867052,0.42618598368180349]
[null,null,null,0.46723754375830495,0.42051378938247447]
[null,null,null,0.46115654394559158,0.41504088955103241]
[null,null,null,0.45529727268699016,0.40976754541829113]
[null,null,null,0.44965995037011108,0.40469395533309999]
[null,null,null,0.44424472847307062,0.39982025562576357]
[null,null,null,0.43905169051931292,0.39514652146738166]
[null,null,null,0.43408085302788812,0.39067276772509935]
[null,null,null,0.42933216645932148,0.38639894981338935]
[null,null,null,0.42480551615687645,0.38232496454118881]
[null,null,null,0.42050072328336796,0.37845065095503116]
[null,null,null,0.41641754575345491,0.37477579117810944]
[null,null,null,0.41255567916141178,0.37130011124527063]
[null,null,null,0.40891475770443275,{"$f":"D955*0.9","v":0.36802328193398948}]
[null,null,null,0.40549435510138476,0.36494491959124631]
[null,null,null,0.40229398550708506,0.36206458695637656]
[null,null,null,0.39931310442205081,0.35938179397984577]
[null,null,null,0.39655110959778028,0.35689599863800225]
[null,null,null,0.39400734193745635,0.35460660774371072]
[null,null,null,0.39168108639224641,0.35251297775302176]
[null,null,null,0.38957157285298205,0.35061441556768386]
[null,null,null,0.38767797703743145,0.34891017933368834]
[null,null,null,0.38599942137299603,0.34739947923569642]
[null,null,null,0.38453497587494656,0.34608147828745189]
[null,null,null,0.38328365902012873,0.34495529311811585]
[null,null,null,0.3822444386161532,0.34401999475453787]
[null,null,null,0.38141623266612967,0.34327460939951671]
[null,null,null,0.38079791022881615,0.34271811920593453]
[null,null,null,0.38038829227433979,0.34234946304690583]
[null,null,null,0.38018615253536492,0.34216753728182842]
[null,null,null,0.3801902183537651,0.34217119651838862]
[null,null,null,0.38039917152279212,0.3423592543705129]
[null,null,null,0.38081164912474552,0.34273048421227098]
[null,null,null,0.3814262443641141,0.34328361992770268]
[null,null,null,0.3822415073962393,0.34401735665661537]
[null,null,null,0.38325594615145064,0.34493035153630558]
[null,null,null,0.38446802715470518,0.34602122443923466]
[null,null,null,0.38587617634071947,0.34728855870664754]
[null,null,null,0.38747877986459578,0.34873090187813621]
[null,null,null,0.3892741849079222,0.35034676641712997]
[null,null,null,0.39126070048041584,0.35213463043237425]
[null,null,null,0.3934365982170096,0.35409293839530864]
[null,null,null,0.39580011317045916,0.35622010185341324]
[null,null,null,0.39834944459941646,0.35851450013947483]
[null,null,null,0.40108275675206784,0.36097448107686109]
[null,null,null,0.40399817964513751,0.36359836168062376]
[null,null,null,0.40709380983855681,0.36638442885470113]
[null,null,null,0.41036771120542959,0.36933094008488665]
[null,null,null,0.41381791569768822,0.37243612412791943]
[null,null,null,0.41744242410709731,0.37569818169638758]
[null,null,null,0.4212392068218147,0.37911528613963325]
[null,null,null,0.42520620457844771,0.38268558412060294]
[null,null,null,0.4293413292095547,0.38640719628859926]
[null,null,null,0.43364246438675025,0.39027821794807521]
[null,null,null,0.43810746635912601,0.3942967197232134]
[null,null,null,0.44273416468738347,0.39846074821864513]
[null,null,null,0.4475203629732416,0.40276832667591744]
[null,null,null,0.45246383958453862,0.40721745562608475]
[null,null,null,0.45756234837566367,0.41180611353809732]
[null,null,null,0.46281361940355659,0.41653225746320094]
[null,null,null,0.46821535963926664,0.42139382367534001]
[null,null,null,0.47376525367483602,0.42638872830735242]
[null,null,null,0.47946096442584007,0.43151486798325606]
[null,null,null,0.48530013382933923,0.43677012044640534]
[null,null,null,0.49128038353734738,0.44215234518361263]
[null,null,null,0.49739931560578476,0.44765938404520628]
[null,null,null,0.50365451317892607,0.45328906186103346]
[null,null,null,0.5100435411693347,0.45903918705240127]
[null,null,null,0.51656394693333674,0.46490755224000307]
[null,null,null,0.52321326094192955,0.47089193484773662]
[null,null,null,0.52998899744720696,0.47699009770248629]
[null,null,null,0.53688865514426709,0.48319978962984039]
[null,null,null,0.54390971782868114,0.48951874604581302]
[null,null,null,0.55104965504930092,0.49594468954437082]
[null,null,null,0.55830592275679614,0.50247533048111659]
[null,null,null,0.56567596394743624,0.50910836755269262]
[null,null,null,0.57315720930251146,0.51584148837226029]
[null,null,null,0.58074707782322044,{"$f":"D1019*0.9","v":0.52267237004089839}]
[null,null,null,0.58844297746108865,0.52959867971497976]
[null,null,null,0.59624230574376647,0.53661807516938986]
[null,null,null,0.60414245039643788,0.54372820535679411]
[null,null,null,0.61214078995865684,0.55092671096279122]
[null,null,null,0.62023469439673917,0.55821122495706532]
[null,null,null,0.62842152571153242,0.5655793731403792]
[null,null,null,0.63669863854186737,0.57302877468768065]
[null,null,null,0.6450633807632542,0.58055704268692876]
[null,null,null,0.65351309408235458,0.58816178467411917]
[null,null,null,0.66204511462666815,0.59584060316400134]
[null,null,null,0.67065677352994335,0.60359109617694906]
[null,null,null,0.67934539751295375,0.61141085776165838]
[null,null,null,0.68810830945978374,0.61929747851380534]
[null,null,null,0.69694282898965199,0.62724854609068681]
[null,null,null,0.70584627302416614,0.63526164572174959]
[null,null,null,0.71481595635016681,0.64333436071515016]
[null,null,null,0.72384919217794419,0.65146427296014975]
[null,null,null,0.73294329269503855,0.6596489634255347]
[null,null,null,0.74209556961551115,0.66788601265396008]
[null,null,null,0.75130333472466937,0.67617300125220248]
[null,null,null,0.7605639004193705,0.68450751037743351]
[null,null,null,0.76987458024370703,0.69288712221933635]
[null,null,null,0.77923268942031498,0.70130942047828349]
[null,null,null,0.7886355453770566,0.70977199083935094]
[null,null,null,0.79808046826927104,0.71827242144234393]
[null,null,null,0.80756478149749,0.72680830334774105]
[null,null,null,0.81708581222064502,0.73537723099858054]
[null,null,null,0.82664089186481604,0.74397680267833444]
[null,null,null,0.83622735662733483,0.75260462096460135]
[null,null,null,0.84584254797665892,0.76125829317899307]
[null,null,null,0.855483813147357,0.76993543183262136]
[null,null,null,0.8651485056309518,0.77863365506785664]
[null,null,null,0.87483398566200954,0.78735058709580863]
[null,null,null,0.88453762069986119,0.79608385862987507]
[null,null,null,0.89425678590573199,0.80483110731515883]
[null,null,null,0.90398886461540506,0.81358997815386458]
[null,null,null,0.91373124880745493,0.82235812392670948]
[null,null,null,0.9234813395667576,0.83113320561008186]
[null,null,null,0.93323654754372143,0.83991289278934933]
[null,null,null,0.94299429340891372,0.84869486406802241]
[null,null,null,0.9527520083031753,0.85747680747285782]
[null,null,null,0.96250713428324453,0.86625642085492005]
[null,null,null,0.97225712476289949,0.87503141228660952]
[null,null,null,0.98199944494947999,0.88379950045453204]
[null,null,null,0.99173157227614972,0.89255841504853473]
[null,null,null,1.0014509968293162,0.90130589714638454]
[null,null,null,1.0111552217718742,0.91003969959468678]
[null,null,null,1.0208417637616591,0.91875758738549329]
[null,null,null,1.0305081533656431,0.92745733802907881]
[null,null,null,1.0401519354694706,0.93613674192252361]
[null,null,null,1.0497706696824345,0.94479360271419111]
[null,null,null,1.0593619307381932,0.95342573766437388]
[null,null,null,1.0689233088907031,0.96203097800163284]
[null,null,null,1.0784524103058128,0.97060716927523161]
[null,null,null,1.0879468574483049,0.97915217170347446]
[null,null,null,1.0974042894644729,0.98766386051802557]
[null,null,null,1.1068223625600382,0.99614012630403437]
[null,null,null,1.1161987503737603,1.0045788753363842]
[null,null,null,1.1255311443464642,1.0129780299118178]
[null,null,null,1.134817254085501,1.021335528676951]
[null,null,null,1.1440548077248014,1.0296493269523213]
[null,null,null,1.1532415522802921,1.037917397052263]
[null,null,null,1.1623752540010255,1.046137728600923]
[null,null,null,1.1714536987154922,{"$f":"D1083*0.9","v":1.054308328843943}]
[null,null,null,1.1804746921738047,1.0624272229564242]
[null,null,null,1.1894360603849421,1.070492454346448]
[null,null,null,1.1983356499499234,1.0785020849549312]
[null,null,null,1.2071713283901637,1.0864541955511473]
[null,null,null,1.2159409844713984,1.0943468860242587]
[null,null,null,1.2246425285232352,1.1021782756709118]
[null,null,null,1.2332738927540348,1.1099465034786313]
[null,null,null,1.2418330315613826,1.1176497284052445]
[null,null,null,1.2503179218379366,1.125286129654143]
[null,null,null,1.2587265632728961,1.1328539069456065]
[null,null,null,1.2670569786490375,1.1403512807841338]
[null,null,null,1.2753072141349033,1.1477764927214131]
[null,null,null,1.2834753395728988,1.1551278056156089]
[null,null,null,1.2915594487626159,1.1624035038863543]
[null,null,null,1.2995576597396852,1.1696018937657167]
[null,null,null,1.3074681150502272,1.1767213035452044]
[null,null,null,1.3152889820207374,1.1837600838186637]
[null,null,null,1.3230184530233906,1.1907166077210516]
[null,null,null,1.3306547457369948,1.1975892711632954]
[null,null,null,1.3381961034033409,1.204376493063007]
[null,null,null,1.345640795078948,1.2110767155710531]
[null,null,null,1.3529871158825451,1.2176884042942906]
[null,null,null,1.3602333872379084,1.2242100485141176]
[null,null,null,1.3673779571120424,1.2306401614008382]
[null,null,null,1.3744192002492426,1.2369772802243184]
[null,null,null,1.3813555184002961,1.2432199665602666]
[null,null,null,1.3881853405472562,1.2493668064925305]
[null,null,null,1.3949071231237813,1.2554164108114032]
[null,null,null,1.4015193502310979,1.2613674152079881]
[null,null,null,1.4080205338490739,1.2672184804641666]
[null,null,null,1.4144092140430722,1.2729682926387651]
[null,null,null,1.4206839591663858,1.2786155632497473]
[null,null,null,1.4268433660578328,1.2841590294520495]
[null,null,null,1.4328860602351625,1.2895974542116464]
[null,null,null,1.4388106960837685,1.2949296264753918]
[null,null,null,1.444615957040849,1.3001543613367641]
[null,null,null,1.4503005557754722,1.305270500197925]
[null,null,null,1.455863234363413,1.3102769109270718]
[null,null,null,1.4613027644582939,1.3151724880124644]
[null,null,null,1.4666179474574985,1.3199561527117487]
[null,null,null,1.4718076146641401,1.3246268531977261]
[null,null,null,1.4768706274441019,1.3291835646996917]
[null,null,null,1.4818058773789673,1.3336252896410705]
[null,null,null,1.4866122864140277,1.337951057772625]
[null,null,null,1.4912888070020962,1.3421599263018866]
[null,null,null,1.4958344222426749,1.3462509800184075]
[null,null,null,1.5002481460167445,1.35022333141507]
[null,null,null,1.5045290231167368,1.3540761208050631]
[null,null,null,1.5086761293724589,1.3578085164352129]
[null,null,null,1.5126885717721059,1.3614197145948954]
[null,null,null,1.5165654885790705,1.3649089397211636]
[null,null,null,1.5203060494439455,1.3682754444995511]
[null,null,null,1.5239094555122588,1.371518509961033]
[null,null,null,1.5273749395276717,1.3746374455749046]
[null,null,null,1.5307017659306315,1.3776315893375684]
[null,null,null,1.5338892309523331,1.3805003078570999]
[null,null,null,1.5369366627045462,1.3832429964340915]
[null,null,null,1.5398434212646688,1.3858590791382019]
[null,null,null,1.5426088987564093,1.3883480088807685]
[null,null,null,1.5452325194257401,1.3907092674831663]
[null,null,null,1.5477137397126697,1.3929423657414028]
[null,null,null,1.5500520483183617,1.3950468434865255]
[null,null,null,1.5522469662674645,1.3970222696407182]
[null,null,null,1.5542980469666023,{"$f":"D1147*0.9","v":1.3988682422699421}]
[null,null,null,1.5562048762575813,1.4005843886318232]
[null,null,null,1.5579670724668144,1.4021703652201329]
[null,null,null,1.5595842864494625,1.4036258578045162]
[null,null,null,1.5610562016299987,1.4049505814669989]
[null,null,null,1.5623825340373916,1.4061442806336524]
[null,null,null,1.5635630323363046,1.4072067291026742]
[null,null,null,1.5645974778536011,1.4081377300682412]
[null,null,null,1.5654856846004286,1.4089371161403859]
[null,null,null,1.5662274992897256,1.4096047493607531]
[null,null,null,1.5668228013492822,1.4101405212143541]
[null,null,null,1.5672715029302093,1.4105443526371884]
[null,null,null,1.5675735489109339,1.4108161940198405]
[null,null,null,1.5677289168967796,1.4109560252071016]
[null,null,null,1.5677376172150321,1.4109638554935289]
[null,null,null,1.5675996929051692,1.4108397236146524]
[null,null,null,1.5673152197051632,1.4105836977346469]
[null,null,null,1.5668843060327795,1.4101958754295016]
[null,null,null,1.5663070929626546,1.4096763836663893]
[null,null,null,1.5655837541986131,1.4090253787787519]
[null,null,null,1.5647144960418231,1.4082430464376408]
[null,null,null,1.5636995573542247,1.4073296016188024]
[null,null,null,1.562539209517201,1.4062852885654811]
[null,null,null,1.5612337563865228,1.4051103807478706]
[null,null,null,1.5597835342418733,1.4038051808176861]
[null,null,null,1.5581889117324792,1.4023700205592313]
[null,null,null,1.5564502898178851,1.4008052608360966]
[null,null,null,1.5545681017047634,1.3991112915342871]
[null,null,null,1.5525428127781211,1.397288531500309]
[null,null,null,1.5503749205295776,1.3953374284766198]
[null,null,null,1.5480649544794609,1.3932584590315149]
[null,null,null,1.5456134760957632,1.391052128486187]
[null,null,null,1.5430210787078806,1.3887189708370926]
[null,null,null,1.5402883874158348,1.3862595486742515]
[null,null,null,1.5374160589953192,1.3836744530957874]
[null,null,null,1.5344047817980488,1.380964303618244]
[null,null,null,1.5312552756476485,1.3781297480828838]
[null,null,null,1.5279682917307582,1.3751714625576825]
[null,null,null,1.5245446124844548,1.3720901512360093]
[null,null,null,1.52098505147789,1.368886546330101]
[null,null,null,1.5172904532907587,1.3655614079616829]
[null,null,null,1.5134616933861977,1.362115524047578]
[null,null,null,1.509499677979889,1.3585497101819002]
[null,null,null,1.505405343904151,1.3548648095137359]
[null,null,null,1.5011796584679864,1.3510616926211878]
[null,null,null,1.4968236193122699,1.3471412573810431]
[null,null,null,1.4923382542604813,1.3431044288344332]
[null,null,null,1.4877246211651283,1.3389521590486155]
[null,null,null,1.4829838077497648,1.3346854269747883]
[null,null,null,1.4781169314455518,1.3303052383009966]
[null,null,null,1.4731251392247486,1.3258126253022737]
[null,null,null,1.4680096074288329,1.3212086466859496]
[null,null,null,1.4627715415920051,1.3164943874328046]
[null,null,null,1.4574121762606929,1.3116709586346236]
[null,null,null,1.4519327748081103,1.3067394973272994]
[null,null,null,1.4463346292447739,1.3017011663202964]
[null,null,null,1.4406190600241828,1.2965571540217646]
[null,null,null,1.4347874158436689,1.2913086742593021]
[null,null,null,1.4288410734416068,1.2859569660974461]
[null,null,null,1.4227814373895669,1.2805032936506102]
[null,null,null,1.4166099398797485,1.2749489458917738]
[null,null,null,1.4103280405083822,1.2692952364575441]
[null,null,null,1.4039372260545342,1.2635435034490807]
[null,null,null,1.3974390102540788,1.257695109228671]
[null,null,null,1.3908349335697139,{"$f":"D1211*0.9","v":1.2517514402127425}]
[null,null,null,1.3841265629555153,1.2457139066599638]
[null,null,null,1.3773154916185355,1.2395839424566819]
[null,null,null,1.3704033387742065,1.2333630048967859]
[null,null,null,1.363391749398275,1.2270525744584475]
[null,null,null,1.3562823939741051,1.2206541545766947]
[null,null,null,1.3490769682351527,1.2141692714116374]
[null,null,null,1.34177719290307,1.2075994736127631]
[null,null,null,1.3343848134216039,1.2009463320794436]
[null,null,null,1.3269015996855416,1.1942114397169874]
[null,null,null,1.3193293457653326,1.1873964111887994]
[null,null,null,1.3116698696271634,1.180502882664447]
[null,null,null,1.3039250128488824,1.1735325115639943]
[null,null,null,1.2960966403307239,1.1664869762976515]
[null,null,null,1.2881866400022233,1.159367976002001]
[null,null,null,1.2801969225240484,1.1521772302716435]
[null,null,null,1.2721294209858307,1.1449164788872477]
[null,null,null,1.2639860905990794,1.1375874815391716]
[null,null,null,1.2557689083858534,1.1301920175472682]
[null,null,null,1.2474798728630532,1.1227318855767479]
[null,null,null,1.2391210037213121,1.115208903349181]
[null,null,null,1.2306943415008185,1.1076249073507367]
[null,null,null,1.2222019472614534,1.0999817525353082]
[null,null,null,1.2136459022489774,1.0922813120240797]
[null,null,null,1.2050283075564181,1.0845254768007764]
[null,null,null,1.1963512837815706,1.0767161554034137]
[null,null,null,1.1876169706786719,1.0688552736108048]
[null,null,null,1.1788275268074244,1.060944774126682]
[null,null,null,1.1699851291757639,1.0529866162581876]
[null,null,null,1.1610919728792446,1.0449827755913201]
[null,null,null,1.152150270735536,1.0369352436619825]
[null,null,null,1.1431622529140029,1.0288460276226026]
[null,null,null,1.134130166561846,1.0207171499056613]
[null,null,null,1.1250562754247895,1.0125506478823105]
[null,null,null,1.1159428594633134,1.0043485735169821]
[null,null,null,1.1067922144649351,0.99611299301844169]
[null,null,null,1.097606651651823,0.98784598648664079]
[null,null,null,1.0883884972834892,0.97954964755514029]
[null,null,null,1.0791400922548497,0.97122608302936475]
[null,null,null,1.0698637916914144,0.96287741252227299]
[null,null,null,1.0605619645372322,0.95450576808350895]
[null,null,null,1.0512369931408543,0.9461132938267689]
[null,null,null,1.0418912728356986,0.93770214555212872]
[null,null,null,1.0325272115152337,0.92927449036371035]
[null,null,null,1.0231472292052324,0.92083250628470914]
[null,null,null,1.5595842864494625,1.4036258578045162]
[null,null,null,1.5610562016299987,1.4049505814669989]
[null,null,null,1.5623825340373916,1.4061442806336524]
[null,null,null,1.5635630323363046,1.4072067291026742]
[null,null,null,1.5645974778536011,1.4081377300682412]
[null,null,null,1.5654856846004286,1.4089371161403859]
[null,null,null,1.5662274992897256,1.4096047493607531]
[null,null,null,1.5668228013492822,1.4101405212143541]
[null,null,null,1.5672715029302093,1.4105443526371884]
[null,null,null,1.5675735489109339,1.4108161940198405]
[null,null,null,1.5677289168967796,1.4109560252071016]
[null,null,null,1.5677376172150321,1.4109638554935289]
[null,null,null,1.5675996929051692,1.4108397236146524]
[null,null,null,1.5673152197051632,1.4105836977346469]
[null,null,null,1.5668843060327795,1.4101958754295016]
[null,null,null,1.5663070929626546,1.4096763836663893]
[null,null,null,1.5655837541986131,1.4090253787787519]
[null,null,null,1.5647144960418231,1.4082430464376408]
[null,null,null,1.5636995573542247,1.4073296016188024]
[null,null,null,1.562539209517201,{"$f":"D1275*0.9","v":1.4062852885654811}]
[null,null,null,1.5612337563865228,1.4051103807478706]
[null,null,null,1.5597835342418733,1.4038051808176861]
[null,null,null,1.5581889117324792,1.4023700205592313]
[null,null,null,1.5564502898178851,1.4008052608360966]
[null,null,null,1.5545681017047634,1.3991112915342871]
[null,null,null,1.5525428127781211,1.397288531500309]
[null,null,null,1.5503749205295776,1.3953374284766198]
[null,null,null,1.5480649544794609,1.3932584590315149]
[null,null,null,1.5456134760957632,1.391052128486187]
[null,null,null,1.5430210787078806,1.3887189708370926]
[null,null,null,1.5402883874158348,1.3862595486742515]
[null,null,null,1.5374160589953192,1.3836744530957874]
[null,null,null,1.5344047817980488,1.380964303618244]
[null,null,null,1.5312552756476485,1.3781297480828838]
[null,null,null,1.5279682917307582,1.3751714625576825]
[null,null,null,1.5245446124844548,1.3720901512360093]
[null,null,null,1.52098505147789,1.368886546330101]
[null,null,null,1.5172904532907587,1.3655614079616829]
[null,null,null,1.5134616933861977,1.362115524047578]
[null,null,null,1.509499677979889,1.3585497101819002]
[null,null,null,1.505405343904151,1.3548648095137359]
[null,null,null,1.5011796584679864,1.3510616926211878]
[null,null,null,1.4968236193122699,1.3471412573810431]
[null,null,null,1.4923382542604813,1.3431044288344332]
[null,null,null,1.4877246211651283,1.3389521590486155]
[null,null,null,1.4829838077497648,1.3346854269747883]
[null,null,null,1.4781169314455518,1.3303052383009966]
[null,null,null,1.4731251392247486,1.3258126253022737]
[null,null,null,1.4680096074288329,1.3212086466859496]
[null,null,null,1.4627715415920051,1.3164943874328046]
[null,null,null,1.4574121762606929,1.3116709586346236]
[null,null,null,1.4519327748081103,1.3067394973272994]
[null,null,null,1.4463346292447739,1.3017011663202964]
[null,null,null,1.4406190600241828,1.2965571540217646]
[null,null,null,1.4347874158436689,1.2913086742593021]
[null,null,null,1.4288410734416068,1.2859569660974461]
[null,null,null,1.4227814373895669,1.2805032936506102]
[null,null,null,1.4166099398797485,1.2749489458917738]
[null,null,null,1.4103280405083822,1.2692952364575441]
[null,null,null,1.4039372260545342,1.2635435034490807]
[null,null,null,1.3974390102540788,1.257695109228671]
[null,null,null,1.3908349335697139,1.2517514402127425]
[null,null,null,1.3841265629555153,1.2457139066599638]
[null,null,null,1.3773154916185355,1.2395839424566819]
[null,null,null,1.3704033387742065,1.2333630048967859]
[null,null,null,1.363391749398275,1.2270525744584475]
[null,null,null,1.3562823939741051,1.2206541545766947]
[null,null,null,1.3490769682351527,1.2141692714116374]
[null,null,null,1.34177719290307,1.2075994736127631]
[null,null,null,1.3343848134216039,1.2009463320794436]
[null,null,null,1.3269015996855416,1.1942114397169874]
[null,null,null,1.3193293457653326,1.1873964111887994]
[null,null,null,1.3116698696271634,1.180502882664447]
[null,null,null,1.3039250128488824,1.1735325115639943]
[null,null,null,1.2960966403307239,1.1664869762976515]
[null,null,null,1.2881866400022233,1.159367976002001]
[null,null,null,1.2801969225240484,1.1521772302716435]
[null,null,null,1.2721294209858307,1.1449164788872477]
[null,null,null,1.2639860905990794,1.1375874815391716]
[null,null,null,1.2557689083858534,1.1301920175472682]
[null,null,null,1.2474798728630532,1.1227318855767479]
[null,null,null,1.2391210037213121,1.115208903349181]
[null,null,null,1.2306943415008185,1.1076249073507367]
[null,null,null,1.2222019472614534,{"$f":"D1339*0.9","v":1.0999817525353082}]
[null,null,null,1.2136459022489774,1.0922813120240797]
[null,null,null,1.2050283075564181,1.0845254768007764]
[null,null,null,1.1963512837815706,1.0767161554034137]
[null,null,null,1.1876169706786719,1.0688552736108048]
[null,null,null,1.1788275268074244,1.060944774126682]
[null,null,null,1.1699851291757639,1.0529866162581876]
[null,null,null,1.1610919728792446,1.0449827755913201]
[null,null,null,1.152150270735536,1.0369352436619825]
[null,null,null,1.1431622529140029,1.0288460276226026]
[null,null,null,1.134130166561846,1.0207171499056613]
[null,null,null,1.1250562754247895,1.0125506478823105]
[null,null,null,1.1159428594633134,1.0043485735169821]
[null,null,null,1.1067922144649351,0.99611299301844169]
[null,null,null,1.097606651651823,0.98784598648664079]
[null,null,null,1.0883884972834892,0.97954964755514029]
[null,null,null,1.0791400922548497,0.97122608302936475]
[null,null,null,1.0698637916914144,0.96287741252227299]
[null,null,null,1.0605619645372322,0.95450576808350895]
[null,null,null,1.0512369931408543,0.9461132938267689]
[null,null,null,1.0418912728356986,0.93770214555212872]
[null,null,null,1.0325272115152337,0.92927449036371035]
[null,null,null,1.0231472292052324,0.92083250628470914]
[null,null,null,1.013753757630397,0.91237838186735731]
[null,null,null,1.0043492397764666,0.90391431579881998]
[null,null,null,0.99493612944854348,0.89544251650368911]
[null,null,null,0.98551689082453109,0.88696520174207805]
[null,null,null,0.9760939980032326,0.87848459820290936]
[null,null,null,0.96666993455015415,0.87000294109513876]
[null,null,null,0.95724719303546379,0.86152247373191748]
[null,null,null,0.94782827457148855,0.85304544711433972]
[null,null,null,0.93841568834199407,0.84457411950779471]
[null,null,null,0.92901195112919055,0.83611075601627149]
[null,null,null,0.91961958683536693,0.8276576281518303]
[null,null,null,0.91024112600051765,0.81921701340046593]
[null,null,null,0.90087910531519455,0.81079119478367512]
[null,null,null,0.89153606712816114,0.802382460415345]
[null,null,null,0.88221455895098444,0.793993103055886]
[null,null,null,0.8729171329570562,0.78562541966135058]
[null,null,null,0.86364634547671315,0.77728171092904186]
[null,null,null,0.85440475648666947,0.7689642808380025]
[null,null,null,0.84519492909706173,0.76067543618735556]
[null,null,null,0.83601942903170112,0.75241748612853099]
[null,null,null,0.82688082410534136,0.7441927416948072]
[null,null,null,0.81778168369614335,0.73600351532652908]
[null,null,null,0.8087245782128285,0.72785212039154568]
[null,null,null,0.79971207855851389,0.71974087070266257]
[null,null,null,0.79074675558928931,0.71167208003036042]
[null,null,null,0.78183117956860926,0.70364806161174831]
[null,null,null,0.77296791961650868,0.69567112765485783]
[null,null,null,0.76415954315569223,0.68774358884012299]
[null,null,null,0.75540861535137083,0.67986775381623377]
[null,null,null,0.74671769854868231,0.67204592869381408]
[null,null,null,0.73808935170289303,0.66428041653260372]
[null,null,null,0.72952612980769871,0.65657351682692888]
[null,null,null,0.72103058331790493,0.6489275249861145]
[null,null,null,0.71260525756747484,0.64134473181072738]
[null,null,null,0.70425269218251074,0.63382742296425965]
[null,null,null,0.69597542049178784,0.62637787844260906]
[null,null,null,0.68777596893029624,0.6189983720372666]
[null,null,null,0.67965685644005447,0.61169117079604907]
[null,null,null,0.67162059386575024,0.60445853447917519]
[null,null,null,0.66366968334552112,0.59730271501096899]
[null,null,null,0.65580661769807236,0.5902259559282651]
[null,null,null,0.64803387980443006,{"$f":"D1403*0.9","v":0.58323049182398712}]
[null,null,null,0.64035394198614171,0.57631854778752756]
[null,null,null,0.6327692653778989,0.56949233884010908]
[null,null,null,0.62528229929617751,0.56275406936655981]
[null,null,null,0.6178954806038135,0.55610593254343221]
[null,null,null,0.61061123306949128,0.54955010976254215]
[null,null,null,0.60343196672251409,0.54308877005026268]
[null,null,null,0.59636007720365214,0.53672406948328699]
[null,null,null,0.58939794511150367,0.53045815060035328]
[null,null,null,0.582547935343662,0.52429314180929587]
[null,null,null,0.57581239643415927,0.51823115679074339]
[null,null,null,0.5691936598856735,0.51227429389710621]
[null,null,null,0.562694039498151,0.50642463554833594]
[null,null,null,0.5563158306918865,0.50068424762269792]
[null,null,null,0.55006130982696533,0.49505517884426881]
[null,null,null,0.54393273351741911,0.48953946016567723]
[null,null,null,0.53793233794157302,0.48413910414741573]
[null,null,null,0.53206233814807646,0.47885610433326881]
[null,null,null,0.52632492735560277,0.47369243462004251]
[null,null,null,0.52072227625081524,0.46865004862573373]
[null,null,null,0.5152565322797038,0.46373087905173344]
[null,null,null,0.50992981893508116,0.45893683704157306]
[null,null,null,0.50474423503984411,0.45426981153585971]
[null,null,null,0.49970185402534639,0.44973166862281178]
[null,null,null,0.49480472320550817,0.44532425088495736]
[null,null,null,0.49005486304626444,0.44104937674163802]
[null,null,null,0.48545426643055478,0.43690883978749934]
[null,null,null,0.4810048979185737,0.43290440812671632]
[null,null,null,0.47670869300480945,0.42903782370432852]
[null,null,null,0.4725675573676007,0.42531080163084062]
[null,null,null,0.46858336611829188,0.42172502950646268]
[null,null,null,0.46475796304208927,0.41828216673788038]
[null,null,null,0.46109315983664345,0.4149838438529791]
[null,null,null,0.45759073534545891,0.41183166181091302]
[null,null,null,0.45425243478686994,0.40882719130818296]
[null,null,null,0.45107996897838731,0.40597197208054858]
[null,null,null,0.44807501355684565,0.40326751220116108]
[null,null,null,0.4452392081934633,0.40071528737411699]
[null,null,null,0.44257415580525716,0.39831674022473146]
[null,null,null,0.44008142176094012,0.39607327958484612]
[null,null,null,0.43776253308306678,0.39398627977476014]
[null,null,null,0.43561897764554658,0.39205707988099192]
[null,null,null,0.43365220336663768,0.39028698302997394]
[null,null,null,0.43186361739693879,0.38867725565724492]
[null,null,null,0.43025458530320648,0.38722912677288585]
[null,null,null,0.42882643024857003,0.38594378722371303]
[null,null,null,0.42758043216672093,0.38482238895004883]
[null,null,null,0.42651782693217299,0.38386604423895571]
[null,null,null,0.42563980552654002,0.38307582497388604]
[null,null,null,0.42494751319972579,0.38245276187975324]
[null,null,null,0.42444204862659518,0.3819978437639357]
[null,null,null,0.42412446305989704,0.38171201675390737]
[null,null,null,0.42399575947731094,0.38159618352957986]
[null,null,null,0.42405689172502647,0.38165120255252383]
[null,null,null,0.42430876365719428,0.38187788729147487]
[null,null,null,0.42475222826966075,0.38227700544269466]
[null,null,null,0.4253880868295532,0.38284927814659792]
[null,null,null,0.42621708800119862,0.38359537920107878]
[null,null,null,0.42723992696675595,0.38451593427008035]
[null,null,null,0.42845724454184619,0.38561152008766159]
[null,null,null,0.42986962628840075,0.3868826636595607]
[null,null,null,0.43147760162134929,0.3883298414592144]
[null,null,null,0.43328164291118654,0.38995347862006791]
[null,null,null,0.43528216458306446,0.391753948124758]
[null,null,null,0.43747952220905972,{"$f":"D1467*0.9","v":0.39373156998815378}]
[null,null,null,0.43987401159967376,0.39588661043970641]
[null,null,null,0.44246586788637998,0.39821928109774202]
[null,null,null,0.44525526460317622,0.40072973814285862]
[null,null,null,0.44824231276151494,0.40341808148536346]
[null,null,null,0.45142705992276433,0.4062843539304879]
[null,null,null,0.4548094892634289,0.40932854033708604]
[null,null,null,0.45838951863829536,0.41255056677446583]
[null,null,null,0.46216699963794383,0.41595029967414948]
[null,null,null,0.4661417166418218,0.41952754497763961]
[null,null,null,0.47031338586716842,0.4232820472804516]
[null,null,null,0.47468165441310717,0.42721348897179645]
[null,null,null,0.47924609930007733,0.43132148937006959]
[null,null,null,0.4840062265058549,0.43560560385526942]
[null,null,null,0.48896146999521051,0.44006532299568946]
[null,null,null,0.49411119074659027,0.44470007167193126]
[null,null,null,0.49945467577345326,0.44950920819610796]
[null,null,null,0.50499113714187871,0.45449202342769085]
[null,null,null,0.51071971098328106,0.45964773988495294]
[null,null,null,0.51663945650223653,0.46497551085201289]
[null,null,null,0.52274935497930741,0.47047441948137669]
[null,null,null,0.52904830877233167,0.47614347789509853]
[null,null,null,0.53553514030895855,0.48198162627806268]
[null,null,null,0.54220859107793729,0.48798773197014356]
[null,null,null,0.54906732061384744,0.4941605885524627]
[null,null,null,0.55610990547949868,0.50049891493154886]
[null,null,null,0.5633348382409622,0.507001354416866]
[null,null,null,0.57074052644095019,0.51366647379685515]
[null,null,null,0.57832529156628354,0.52049276240965525]
[null,null,null,0.58608736800978889,0.52747863120881]
[null,null,null,0.59402490203003566,0.53462241182703207]
[null,null,null,0.60213595070504766,0.54192235563454294]
[null,null,null,0.61041848088198236,0.54937663279378413]
[null,null,null,0.61887036812224139,0.55698333131001732]
[null,null,null,0.62748939564163564,0.56474045607747214]
[null,null,null,0.63627325324682005,0.57264592792213809]
[null,null,null,0.64521953626660888,0.58069758263994797]
[null,null,null,0.65432574447914149,0.58889317003122732]
[null,null,null,0.6635892810344437,0.59723035293099935]
[null,null,null,0.67300745137187334,0.60570670623468603]
[null,null,null,0.68257746213523518,0.61431971592171164]
[null,null,null,0.69229642007880443,0.62306677807092403]
[null,null,null,0.70216133097605749,0.63194519787845171]
[null,null,null,0.71216909851578336,0.640952188664205]
[null,null,null,0.72231652319929651,0.65008487087936684]
[null,null,null,0.73260030123173436,0.65934027110856097]
[null,null,null,0.74301702340738629,0.66871532106664766]
[null,null,null,0.75356317399274886,0.67820685659347402]
[null,null,null,0.76423512960355566,0.68781161664320012]
[null,null,null,0.77502915807760075,0.69752624226984072]
[null,null,null,0.78594141734392764,0.70734727560953492]
[null,null,null,0.79696795428494838,0.71727115885645354]
[null,null,null,0.80810470359805109,0.72729423323824605]
[null,null,null,0.8193474866497823,0.73741273798480411]
[null,null,null,0.8306920103249098,0.74762280929241887]
[null,null,null,0.84213386587480343,0.75792047928732309]
[null,null,null,0.85366852775734614,0.7683016749816115]
[null,null,null,0.86529135247400291,0.77876221722660266]
[null,null,null,0.87699757740086426,0.78929781966077783]
[null,null,null,0.88878231962077336,0.79990408765869603]
[null,null,null,0.90064057474122095,0.81057651726709889]
[null,null,null,0.91256721571843613,0.82131049414659252]
[null,null,null,0.92455699166637828,0.83210129249974052]
[null,null,null,0.93660452667231908,0.8429440740050872]
[null,null,null,0.94870431859764537,{"$f":"D1531*0.9","v":0.85383388673788085}]
[null,null,null,0.96085073788104935,0.86476566409294442]
[null,null,null,0.97303802633404501,0.87573422370064058]
[null,null,null,0.98526029593341491,0.88673426634007346]
[null,null,null,0.99751152760843098,0.89776037484758786]
[null,null,null,1.0097855700218581,0.90880701301967226]
[null,null,null,1.0220761383523786,0.91986852451714085]
[null,null,null,1.0343768130633961,0.93093913175705656]
[null,null,null,1.0466810386770078,0.94201293480930703]
[null,null,null,1.0589821225356992,0.95308391028212935]
[null,null,null,1.0712732335634705,0.96414591020712348]
[null,null,null,1.0835474010220167,0.97519266091981505]
[null,null,null,1.0957975132622479,0.98621776193602317]
[null,null,null,1.1080163164696728,0.99721468482270559]
[null,null,null,1.1201964134085678,1.0081767720677111]
[null,null,null,1.1323302621592113,1.0190972359432902]
[null,null,null,1.1444101748482041,1.0299691573633838]
[null,null,null,1.1564283163832769,1.0407854847449494]
[null,null,null,1.1683767031716705,1.0515390328545036]
[null,null,null,1.1802472018427785,1.0622224816585006]
[null,null,null,1.192031527963799,1.072828375167419]
[null,null,null,1.2037212447481096,1.0833491202732988]
[null,null,null,1.2153077617642722,1.093776985587845]
[null,null,null,1.226782333635466,1.1041041002719194]
[null,null,null,1.2381360587384656,1.114322452864619]
[null,null,null,1.2493598778950243,1.1244238901055219]
[null,null,null,1.2604445730603544,1.1344001157543191]
[null,null,null,1.2713807660076277,1.1442426894068649]
[null,null,null,1.2821589170072478,1.153943025306523]
[null,null,null,1.2927693234992468,1.1634923911493222]
[null,null,null,1.3032021187656611,1.172881906889095]
[null,null,null,1.3134472705973934,1.1821025435376542]
[null,null,null,1.3234945799514897,1.1911451219563407]
[null,null,null,1.3333336796106856,1.2000003116496172]
[null,null,null,1.3429540328353369,1.2086586295518031]
[null,null,null,1.3523449320101761,1.2171104388091585]
[null,null,null,1.3614954972880007,1.2253459475592006]
[null,null,null,1.3703946752281873,1.2333552077053687]
[null,null,null,1.3790312374296398,1.2411281136866759]
[null,null,null,1.3873937791642277,1.2486544012478049]
[null,null,null,1.395470717997604,1.2559236461978436]
[null,null,null,1.4032502924099894,1.2629252631689905]
[null,null,null,1.4107205604174062,1.2696485043756656]
[null,null,null,1.4178693981764852,1.2760824583588366]
[null,null,null,1.4246844985956386,1.2822160487360748]
[null,null,null,1.4311533699378209,1.2880380329440388]
[null,null,null,1.4372633344158992,1.2935370009743092]
[null,null,null,1.4430015267894483,1.2987013741105036]
[null,null,null,1.4483548929502703,1.3035194036552433]
[null,null,null,1.4533101885109261,1.3079791696598335]
[null,null,null,1.4578539773803847,1.3120685796423464]
[null,null,null,1.4619726303454676,1.3157753673109209]
[null,null,null,1.4656523236352399,1.3190870912717159]
[null,null,null,1.4688790374914831,1.3219911337423349]
[null,null,null,1.4716385547305286,1.3244746992574759]
[null,null,null,1.4739164592999749,1.3265248133699774]
[null,null,null,1.4756981348322817,1.3281283213490536]
[null,null,null,1.4769687631918629,1.3292718868726767]
[null,null,null,1.4777133230204171,1.3299419907183754]
[null,null,null,1.4779165882773349,1.3301249294496014]
[null,null,null,1.4775631267729388,1.3298068140956449]
[null,null,null,1.4766372986989964,1.3289735688290969]
[null,null,null,1.475123255155367,1.3276109296398304]
[null,null,null,1.4730049366719875,1.3257044430047888]
[null,null,null,1.4702660717241507,{"$f":"D1595*0.9","v":1.3232394645517356}]
[null,null,null,1.4668901752486967,1.3202011577238271]
[null,null,null,1.4628605471451195,1.3165744924306075]
[null,null,null,1.4581602707876442,1.3123442437088799]
[null,null,null,1.4527722115157253,1.3074949903641528]
[null,null,null,1.4466790151358531,1.3020111136222678]
[null,null,null,1.439863106405852,1.2958767957652668]
[null,null,null,1.4323066875242958,1.2890760187718662]
[null,null,null,1.4239917366083823,1.2815925629475442]
[null,null,null,1.4149000061723775,1.2734100055551398]
[null,null,null,1.4050130215983323,1.2645117194384992]
[null,null,null,1.3943120796055837,1.2548808716450253]
[null,null,null,1.3827782467098544,1.2445004220388689]
[null,null,null,1.3703923576846471,1.2333531219161824]
[null,null,null,1.3571350140158138,1.2214215126142325]
[null,null,null,1.342986582346974,1.2086879241122765]
[null,null,null,1.3279271929287404,1.1951344736358664]
[null,null,null,1.3119367380570885,1.1807430642513796]
[null,null,null,1.2949948705074057,1.1654953834566653]
[null,null,null,1.2770810019703056,1.149372901773275]
[null,null,null,1.2581743014737796,1.1323568713264016]
[null,null,null,1.2382536938096678,1.114428324428701]
[null,null,null,1.2172978579490668,1.0955680721541601]
[null,null,null,1.1952852254540396,1.0757567029086357]
[null,null,null,1.1721939788922242,1.0549745810030018]

{"sheet":"Lookup","index":4,"n_rows":500,"n_cols":27,"rows_kept":500,"cut":false,"hidden":false,"merged":[]}
[1,"Device Name","Average Active Current (Amps)","Average Quiescent Current (Amps)","mS Active/Scan Interval","Seconds/Comm Interval","Duty Cycle",null,null,"Categories"]
[{"$f":"A1+1","v":2},null,null,null,null,null,null,null,null,"Dataloggers"]
[{"$f":"A2+1","v":3},"Dataloggers",0,0,0,0,0,null,null,"Sensors"]
[4,"--------------------------------",0,0,0,0,0,null,null,"Network Peripherals"]
[5,"CR1000",0.01,5.9999999999999995E-4,250,null,1,null,null,"Peripherals"]
[6,"CR10X",4.4999999999999998E-2,1E-3,45,null,1,null,null,"Communications"]
[7,"CR200X",3.0000000000000001E-3,2.0000000000000001E-4,250,null,1,null,null,"Cameras"]
[8,"CR206 1 Sec Radio",2.2000000000000001E-3,2.2000000000000001E-3,86400000,null,1,null,null,"Other"]
[9,"CR206X 8 Sec",3.0000000000000001E-3,4.4999999999999999E-4,150,null,1,null,null,"Batteries"]
[10,"CR206X Always on ",2.7E-2,2.7E-2,86400000000,null,1,null,null,"Solar Panels"]
[11,"CR216 1 sec",4.0000000000000001E-3,0,86400000,null,1,null,null,"Archive"]
[12,"CR216 8 Sec",8.0000000000000004E-4,0,86400000,null,1,null,null,"Select a Category"]
[13,"CR216 Radio always on ",3.5999999999999997E-2,0,86400000,null,1]
[14,"CR3000",1.4999999999999999E-2,2E-3,100,null,1]
[15,"CR5000",0.2,1.5E-3,64000,null,1]
[16,"CR5000 Card Active",0.26300000000000001,6.3E-2,50,null,1]
[17,"CR6",0.1,0.06,null,null,0.5]
[18,"CR850 Light",0.04,0,0,35,1]
[19,"CR8XX",0.01,5.9999999999999995E-4,100,null,1]
[20,"CR9000X/9041/9011/9032",0.48499999999999999,0.41,86400000,null,1,null,null,null,null,null,null,null,null,null,null,null,null,null,null,null,"Change Green Boxes",null,"E=I*R"]
[21,"CR9050",1.4999999999999999E-2,0,86400000,null,1,null,null,null,null,null,null,null,null,null,null,null,null,null,null,null,"Results in Pink",null,"E ","I","R"]
[22,"CR9051",1.4999999999999999E-2,0,86400000,null,1,null,null,null,null,null,null,null,null,null,null,null,null,null,null,null,null,null,{"$f":"Z22*AA22","v":2.5},2.5000000000000001E-2,100]
[23,"CR9052DC",0.5,5.0000000000000001E-3,86400000,null,1,null,null,null,null,null,null,null,null,null,null,null,null,null,null,null,null,null,12,{"$f":"Y23/AA23","v":0.34285714285714286},35]
[24,"CR9052IEPE",0.84,5.0000000000000001E-3,86400000,null,1,null,null,null,null,null,null,null,null,null,null,null,null,null,null,null,null,null,25,0.72,{"$f":"Y24/Z24","v":34.722222222222221}]
[25,"CR9055",1.4999999999999999E-2,0,86400000,null,1]
[26,"CR9055E",1.4999999999999999E-2,0,86400000,null,1,null,null,null,null,null,null,null,null,null,null,null,null,null,null,null,"P=I*E",null,null,"p=i*e"]
[27,"CR9058E",0.36,5.0000000000000001E-3,86400000,null,1,null,null,null,null,null,null,null,null,null,null,null,null,null,null,null,"P ","I","E",20,"mW"]
[28,"CR9060",0.125,0.108,86400000,null,1,null,null,null,null,null,null,null,null,null,null,null,null,null,null,null,{"$f":"X28*Y28","v":2.4000000000000004},24,0.1,12,"V"]
[29,"CR9071",2.5000000000000001E-2,2.5000000000000001E-2,86400000,null,1,null,null,null,null,null,null,null,null,null,null,null,null,null,null,null,73,{"$f":"W29/Y29","v":6.083333333333333},12,{"$f":"Z27/Z28","v":1.6666666666666667},"mA"]
[30,"CRX000 RS232",0.02,0,200,null,1,null,null,null,null,null,null,null,null,null,null,null,null,null,null,null,2.5,24,{"$f":"W30/X30","v":0.10416666666666667}]
[31]
[32,"Sensors",0,0,0,0,0]
[33,"--------------------------------",0,0,0,0,0]
[34,"014A",1.0000000000000001E-5,1.0000000000000001E-5,86400000000,null,1]
[35,"024A-L",2.5000000000000001E-4,2.5000000000000001E-4,86400000,null,1]
[36,"03001-L/03002-L",2.5000000000000001E-4,2.5000000000000001E-4,86400000,null,1]
[37,"034B-L",2.5000000000000001E-4,2.5000000000000001E-4,86400000,null,1]
[38,"05103-45-L Alpine",2.5000000000000001E-4,2.5000000000000001E-4,86400000,null,1]
[39,"05103-L",2.5000000000000001E-4,2.5000000000000001E-4,86400000,null,1]
[40,"05106-L",2.5000000000000001E-4,2.5000000000000001E-4,86400000,null,1]
[41,"05305-L",2.5000000000000001E-4,2.5000000000000001E-4,86400000,null,1]
[42,"083E-L",4.0000000000000001E-3,4.0000000000000001E-3,86400000,null,1]
[43,"092-L",0.01,0,10000,null,1]
[44,"105T-L",0,0,86400000,null,1]
[45,"107-L",2.5000000000000001E-4,0,2,null,1,null,null,null,null,null,null,null,null,null,null,null,null,null,null,null,"Revision History"]
[46,"108-L",2.5000000000000001E-4,0,2,null,1,null,null,null,null,null,null,null,null,null,null,null,null,null,null,null,"Date","Initials","Comments"]
[47,"109-L",2.5000000000000001E-4,0,2,null,1,null,null,null,null,null,null,null,null,null,null,null,null,null,null,null,"2010-05-13","BKM","Changed to allow 24 VDC vs 12 VDC. Customer must change cell H46 & H48 and Modify Solar panel ratings"]
[48,"127TC",0,0,86400000,null,1,null,null,null,null,null,null,null,null,null,null,null,null,null,null,null,"2010-09-21","BKM","Modified CE8 currents & CE4"]
[49,"223-L",2.5000000000000001E-4,0,2,null,1,null,null,null,null,null,null,null,null,null,null,null,null,null,null,null,"2010-10-23","BKM","Fixed 24 hour charging simulation & corrected total load to include losses.  Fixed slider controls to avoid going above 24 hours."]
[50,"227-L",2.5000000000000001E-4,0,2,null,1,null,null,null,null,null,null,null,null,null,null,null,null,null,null,null,"2010-11-01","BKM","Added more boxes to Battery Table and solar panel"]
[51,"229-L",2.5000000000000001E-4,0,2,null,1,null,null,null,null,null,null,null,null,null,null,null,null,null,null,null,"2010-11-18","BKM","Added in a 365 day simulation graph & fixed solar lookup formula to match changes made on 23 Oct"]
[52,"237-L",2.5000000000000001E-4,0,2,null,1,null,null,null,null,null,null,null,null,null,null,null,null,null,null,null,"2010-11-22","BKM","Added duty cycle option on the list of devices."]
[53,"385-L Non Heated",5.9999999999999995E-4,5.9999999999999995E-4,86400000,null,1,null,null,null,null,null,null,null,null,null,null,null,null,null,null,null,"2011-04-15","BKM","Modified look of first page"]
[54,"43347-L Temp",2.5000000000000001E-3,0,20,null,1,null,null,null,null,null,null,null,null,null,null,null,null,null,null,null,"2011-06-03","BKM","Added more boxes to the Lookup list (from 300 to 400)"]
[55,"43502-L Ventilator",0.5,0,86400000,null,1,null,null,null,null,null,null,null,null,null,null,null,null,null,null,null,"2011-06-03","BKM","Moved all of the calculation tables on the Budget tab to column aa and removed all conditional formatting on these to avoid drawing attention to them."]
[56,"52202-L 12 VDC",0.36,0,0,null,0.5,null,null,null,null,null,null,null,null,null,null,null,null,null,null,null,"2013-01-25","BKM","Added in formula to derate battery capacity due to cold temperatures"]
[57,"52202-L 24 VDC",0.72,0,86400000,null,0.5,null,null,null,null,null,null,null,null,null,null,null,null,null,null,null,"2013-12-04","BKM","Fixed bug on temperature compensation to limit the formula to max battery size.  Was over sizing bat at 25°C."]
[58,"ASPTC-L",0.26,0.26,86400000,null,1,null,null,null,null,null,null,null,null,null,null,null,null,null,null,null,"2013-12-04","BKM","Added in 17 Ahr Battery"]
[59,"CMP3",0,0,86400000,null,1]
[60,"CNF4 Heater",0.9,0,0,null,0.7]
[61,"CNR1 Heater",0.5,0,86400000,30,1]
[62,"CS100 A",3.0000000000000001E-3,9.9999999999999995E-7,0,45,1]
[63,"CS106 Active",4.0000000000000001E-3,9.9999999999999995E-7,10,null,1]
[64,"CS110 1 sec scan",0.06,0.06,86400000,null,1]
[65,"CS110 select scan",0.75,5.9999999999999995E-4,79,null,1,null,null,null,null,null,null,null,null,null,null,null,null,null,null,null,"Ideas for improvement:"]
[66,"CS115A",8.0000000000000002E-3,9.9999999999999995E-7,2,null,1]
[{"$f":"A66+1","v":67},"CS120",0.1,8.0000000000000002E-3,86400000,null,1,null,null,null,null,null,null,null,null,null,null,null,null,null,null,null,1,"Add \"Reset-all\" button."]
[68,"CS120 Dew Heaters",0.08,0,0,600,1,null,null,null,null,null,null,null,null,null,null,null,null,null,null,null,2,"Add Reserve Time by Latitude in lookup table."]
[69,"CS210",5.0000000000000001E-4,5.0000000000000001E-4,864000,null,1,null,null,null,null,null,null,null,null,null,null,null,null,null,null,null,3,"Add Peak Sun hours by zip code or country"]
[70,"CS215-L A",1.6999999999999999E-3,6.9999999999999994E-5,150,null,1,null,null,null,null,null,null,null,null,null,null,null,null,null,null,null,4,"Change colors for color blind"]
[71,"CS215-L*25",4.2500000000000003E-2,1.75E-3,15000,null,1,null,null,null,null,null,null,null,null,null,null,null,null,null,null,null,5,"Add hints if reserve too low or loads too high"]
[72,"CS300-L",0,0,86400000,null,1,null,null,null,null,null,null,null,null,null,null,null,null,null,null,null,6,"Show formulas. "]
[73,"CS410-L",0.22222,0,86400000,null,1,null,null,null,null,null,null,null,null,null,null,null,null,null,null,null,7,"On line 33, show summary of reserve time, recommendations, etc."]
[74,"CS450-L 1 SEC Measure",0.04,0.04,86400000,null,1]
[75,"CS450-L/451-L",2E-3,8.0000000000000007E-5,86400000,null,1,null,null,null,null,null,null,null,null,null,null,null,null,null,null,null,8,"Duty cycle up/down button for each of the loads"]
[76,"CS455-L/456-L",2E-3,8.0000000000000007E-5,86400000,null,1,null,null,null,null,null,null,null,null,null,null,null,null,null,null,null,9,"Link to SCWin so that Power Budget is Automatic, or have SCWin take values from work sheet."]
[77,"CS475/476/477",1.4E-2,4.7000000000000002E-3,180000,null,1,null,null,null,null,null,null,null,null,null,null,null,null,null,null,null,10,"Calculate Battery size needed for backup desired, and solar panel for hours of sun at site."]
[78,"CS547A-L",2.5000000000000001E-3,0,86400000,null,1,null,null,null,null,null,null,null,null,null,null,null,null,null,null,null,11,"Cold Temp Winter Extreem temperature affect on battery."]
[79,"CS616-L Active",6.5000000000000002E-2,4.5000000000000003E-5,50,null,1]
[80,"CS616-L*4*Mux16",6.5000000000000002E-2,4.5000000000000003E-5,3200,null,1,null,null,null,null,null,null,null,null,null,null,null,null,null,null,null,null,"Ideas for improvement:"]
[81,"CS625-L Active",6.5000000000000002E-2,4.5000000000000003E-5,50,null,1]
[82,"CS650-L * 5",7.5000000000000002E-4,6.7500000000000004E-4,0,60,1,null,null,null,null,{"$f":"14400/3600","v":4},null,null,null,null,null,null,null,null,null,null,1,"Add in Longitude, Latitude, Elevation calculations"]
[83,"CS650-L/CS655-L",1.4999999999999999E-4,1.35E-4,0,60,1]
[84,"CS700-L",1.0000000000000001E-5,1.0000000000000001E-5,86400000,null,1,null,null,null,null,null,null,null,null,null,null,null,null,null,null,null,3,"Show a graph of backup days with a series of different sized batteries."]
[85,"CS725",0.18,0.18,86400000,null,1,null,null,null,null,null,null,null,null,null,null,null,null,null,null,null,4,"Add SDM-CD8S"]
[86,"CSAT3",6.7000000000000004E-2,6.7000000000000004E-2,86400000,null,1,null,null,null,null,null,null,null,null,null,null,null,null,null,null,null,5,"Unlock some cells on first page for notes."]
[87,"CSAT3 20 Hz",0.1,0.1,86400000,null,1,null,null,null,null,null,null,null,null,null,null,null,null,null,null,null,6,"Redesign and set print area so that the report can be printed easily."]
[88,"CSAT3 60 Hz",0.2,0.2,86400000,null,1,null,null,null,null,null,null,null,null,null,null,null,null,null,null,null,7,"Add in feature to block out part of sky for obstructions (derate total hours even more for obstructions)."]
[89,"CSD3",0.01,0.01,null,null,1,null,null,null,null,null,null,null,null,null,null,null,null,null,null,null,8,"Add a line for the name of the project"]
[90,"CSD3 1 watt heater",0.111,8.3000000000000001E-3,null,300]
[91,"CSD3 10 watt",1.111,8.3000000000000001E-3,null,300]
[92,"CSIM11",0,0,86400000,null,1]
[93,"CVF4 Fan 5 watts",0.42499999999999999,0.42499999999999999,null,null,1]
[94,"CVF4 Heater 5.5 watts",0.47,0,null,900]
[95,"EC150 Preliminary",0.5,0.5,86400000,null,1]
[96,"EKO STR-21G Sun Tracker",0.83299999999999996,0.83299999999999996,null,null,1]
[97,"GPS16-HVS",6.5000000000000002E-2,6.5000000000000002E-2,0,10,1]
[98,"HC2S3-L",2E-3,2.0000000000000001E-4,60000,null,1]
[99,"HFP01-L",0,0,86400000,null,1]
[100,"HFP01SC",0.02,0,2,null,1]
[101,"HMP155A-L 2 second",3.0000000000000001E-3,0,2100,null,1]
[102,"HMP155A-L always on",3.0000000000000001E-3,3.0000000000000001E-3,86400000,null,1]
[103,"HMP50-L",2E-3,0,200,null,1]
[104,"KH20",1.4999999999999999E-2,1.4999999999999999E-2,86400000,null,1]
[105,"LI190SB-L",0,0,86400000,null,1]
[106,"LI200X-L",0,0,86400000,null,1]
[107,"LP02-L",0,0,null,null,1]
[108,"LWS-L",2.5000000000000001E-3,0,10]
[109,"NR-LITE-L",0,0,86400000,null,1]
[110,"OBS-3+ 4-20 mA 10 s",4.4999999999999998E-2,0,10000,null,1]
[111,"OBS-3+ Vout 10 sec",1.4999999999999999E-2,0,10000,null,1]
[112,"OBS300 4-20 mA 10 s",4.4999999999999998E-2,0,10000,null,1]
[113,"OBS300 Vout 10 sec",1.4999999999999999E-2,0,10000,null,1]
[114,"OBS500 Burst 100",0.04,0,40000,null,1]
[115,"OBS500 shutter 20 sec",0.12,2.0000000000000001E-4,0,20,1]
[116,"OBS-L",1.4999999999999999E-2,0,86400000,null,1]
[117,"PWS100 - SDI12 - dew heater",0.2,0.2,86400000,null,1]
[118,"PWS100 Hood Heater Only",14,14,86400000,null,1]
[119,"PWS100 w/DewHeat & SDI12",1,1,86400000,null,1]
[120,"RA100 Light pole",0.25,0,86400000,null,1]
[121,"SR50A-L rs232",0.25,2E-3,300,null,1]
[122,"SR50A-L SDI-12",0.25,1E-3,400,null,1]
[123,"Stevens Hydra Probe II",0.03,1E-3,30000]
[124,"TB4-L",1.0000000000000001E-5,1.0000000000000001E-5,86400000,null,1]
[125,"TCAV-L",0,0,86400000,null,1]
[126,"TDR100 Measure",0.27,2E-3,0,4,1]
[127,"TE525-L",1.0000000000000001E-5,1.0000000000000001E-5,1,null,1]
[128,"TE525MM-L",1.0000000000000001E-5,1.0000000000000001E-5,1,null,1]
[129,"TE525WS-L",1.0000000000000001E-5,1.0000000000000001E-5,1,null,1]
[130,"UVS-B K&Z Heater",0.86399999999999999,7.4999999999999997E-2,null,null,0.25]
[{"$f":"A130+1","v":131},"WINDSONIC1-L",1.4999999999999999E-2,1.4999999999999999E-2,86400000,null,1]
[132,"WINDSONIC4-L",2.3E-2,2.3E-2,86400000,null,1]
[133,"WXT520",3.0000000000000001E-3,0,86400000,0,1]
[134,"WXT520 Heater Only",1.1000000000000001,0,0,60,1]
[135,"Young 85000",0.03,1E-3,400,null,1]
[136]
[137,"Network Peripherals",0,0,0,0,0]
[138,"--------------------------------",0,0,0,0,0]
[139,"NL100",0.14000000000000001,0.14000000000000001,86400000,6,1]
[140,"NL115 Card",2.3E-2,0.02,86400000,2,1]
[141,"NL115 Ethernet",0.02,0.02,86400000,6,1]
[142,"NL115 Ethernet Sleep",0.02,2E-3,86400000,null,1]
[143,"NL120",0.02,0.02,86400000,null,1]
[144,"NL200 Always On",0.05,2E-3,86400000,null,1]
[145,"NL200 IPNetPower",0.05,2E-3,0,300,1]
[146,"NL201 Always on",0.05,0.05,null,null,1]
[147,"NL240",5.6000000000000001E-2,0.05,86400000,null,1]
[148,"NL240 Low Power mode",0.04,6.1000000000000004E-3,86400000,null,1]
[149,"NP1",1,2,3,4,0.05]
[150,"NP2",2,3,4,5,0.06]
[151,"NP3",3,4,5,6,7.0000000000000007E-2]
[152,"NP4",4,5,6,7,0.08]
[153,"NP5",5,6,7,8,0.09]
[154]
[155,"Peripherals",0,0,0,0,0]
[156,"--------------------------------",0,0,0,0,0]
[157,"A547",6.9999999999999999E-6,6.9999999999999999E-6,86400000,null,1]
[158,"A6REL-12 active relay",0.03,6.0000000000000002E-6,0,30,1]
[159,"AM16/32(A)(B)",6.0000000000000001E-3,2.1000000000000001E-4,0,60,1]
[160,"AM25T Active",1E-3,5.0000000000000001E-4,0,4,1]
[161,"AVW200 * 16",0.04,2.9999999999999997E-4,32000,null,1]
[162,"AVW200 * 32",0.04,2.9999999999999997E-4,64000,null,1]
[163,"AVW200 * 4",0.04,2.9999999999999997E-4,8000,null,1]
[164,"AVW200 * 8",0.04,2.9999999999999997E-4,16000,null,1]
[165,"AVW200 1 Sensor 2 se",0.04,2.9999999999999997E-4,2000,null,1]
[166,"AVW206 1 sens 8 sec Radio",7.5000000000000002E-4,7.5000000000000002E-4,2000,null,1]
[167,"AVW206 2 Sens .5 sec radio",4.3999999999999997E-2,4.3E-3,4000,null,1]
[168,"CD294 Active",5.4999999999999997E-3,4.0000000000000003E-5,0,30,1]
[169,"CH200/PS200",4.0000000000000002E-4,4.0000000000000002E-4,86400000,null,1]
[170,"CR1000KD A no light",7.0000000000000001E-3,1E-4,0,45,1]
[171,"CR1000KD A w/light",0.1,1E-4,0,35,1]
[172,"CR1000KD Active",1.4999999999999999E-2,1E-4,0,45,1]
[173,"CURS100",0.02,4.0000000000000001E-3,15,null,1]
[174,"LLAC4",1E-4,1E-4,86400000,null,1]
[175,"MorningStar",0.01,0.01,86400000,null,1]
[176]
[177,"Communications",0,0,0,0,0]
[178,"--------------------------------",0,0,0,0,0]
[179,"CFM100 Active",0.02,8.0000000000000004E-4,20,1,1]
[180,"COM220 A",0.03,1.2E-4,null,300,1]
[181,"COM310 A",0.14000000000000001,1E-4,null,30,1]
[182,"FC100 Fiber Optic converter",5.0000000000000001E-3,0,8640000,null,1]
[183,"MD485",2E-3,1.1999999999999999E-3,200,null,1]
[184,"MD485 Transmit",7.0000000000000001E-3,1.1999999999999999E-3,0,10,1]
[185,"Nano",0.16600000000000001,0.1,10000,null,1]
[186,"RavenXT 9 hrs/day",0.12,0,0,null,0.38]
[187,"RavenXTG",0.12,0.05,0,300,1]
[188,"RavenXTV",0.12,0.05,0,30,1]
[189,"RavenXTV 10 min Cycle power",0.12,0,0,600,1]
[190,"RF300/304 Tx",1.5,0.05,0,5,1]
[191,"RF310 B AC",2,2,0,60,1]
[192,"RF310M",3.5000000000000003E-2,3.5000000000000003E-2,0,5,1]
[193,"RF31X RADIOS Rx",3.5000000000000003E-2,3.5000000000000003E-2,0,0,1]
[194,"RF31X RADIOS Tx1",0.8,3.5000000000000003E-2,0,1,1]
[{"$f":"A194+1","v":195},"RF31X RADIOS Tx5",1.5,3.5000000000000003E-2,0,1,1]
[196,"RF320",1.2,2.5000000000000001E-2,null,0.5,1]
[197,"RF401 0.5 sec",7.4999999999999997E-2,4.0000000000000001E-3,0,5,1]
[198,"RF401 1 Sec Header",7.4999999999999997E-2,2E-3,0,5,1]
[199,"RF401 8 Sec Header",7.4999999999999997E-2,4.0000000000000002E-4,0,5,1]
[200,"RF401 Always On",7.4999999999999997E-2,2.4E-2,0,5,1]
[201,"RF401 Transmit",7.4999999999999997E-2,0,0,5,1]
[202,"RF416 (415) 0.5 sec",7.5999999999999998E-2,5.4999999999999997E-3,0,10,1]
[203,"RF416 (415) 1 Sec Header",7.5999999999999998E-2,2.8E-3,0,10,1]
[204,"RF416 (415) 8 Sec Header",7.5999999999999998E-2,1.5E-3,0,10,1]
[205,"RF416 (415) Always On",7.5999999999999998E-2,3.3000000000000002E-2,0,10,1]
[206,"RF450 Idle",2.1999999999999999E-2,7.0000000000000001E-3,111,2,1]
[207,"RF450 R",7.5999999999999998E-2,0,0,5,0]
[208,"RF450 T",0.5,0,0,2,1]
[209,"RF500M",1.4999999999999999E-2,3.5E-4,86400000,null,1]
[210,"SAT ARGOS",0.22222,0.222,86400000,15,1]
[211,"SC105",1.2E-2,1.2E-2,86400000,2,1]
[212,"SC32B",1.4999999999999999E-2,1.4999999999999999E-2,86400000,2,1]
[213,"SC929",0.01,0.01,86400000,5,1]
[214,"SC932",1.4999999999999999E-2,1.4999999999999999E-2,86400000,5,1]
[215,"SC-CPI",0.05,0.05,86400000,null,1]
[216,"SDM1502",0.22222,0.222,86400000,null,1]
[217,"SDM-AO4",1.0500000000000001E-2,1.0500000000000001E-2,86400000,null,1]
[218,"SDM-CAN",0.22222,0,86400000,null,1]
[219,"SDM-CD16AC",0.72,0.5,0,30,1]
[220,"SDM-CD8S 1 LED",1.7500000000000002E-2,1.4999999999999999E-2,0,45,1]
[221,"SDM-CD8S 8 LED",3.5000000000000003E-2,1.4999999999999999E-2,0,45,1]
[222,"SDM-CVO4",7.0000000000000007E-2,7.0000000000000007E-2,86400000,null,1]
[223,"SDM-INT8",0.02,0.02,86400000,null,1]
[224,"SDM-SIO1 Active",1.2500000000000001E-2,6.9999999999999994E-5,0,10,1]
[225,"SDM-SIO1 Idle",5.4999999999999997E-3,6.9999999999999994E-5,0,10,1]
[226,"SDM-SIO4",2.9000000000000001E-2,2.9000000000000001E-2,86400000,null,1]
[227,"SDM-SW8A",6.0000000000000001E-3,3.0000000000000001E-3,0,20,1]
[228,"SDMX50",0.09,1E-3,0,4,1]
[229,"SDMX50LP",0.09,1E-3,0,4,1]
[230,"Tranzeo",0.29170000000000001,0,10000]
[231,"TX312/320 Tx",2.6,5.0000000000000001E-3,0,15,1]
[232,"VSP3",7.4999999999999997E-2,2.5000000000000001E-2,0,6,1]
[233,"XTend-NEMA",0.11,0.03,1150,null,1]
[234]
[235,"Cameras",0,0,0,0,0]
[236,"--------------------------------",0,0,0,0,0]
[237,"CC5MPX",0.25,1E-3,90000,90,1]
[238,"CC5MPX Heater",1.2,0,0,300,1]
[239]
[240,"Other",0,0,0,0,0]
[241,"--------------------------------",0,0,0,0,0]
[242,"CDM-VW300",0.115,0.115,86400000,null,1]
[243,"CDM-VW305",0.19,0.19,86400000,null,1]
[244,"CE4 * 16 (mux)",7.4999999999999997E-2,0,480000,null,1]
[245,"CE4 1 sensor",0.05,0,30000,null,1]
[246,"CE8 1 sensor",0.05,0,30000,null,1]
[247,"CE8 2 sensors",7.4999999999999997E-2,0,60000,null,1]
[248,"CE8*6",7.4999999999999997E-2,0,180000,null,1]
[249,"DCDC18R",4.0000000000000001E-3,4.0000000000000001E-3,86400000,null,1]
[250,"EasyAg II",0.1,2.5000000000000001E-4,30000,null,1]
[251,"ET107 w/o RS232",1.6E-2,1E-3,200,null,1]
[252,"ET107 w/RS232",2.8000000000000001E-2,1.6E-2,200,null,1]
[253,"Geonor Precip",0.05,0.05,86400000,null,1]
[254,"Hydro Wiper D",0.09,5.0000000000000004E-6,10000,10,1]
[255,"Load 1 Amp",1,1,null,null,1]
[256,"Load1 500 mA",0.5,0.5,null,null,1]
[257,"LT420 Analog Level Transmitter",0.02,4.0000000000000001E-3,50,null,1]
[258,"mA 1",1E-3,1E-3,null,null,1]
[{"$f":"A258+1","v":259},"mA 10",0.01,0.01,null,null,1]
[260,"mA 100",0.1,0.1,null,null,1]
[261,"mA 2",2E-3,2E-3,null,null,1]
[262,"mA 20",0.02,0.02,null,null,1]
[263,"mA 250",0.25,0.25,null,3600]
[264,"mA 5",5.0000000000000001E-3,5.0000000000000001E-3,null,null,1]
[265,"mA 50",0.05,0.05,null,null,1]
[266,"SA_COM_Signal",1.6000000000000001E-3,0,210,null,1]
[267,"SunSaver20",8.0000000000000002E-3,1E-4,10000,null,1]
[268,"VDIV10:1",1.2E-4,1.2E-4,86400000,null,1]
[269,"VDIV2:1",5.9999999999999995E-4,5.9999999999999995E-4,86400000,null,1]
[270,"XantrexC35",1.2999999999999999E-2,3.0000000000000001E-3,10000,null,1]
[271]
[272]
[273]
[274]
[275]
[276]
[277]
[278]
[279]
[280]
[281]
[282]
[283]
[284]
[285]
[286]
[287]
[288]
[289]
[290]
[291]
[292]
[293]
[294]
[295]
[296]
[297]
[298]
[299]
[300]
[301]
[302]
[303]
[304]
[305]
[306]
[307]
[308]
[309]
[310]
[311]
[312]
[313]
[314]
[315]
[316]
[317]
[318]
[319]
[320]
[321]
[322]
[{"$f":"A322+1","v":323}]
[324]
[325]
[326]
[327]
[328]
[329]
[330]
[331]
[332]
[333]
[334]
[335]
[336]
[337]
[338]
[339]
[340]
[341]
[342]
[343]
[344]
[345]
[346]
[347]
[348]
[349]
[350]
[351]
[352]
[353]
[354]
[355]
[356]
[357]
[358]
[359]
[360]
[361]
[362]
[363]
[364]
[365]
[366]
[367]
[368]
[369]
[370]
[371]
[372]
[373]
[374]
[375]
[376]
[377]
[378]
[379]
[380]
[381]
[382]
[383]
[384]
[385]
[386]
[{"$f":"A386+1","v":387}]
[388]
[389]
[390]
[391]
[392]
[393]
[394]
[395]
[396]
[397]
[398]
[399]
[400]
[401]
[402]
[403]
[404]
[405]
[406]
[407]
[408]
[409]
[410,null,null,null,null,null,null,null,null,null,null,null,null,null,null,"To change look up table size:"]
[411,null,null,null,null,null,null,null,null,null,null,null,null,null,null,"Change Drop down boxes in B3..B17"]
[412,null,null,null,null,null,null,null,null,null,null,null,null,null,null,"Change Chart look up in cell…k36..k48"]
[413,null,null,null,null,null,null,null,null,null,null,null,null,null,null,"AB13..AB26"]
[414,null,null,null,null,null,null,null,null,null,null,null,null,null,null,"AC13..AC26"]
[415,null,null,null,null,null,null,null,null,null,null,null,null,null,null,"AD13..AD26"]
[416,null,null,null,null,null,null,null,null,null,null,null,null,null,null,"AF13..AF26"]
[417,null,null,null,null,null,null,null,null,null,null,null,null,null,null,"AJ13..AJ26"]
[418]
[419]
[420]
[421]
[422]
[423]
[424]
[425]
[426]
[427]
[428]
[429]
[430]
[431]
[432]
[433]
[434]
[435]
[436]
[437]
[438]
[439]
[440]
[441]
[442]
[443]
[444]
[445]
[446]
[447]
[448]
[449]
[450]
[{"$f":"A450+1","v":451}]
[452]
[453]
[454]
[455]
[456]
[457]
[458]
[459]
[460]
[461]
[462]
[463]
[464]
[465]
[466]
[467]
[468]
[469]
[470]
[471]
[472]
[473]
[474]
[475]
[476]
[477]
[478]
[479]
[480]
[481]
[482]
[483]
[484]
[485]
[486]
[487]
[488]
[489]
[490]
[491]
[492]
[493]
[494]
[495]
[496]
[497]
[498]
[499]
[500]

{"sheet":"Alphabetical","index":5,"n_rows":1001,"n_cols":16,"rows_kept":1001,"cut":false,"hidden":false,"merged":[]}
[null,"Device Name","Average Active Current (Amps)","Average Quiescent Current (Amps)","mS Active/Scan Interval","Seconds/Comm Interval","Duty Cycle"]
[1,null,null,null,null,null,null,null,"Leave this row blank!!!!"]
[{"$f":"A2+1","v":2},"014A",1.0000000000000001E-5,1.0000000000000001E-5,86400000000,null,1]
[3,"024A-L",2.5000000000000001E-4,2.5000000000000001E-4,86400000,null,1]
[4,"03001-L/03002-L",2.5000000000000001E-4,2.5000000000000001E-4,86400000,null,1]
[5,"034B-L",2.5000000000000001E-4,2.5000000000000001E-4,86400000,null,1]
[6,"05103-45-L Alpine",2.5000000000000001E-4,2.5000000000000001E-4,86400000,null,1]
[7,"05103-L",2.5000000000000001E-4,2.5000000000000001E-4,86400000,null,1]
[8,"05106-L",2.5000000000000001E-4,2.5000000000000001E-4,86400000,null,1]
[9,"05305-L",2.5000000000000001E-4,2.5000000000000001E-4,86400000,null,1]
[10,"083E-L",4.0000000000000001E-3,4.0000000000000001E-3,86400000,null,1]
[11,"092-L",0.01,0,10000,null,1]
[12,"105T-L",0,0,86400000,null,1]
[13,"107-L",2.5000000000000001E-4,0,2,null,1]
[14,"108-L",2.5000000000000001E-4,0,2,null,1]
[15,"109-L",2.5000000000000001E-4,0,2,null,1]
[16,"127TC",0,0,86400000,null,1]
[17,"223-L",2.5000000000000001E-4,0,2,null,1]
[18,"227-L",2.5000000000000001E-4,0,2,null,1]
[19,"229-L",2.5000000000000001E-4,0,2,null,1]
[20,"237-L",2.5000000000000001E-4,0,2,null,1]
[21,"385-L Non Heated",5.9999999999999995E-4,5.9999999999999995E-4,86400000,null,1]
[22,"43347-L Temp",2.5000000000000001E-3,0,20,null,1]
[23,"43502-L Ventilator",0.5,0,86400000,null,1]
[24,"52202-L 12 VDC",0.36,0,0,null,0.5]
[25,"52202-L 24 VDC",0.72,0,86400000,null,0.5]
[26,"A547",6.9999999999999999E-6,6.9999999999999999E-6,86400000,null,1]
[27,"A6REL-12 active relay",0.03,6.0000000000000002E-6,0,30,1]
[28,"AM16/32(A)(B)",6.0000000000000001E-3,2.1000000000000001E-4,0,60,1]
[29,"AM25T Active",1E-3,5.0000000000000001E-4,0,4,1]
[30,"ASPTC-L",0.26,0.26,86400000,null,1]
[31,"AVW200 * 16",0.04,2.9999999999999997E-4,32000,null,1]
[32,"AVW200 * 32",0.04,2.9999999999999997E-4,64000,null,1]
[33,"AVW200 * 4",0.04,2.9999999999999997E-4,8000,null,1]
[34,"AVW200 * 8",0.04,2.9999999999999997E-4,16000,null,1]
[35,"AVW200 1 Sensor 2 se",0.04,2.9999999999999997E-4,2000,null,1]
[36,"AVW206 1 sens 8 sec Radio",7.5000000000000002E-4,7.5000000000000002E-4,2000,null,1]
[37,"AVW206 2 Sens .5 sec radio",4.3999999999999997E-2,4.3E-3,4000,null,1]
[38,"CC5MPX",0.25,1E-3,90000,90,1]
[39,"CC5MPX Heater",1.2,0,0,300,1]
[40,"CD294 Active",5.4999999999999997E-3,4.0000000000000003E-5,0,30,1]
[41,"CDM-VW300",0.115,0.115,86400000,null,1]
[42,"CDM-VW305",0.19,0.19,86400000,null,1]
[43,"CE4 * 16 (mux)",7.4999999999999997E-2,0,480000,null,1]
[44,"CE4 1 sensor",0.05,0,30000,null,1]
[45,"CE8 1 sensor",0.05,0,30000,null,1]
[46,"CE8 2 sensors",7.4999999999999997E-2,0,60000,null,1]
[47,"CE8*6",7.4999999999999997E-2,0,180000,null,1]
[48,"CFM100 Active",0.02,8.0000000000000004E-4,20,1,1]
[49,"CH200/PS200",4.0000000000000002E-4,4.0000000000000002E-4,86400000,null,1]
[50,"CMP3",0,0,86400000,null,1]
[51,"CNF4 Heater",0.9,0,0,null,0.7]
[52,"CNR1 Heater",0.5,0,86400000,30,1]
[53,"COM220 A",0.03,1.2E-4,null,300,1]
[54,"COM310 A",0.14000000000000001,1E-4,null,30,1]
[55,"CR1000",0.01,5.9999999999999995E-4,250,null,1]
[56,"CR1000KD A no light",7.0000000000000001E-3,1E-4,0,45,1]
[57,"CR1000KD A w/light",0.1,1E-4,0,35,1]
[58,"CR1000KD Active",1.4999999999999999E-2,1E-4,0,45,1]
[59,"CR10X",4.4999999999999998E-2,1E-3,45,null,1]
[60,"CR200X",3.0000000000000001E-3,2.0000000000000001E-4,250,null,1]
[61,"CR206 1 Sec Radio",2.2000000000000001E-3,2.2000000000000001E-3,86400000,null,1]
[62,"CR206X 8 Sec",3.0000000000000001E-3,4.4999999999999999E-4,150,null,1]
[63,"CR206X Always on ",2.7E-2,2.7E-2,86400000000,null,1]
[64,"CR216 1 sec",4.0000000000000001E-3,0,86400000,null,1]
[65,"CR216 8 Sec",8.0000000000000004E-4,0,86400000,null,1]
[{"$f":"A66+1","v":66},"CR216 Radio always on ",3.5999999999999997E-2,0,86400000,null,1]
[67,"CR3000",1.4999999999999999E-2,2E-3,100,null,1]
[68,"CR5000",0.2,1.5E-3,64000,null,1]
[69,"CR5000 Card Active",0.26300000000000001,6.3E-2,50,null,1]
[70,"CR6",0.1,0.06,null,null,0.5]
[71,"CR850 Light",0.04,0,0,35,1]
[72,"CR8XX",0.01,5.9999999999999995E-4,100,null,1]
[73,"CR9000X/9041/9011/9032",0.48499999999999999,0.41,86400000,null,1]
[74,"CR9050",1.4999999999999999E-2,0,86400000,null,1]
[75,"CR9051",1.4999999999999999E-2,0,86400000,null,1]
[76,"CR9052DC",0.5,5.0000000000000001E-3,86400000,null,1]
[77,"CR9052IEPE",0.84,5.0000000000000001E-3,86400000,null,1]
[78,"CR9055",1.4999999999999999E-2,0,86400000,null,1]
[79,"CR9055E",1.4999999999999999E-2,0,86400000,null,1]
[80,"CR9058E",0.36,5.0000000000000001E-3,86400000,null,1]
[81,"CR9060",0.125,0.108,86400000,null,1]
[82,"CR9071",2.5000000000000001E-2,2.5000000000000001E-2,86400000,null,1]
[83,"CRX000 RS232",0.02,0,200,null,1]
[84,"CS100 A",3.0000000000000001E-3,9.9999999999999995E-7,0,45,1]
[85,"CS106 Active",4.0000000000000001E-3,9.9999999999999995E-7,10,null,1]
[86,"CS110 1 sec scan",0.06,0.06,86400000,null,1]
[87,"CS110 select scan",0.75,5.9999999999999995E-4,79,null,1]
[88,"CS115A",8.0000000000000002E-3,9.9999999999999995E-7,2,null,1]
[89,"CS120",0.1,8.0000000000000002E-3,86400000,null,1]
[90,"CS120 Dew Heaters",0.08,0,0,600,1]
[91,"CS210",5.0000000000000001E-4,5.0000000000000001E-4,864000,null,1]
[92,"CS215-L A",1.6999999999999999E-3,6.9999999999999994E-5,150,null,1]
[93,"CS215-L*25",4.2500000000000003E-2,1.75E-3,15000,null,1]
[94,"CS300-L",0,0,86400000,null,1]
[95,"CS410-L",0.22222,0,86400000,null,1]
[96,"CS450-L 1 SEC Measure",0.04,0.04,86400000,null,1]
[97,"CS450-L/451-L",2E-3,8.0000000000000007E-5,86400000,null,1]
[98,"CS455-L/456-L",2E-3,8.0000000000000007E-5,86400000,null,1]
[99,"CS475/476/477",1.4E-2,4.7000000000000002E-3,180000,null,1]
[100,"CS547A-L",2.5000000000000001E-3,0,86400000,null,1]
[101,"CS616-L Active",6.5000000000000002E-2,4.5000000000000003E-5,50,null,1]
[102,"CS616-L*4*Mux16",6.5000000000000002E-2,4.5000000000000003E-5,3200,null,1]
[103,"CS625-L Active",6.5000000000000002E-2,4.5000000000000003E-5,50,null,1]
[104,"CS650-L * 5",7.5000000000000002E-4,6.7500000000000004E-4,0,60,1]
[105,"CS650-L/CS655-L",1.4999999999999999E-4,1.35E-4,0,60,1]
[106,"CS700-L",1.0000000000000001E-5,1.0000000000000001E-5,86400000,null,1]
[107,"CS725",0.18,0.18,86400000,null,1]
[108,"CSAT3",6.7000000000000004E-2,6.7000000000000004E-2,86400000,null,1]
[109,"CSAT3 20 Hz",0.1,0.1,86400000,null,1]
[110,"CSAT3 60 Hz",0.2,0.2,86400000,null,1]
[111,"CSD3",0.01,0.01,null,null,1]
[112,"CSD3 1 watt heater",0.111,8.3000000000000001E-3,null,300]
[113,"CSD3 10 watt",1.111,8.3000000000000001E-3,null,300]
[114,"CSIM11",0,0,86400000,null,1]
[115,"CURS100",0.02,4.0000000000000001E-3,15,null,1]
[116,"CVF4 Fan 5 watts",0.42499999999999999,0.42499999999999999,null,null,1]
[117,"CVF4 Heater 5.5 watts",0.47,0,null,900]
[118,"DCDC18R",4.0000000000000001E-3,4.0000000000000001E-3,86400000,null,1]
[119,"EasyAg II",0.1,2.5000000000000001E-4,30000,null,1]
[120,"EC150 Preliminary",0.5,0.5,86400000,null,1]
[121,"EKO STR-21G Sun Tracker",0.83299999999999996,0.83299999999999996,null,null,1]
[122,"ET107 w/o RS232",1.6E-2,1E-3,200,null,1]
[123,"ET107 w/RS232",2.8000000000000001E-2,1.6E-2,200,null,1]
[124,"FC100 Fiber Optic converter",5.0000000000000001E-3,0,8640000,null,1]
[125,"Geonor Precip",0.05,0.05,86400000,null,1]
[126,"GPS16-HVS",6.5000000000000002E-2,6.5000000000000002E-2,0,10,1]
[127,"HC2S3-L",2E-3,2.0000000000000001E-4,60000,null,1]
[128,"HFP01-L",0,0,86400000,null,1]
[129,"HFP01SC",0.02,0,2,null,1]
[{"$f":"A130+1","v":130},"HMP155A-L 2 second",3.0000000000000001E-3,0,2100,null,1]
[131,"HMP155A-L always on",3.0000000000000001E-3,3.0000000000000001E-3,86400000,null,1]
[132,"HMP50-L",2E-3,0,200,null,1]
[133,"Hydro Wiper D",0.09,5.0000000000000004E-6,10000,10,1]
[134,"KH20",1.4999999999999999E-2,1.4999999999999999E-2,86400000,null,1]
[135,"LI190SB-L",0,0,86400000,null,1]
[136,"LI200X-L",0,0,86400000,null,1]
[137,"LLAC4",1E-4,1E-4,86400000,null,1]
[138,"Load 1 Amp",1,1,null,null,1]
[139,"Load1 500 mA",0.5,0.5,null,null,1]
[140,"LP02-L",0,0,null,null,1]
[141,"LT420 Analog Level Transmitter",0.02,4.0000000000000001E-3,50,null,1]
[142,"LWS-L",2.5000000000000001E-3,0,10]
[143,"mA 1",1E-3,1E-3,null,null,1]
[144,"mA 10",0.01,0.01,null,null,1]
[145,"mA 100",0.1,0.1,null,null,1]
[146,"mA 2",2E-3,2E-3,null,null,1]
[147,"mA 20",0.02,0.02,null,null,1]
[148,"mA 250",0.25,0.25,null,3600]
[149,"mA 5",5.0000000000000001E-3,5.0000000000000001E-3,null,null,1]
[150,"mA 50",0.05,0.05,null,null,1]
[151,"MD485",2E-3,1.1999999999999999E-3,200,null,1]
[152,"MD485 Transmit",7.0000000000000001E-3,1.1999999999999999E-3,0,10,1]
[153,"MorningStar",0.01,0.01,86400000,null,1]
[154,"Nano",0.16600000000000001,0.1,10000,null,1]
[155,"NL100",0.14000000000000001,0.14000000000000001,86400000,6,1]
[156,"NL115 Card",2.3E-2,0.02,86400000,2,1]
[157,"NL115 Ethernet",0.02,0.02,86400000,6,1]
[158,"NL115 Ethernet Sleep",0.02,2E-3,86400000,null,1]
[159,"NL120",0.02,0.02,86400000,null,1]
[160,"NL200 Always On",0.05,2E-3,86400000,null,1]
[161,"NL200 IPNetPower",0.05,2E-3,0,300,1]
[162,"NL201 Always on",0.05,0.05,null,null,1]
[163,"NL240",5.6000000000000001E-2,0.05,86400000,null,1]
[164,"NL240 Low Power mode",0.04,6.1000000000000004E-3,86400000,null,1]
[165,"NP1",1,2,3,4,0.05]
[166,"NP2",2,3,4,5,0.06]
[167,"NP3",3,4,5,6,7.0000000000000007E-2]
[168,"NP4",4,5,6,7,0.08]
[169,"NP5",5,6,7,8,0.09]
[170,"NR-LITE-L",0,0,86400000,null,1]
[171,"OBS-3+ 4-20 mA 10 s",4.4999999999999998E-2,0,10000,null,1]
[172,"OBS-3+ Vout 10 sec",1.4999999999999999E-2,0,10000,null,1]
[173,"OBS300 4-20 mA 10 s",4.4999999999999998E-2,0,10000,null,1]
[174,"OBS300 Vout 10 sec",1.4999999999999999E-2,0,10000,null,1]
[175,"OBS500 Burst 100",0.04,0,40000,null,1]
[176,"OBS500 shutter 20 sec",0.12,2.0000000000000001E-4,0,20,1]
[177,"OBS-L",1.4999999999999999E-2,0,86400000,null,1]
[178,"PWS100 - SDI12 - dew heater",0.2,0.2,86400000,null,1]
[179,"PWS100 Hood Heater Only",14,14,86400000,null,1]
[180,"PWS100 w/DewHeat & SDI12",1,1,86400000,null,1]
[181,"RA100 Light pole",0.25,0,86400000,null,1]
[182,"RavenXT 9 hrs/day",0.12,0,0,null,0.38]
[183,"RavenXTG",0.12,0.05,0,300,1]
[184,"RavenXTV",0.12,0.05,0,30,1]
[185,"RavenXTV 10 min Cycle power",0.12,0,0,600,1]
[186,"RF300/304 Tx",1.5,0.05,0,5,1]
[187,"RF310 B AC",2,2,0,60,1]
[188,"RF310M",3.5000000000000003E-2,3.5000000000000003E-2,0,5,1]
[189,"RF31X RADIOS Rx",3.5000000000000003E-2,3.5000000000000003E-2,0,0,1]
[190,"RF31X RADIOS Tx1",0.8,3.5000000000000003E-2,0,1,1]
[191,"RF31X RADIOS Tx5",1.5,3.5000000000000003E-2,0,1,1]
[192,"RF320",1.2,2.5000000000000001E-2,null,0.5,1]
[193,"RF401 0.5 sec",7.4999999999999997E-2,4.0000000000000001E-3,0,5,1]
[{"$f":"A194+1","v":194},"RF401 1 Sec Header",7.4999999999999997E-2,2E-3,0,5,1]
[195,"RF401 8 Sec Header",7.4999999999999997E-2,4.0000000000000002E-4,0,5,1]
[196,"RF401 Always On",7.4999999999999997E-2,2.4E-2,0,5,1]
[197,"RF401 Transmit",7.4999999999999997E-2,0,0,5,1]
[198,"RF416 (415) 0.5 sec",7.5999999999999998E-2,5.4999999999999997E-3,0,10,1]
[199,"RF416 (415) 1 Sec Header",7.5999999999999998E-2,2.8E-3,0,10,1]
[200,"RF416 (415) 8 Sec Header",7.5999999999999998E-2,1.5E-3,0,10,1]
[201,"RF416 (415) Always On",7.5999999999999998E-2,3.3000000000000002E-2,0,10,1]
[202,"RF450 Idle",2.1999999999999999E-2,7.0000000000000001E-3,111,2,1]
[203,"RF450 R",7.5999999999999998E-2,0,0,5,0]
[204,"RF450 T",0.5,0,0,2,1]
[205,"RF500M",1.4999999999999999E-2,3.5E-4,86400000,null,1]
[206,"S1",1,2,3,4,5.0000000000000001E-4]
[207,"S2",1E-3,3,4,5,0.06]
[208,"SA_COM_Signal",1.6000000000000001E-3,0,210,null,1]
[209,"SAT ARGOS",0.22222,0.222,86400000,15,1]
[210,"SC105",1.2E-2,1.2E-2,86400000,2,1]
[211,"SC32B",1.4999999999999999E-2,1.4999999999999999E-2,86400000,2,1]
[212,"SC929",0.01,0.01,86400000,5,1]
[213,"SC932",1.4999999999999999E-2,1.4999999999999999E-2,86400000,5,1]
[214,"SC-CPI",0.05,0.05,86400000,null,1]
[215,"SDM1502",0.22222,0.222,86400000,null,1]
[216,"SDM-AO4",1.0500000000000001E-2,1.0500000000000001E-2,86400000,null,1]
[217,"SDM-CAN",0.22222,0,86400000,null,1]
[218,"SDM-CD16AC",0.72,0.5,0,30,1]
[219,"SDM-CD8S 1 LED",1.7500000000000002E-2,1.4999999999999999E-2,0,45,1]
[220,"SDM-CD8S 8 LED",3.5000000000000003E-2,1.4999999999999999E-2,0,45,1]
[221,"SDM-CVO4",7.0000000000000007E-2,7.0000000000000007E-2,86400000,null,1]
[222,"SDM-INT8",0.02,0.02,86400000,null,1]
[223,"SDM-SIO1 Active",1.2500000000000001E-2,6.9999999999999994E-5,0,10,1]
[224,"SDM-SIO1 Idle",5.4999999999999997E-3,6.9999999999999994E-5,0,10,1]
[225,"SDM-SIO4",2.9000000000000001E-2,2.9000000000000001E-2,86400000,null,1]
[226,"SDM-SW8A",6.0000000000000001E-3,3.0000000000000001E-3,0,20,1]
[227,"SDMX50",0.09,1E-3,0,4,1]
[228,"SDMX50LP",0.09,1E-3,0,4,1]
[229,"SR50A-L rs232",0.25,2E-3,300,null,1]
[230,"SR50A-L SDI-12",0.25,1E-3,400,null,1]
[231,"Stevens Hydra Probe II",0.03,1E-3,30000]
[232,"SunSaver20",8.0000000000000002E-3,1E-4,10000,null,1]
[233,"TB4-L",1.0000000000000001E-5,1.0000000000000001E-5,86400000,null,1]
[234,"TCAV-L",0,0,86400000,null,1]
[235,"TDR100 Measure",0.27,2E-3,0,4,1]
[236,"TE525-L",1.0000000000000001E-5,1.0000000000000001E-5,1,null,1]
[237,"TE525MM-L",1.0000000000000001E-5,1.0000000000000001E-5,1,null,1]
[238,"TE525WS-L",1.0000000000000001E-5,1.0000000000000001E-5,1,null,1]
[239,"Tranzeo",0.29170000000000001,0,10000]
[240,"TX312/320 Tx",2.6,5.0000000000000001E-3,0,15,1]
[241,"UVS-B K&Z Heater",0.86399999999999999,7.4999999999999997E-2,null,null,0.25]
[242,"VDIV10:1",1.2E-4,1.2E-4,86400000,null,1]
[243,"VDIV2:1",5.9999999999999995E-4,5.9999999999999995E-4,86400000,null,1]
[244,"VSP3",7.4999999999999997E-2,2.5000000000000001E-2,0,6,1]
[245,"WINDSONIC1-L",1.4999999999999999E-2,1.4999999999999999E-2,86400000,null,1]
[246,"WINDSONIC4-L",2.3E-2,2.3E-2,86400000,null,1]
[247,"WXT520",3.0000000000000001E-3,0,86400000,0,1]
[248,"WXT520 Heater Only",1.1000000000000001,0,0,60,1]
[249,"XantrexC35",1.2999999999999999E-2,3.0000000000000001E-3,10000,null,1]
[250,"XTend-NEMA",0.11,0.03,1150,null,1]
[251,"Young 85000",0.03,1E-3,400,null,1]
[252]
[253]
[254]
[255]
[256]
[257]
[{"$f":"A258+1","v":258}]
[259]
[260]
[261]
[262,null,null,null,null,null,null,null,null,null,"Young 81000",0.11,0.11,86400000,null,1]
[263,null,null,null,null,null,null,400,null,1]
[264]
[265]
[266]
[267]
[268]
[269]
[270]
[271]
[272]
[273]
[274]
[275]
[276]
[277]
[278]
[279]
[280]
[281]
[282]
[283]
[284]
[285]
[286]
[287]
[288]
[289]
[290]
[291]
[292]
[293]
[294]
[295]
[296]
[297]
[298]
[299]
[300]
[301]
[302]
[303]
[304]
[305]
[306]
[307]
[308]
[309]
[310]
[311]
[312]
[313]
[314]
[315]
[316]
[317]
[318]
[319]
[320]
[321]
[{"$f":"A322+1","v":322}]
[323]
[324]
[325]
[326]
[327]
[328]
[329]
[330]
[331]
[332]
[333]
[334]
[335]
[336]
[337]
[338]
[339]
[340]
[341]
[342]
[343]
[344]
[345]
[346]
[347]
[348]
[349]
[350]
[351]
[352]
[353]
[354]
[355]
[356]
[357]
[358]
[359]
[360]
[361]
[362]
[363]
[364]
[365]
[366]
[367]
[368]
[369]
[370]
[371]
[372]
[373]
[374]
[375]
[376]
[377]
[378]
[379]
[380]
[381]
[382]
[383]
[384]
[385]
[{"$f":"A386+1","v":386}]
[387]
[388]
[389]
[390]
[391]
[392]
[393]
[394]
[395]
[396]
[397]
[398]
[399]
[400]
[401]
[402]
[403]
[404]
[405]
[406]
[407]
[408]
[409]
[410]
[411]
[412]
[413]
[414]
[415]
[416]
[417]
[418]
[419]
[420]
[421]
[422]
[423]
[424]
[425]
[426]
[427]
[428]
[429]
[430]
[431]
[432]
[433]
[434]
[435]
[436]
[437]
[438]
[439]
[440]
[441]
[442]
[443]
[444]
[445]
[446]
[447]
[448]
[449]
[{"$f":"A450+1","v":450}]
[451]
[452]
[453]
[454]
[455]
[456]
[457]
[458]
[459]
[460]
[461]
[462]
[463]
[464]
[465]
[466]
[467]
[468]
[469]
[470]
[471]
[472]
[473]
[474]
[475]
[476]
[477]
[478]
[479]
[480]
[481]
[482]
[483]
[484]
[485]
[486]
[487]
[488]
[489]
[490]
[491]
[492]
[493]
[494]
[495]
[496]
[497]
[498]
[499]
[500]
[501]
[502]
[503]
[504]
[505]
[506]
[507]
[508]
[509]
[510]
[511]
[512]
[513]
[{"$f":"A514+1","v":514}]
[515]
[516]
[517]
[518]
[519]
[520]
[521]
[522]
[523]
[524]
[525]
[526]
[527]
[528]
[529]
[530]
[531]
[532]
[533]
[534]
[535]
[536]
[537]
[538]
[539]
[540]
[541]
[542]
[543]
[544]
[545]
[546]
[547]
[548]
[549]
[550]
[551]
[552]
[553]
[554]
[555]
[556]
[557]
[558]
[559]
[560]
[561]
[562]
[563]
[564]
[565]
[566]
[567]
[568]
[569]
[570]
[571]
[572]
[573]
[574]
[575]
[576]
[577]
[{"$f":"A578+1","v":578}]
[579]
[580]
[581]
[582]
[583]
[584]
[585]
[586]
[587]
[588]
[589]
[590]
[591]
[592]
[593]
[594]
[595]
[596]
[597]
[598]
[599]
[600]
[601]
[602]
[603]
[604]
[605]
[606]
[607]
[608]
[609]
[610]
[611]
[612]
[613]
[614]
[615]
[616]
[617]
[618]
[619]
[620]
[621]
[622]
[623]
[624]
[625]
[626]
[627]
[628]
[629]
[630]
[631]
[632]
[633]
[634]
[635]
[636]
[637]
[638]
[639]
[640]
[641]
[{"$f":"A642+1","v":642}]
[643]
[644]
[645]
[646]
[647]
[648]
[649]
[650]
[651]
[652]
[653]
[654]
[655]
[656]
[657]
[658]
[659]
[660]
[661]
[662]
[663]
[664]
[665]
[666]
[667]
[668]
[669]
[670]
[671]
[672]
[673]
[674]
[675]
[676]
[677]
[678]
[679]
[680]
[681]
[682]
[683]
[684]
[685]
[686]
[687]
[688]
[689]
[690]
[691]
[692]
[693]
[694]
[695]
[696]
[697]
[698]
[699]
[700]
[701]
[702]
[703]
[704]
[705]
[{"$f":"A706+1","v":706}]
[707]
[708]
[709]
[710]
[711]
[712]
[713]
[714]
[715]
[716]
[717]
[718]
[719]
[720]
[721]
[722]
[723]
[724]
[725]
[726]
[727]
[728]
[729]
[730]
[731]
[732]
[733]
[734]
[735]
[736]
[737]
[738]
[739]
[740]
[741]
[742]
[743]
[744]
[745]
[746]
[747]
[748]
[749]
[750]
[751]
[752]
[753]
[754]
[755]
[756]
[757]
[758]
[759]
[760]
[761]
[762]
[763]
[764]
[765]
[766]
[767]
[768]
[769]
[{"$f":"A770+1","v":770}]
[771]
[772]
[773]
[774]
[775]
[776]
[777]
[778]
[779]
[780]
[781]
[782]
[783]
[784]
[785]
[786]
[787]
[788]
[789]
[790]
[791]
[792]
[793]
[794]
[795]
[796]
[797]
[798]
[799]
[800]
[801]
[802]
[803]
[804]
[805]
[806]
[807]
[808]
[809]
[810]
[811]
[812]
[813]
[814]
[815]
[816]
[817]
[818]
[819]
[820]
[821]
[822]
[823]
[824]
[825]
[826]
[827]
[828]
[829]
[830]
[831]
[832]
[833]
[{"$f":"A834+1","v":834}]
[835]
[836]
[837]
[838]
[839]
[840]
[841]
[842]
[843]
[844]
[845]
[846]
[847]
[848]
[849]
[850]
[851]
[852]
[853]
[854]
[855]
[856]
[857]
[858]
[859]
[860]
[861]
[862]
[863]
[864]
[865]
[866]
[867]
[868]
[869]
[870]
[871]
[872]
[873]
[874]
[875]
[876]
[877]
[878]
[879]
[880]
[881]
[882]
[883]
[884]
[885]
[886]
[887]
[888]
[889]
[890]
[891]
[892]
[893]
[894]
[895]
[896]
[897]
[{"$f":"A898+1","v":898}]
[899]
[900]
[901]
[902]
[903]
[904]
[905]
[906]
[907]
[908]
[909]
[910]
[911]
[912]
[913]
[914]
[915]
[916]
[917]
[918]
[919]
[920]
[921]
[922]
[923]
[924]
[925]
[926]
[927]
[928]
[929]
[930]
[931]
[932]
[933]
[934]
[935]
[936]
[937]
[938]
[939]
[940]
[941]
[942]
[943]
[944]
[945]
[946]
[947]
[948]
[949]
[950]
[951]
[952]
[953]
[954]
[955]
[956]
[957]
[958]
[959]
[960]
[961]
[{"$f":"A962+1","v":962}]
[963]
[964]
[965]
[966]
[967]
[968]
[969]
[970]
[971]
[972]
[973]
[974]
[975]
[976]
[977]
[978]
[979]
[980]
[981]
[982]
[983]
[984]
[985]
[986]
[987]
[988]
[989]
[990]
[991]
[992]
[993]
[994]
[995]
[996]
[997]
[998]
[999]
[1000]

{"sheet":"All","index":6,"n_rows":1001,"n_cols":9,"rows_kept":1001,"cut":false,"hidden":false,"merged":[]}
[null,"Device Name","Average Active Current (Amps)","Average Quiescent Current (Amps)","mS Active/Scan Interval","Seconds/Comm Interval","Duty Cycle"]
[1,null,null,null,null,null,null,null,"Leave this row blank!!!!!"]
[{"$f":"A2+1","v":2},"014A",1.0000000000000001E-5,1.0000000000000001E-5,86400000000,null,1]
[{"$f":"A3+1","v":3},"024A-L",2.5000000000000001E-4,2.5000000000000001E-4,86400000,null,1]
[4,"03001-L/03002-L",2.5000000000000001E-4,2.5000000000000001E-4,86400000,null,1]
[5,"034A-L",2.5000000000000001E-4,2.5000000000000001E-4,86400000,null,1]
[6,"034B-L",2.5000000000000001E-4,2.5000000000000001E-4,86400000,null,1]
[7,"05103-45-L Alpine",2.5000000000000001E-4,2.5000000000000001E-4,86400000,null,1]
[8,"05103-L",2.5000000000000001E-4,2.5000000000000001E-4,86400000,null,1]
[9,"05106-L",2.5000000000000001E-4,2.5000000000000001E-4,86400000,null,1]
[10,"05305-L",2.5000000000000001E-4,2.5000000000000001E-4,86400000,null,1]
[11,"083E-L",4.0000000000000001E-3,4.0000000000000001E-3,86400000,null,1]
[12,"092-L",0.01,0,10000,null,1]
[13,"105T-L",0,0,86400000,null,1]
[14,"107-L",2.5000000000000001E-4,0,2,null,1]
[15,"107-L*93",1E-3,0,186,null,1]
[16,"108-L",2.5000000000000001E-4,0,2,null,1]
[17,"109-L",2.5000000000000001E-4,0,2,null,1]
[18,"127TC",0,0,86400000,null,1]
[19,"223-L",2.5000000000000001E-4,0,2,null,1]
[20,"227-L",2.5000000000000001E-4,0,2,null,1]
[21,"229-L",2.5000000000000001E-4,0,2,null,1]
[22,"237-L",2.5000000000000001E-4,0,2,null,1]
[23,"385-L Non Heated",5.9999999999999995E-4,5.9999999999999995E-4,86400000,null,1]
[24,"43347-L Temp",2.5000000000000001E-3,0,20,null,1]
[25,"43502-L Ventilator",0.5,0,86400000,null,1]
[26,"52202-L 12 VDC",0.36,0,0,null,0.5]
[27,"52202-L 24 VDC",0.72,0,86400000,null,0.5]
[28,"A547",6.9999999999999999E-6,6.9999999999999999E-6,86400000,null,1]
[29,"A6REL-12 active relay",0.03,6.0000000000000002E-6,0,30,1]
[30,"AM16/32(A)(B)",6.0000000000000001E-3,2.1000000000000001E-4,0,60,1]
[31,"AM25T Active",1E-3,5.0000000000000001E-4,0,4,1]
[32,"ASPTC-L",0.26,0.26,86400000,null,1]
[33,"AVW1 Temp",4.0000000000000002E-4,4.0000000000000002E-4,86400000,null,1]
[34,"AVW1 VW active",3.2000000000000001E-2,4.0000000000000002E-4,250,null,1]
[35,"AVW100 Temp",4.0000000000000002E-4,4.0000000000000002E-4,86400000,null,1]
[36,"AVW100 V.W Active",3.2000000000000001E-2,4.0000000000000002E-4,250,null,1]
[37,"AVW200 * 16",0.04,2.9999999999999997E-4,32000,null,1]
[38,"AVW200 * 32",0.04,2.9999999999999997E-4,64000,null,1]
[39,"AVW200 * 4",0.04,2.9999999999999997E-4,8000,null,1]
[40,"AVW200 * 8",0.04,2.9999999999999997E-4,16000,null,1]
[41,"AVW200 1 Sensor 2 se",0.04,2.9999999999999997E-4,2000,null,1]
[42,"AVW206 1 sens 8 sec Radio",7.5000000000000002E-4,7.5000000000000002E-4,2000,null,1]
[43,"AVW206 2 Sens .5 sec radio",4.3999999999999997E-2,4.3E-3,4000,null,1]
[44,"AVW4 Active",3.2000000000000001E-2,0,250,null,1]
[45,"CC5MPX",0.25,1E-3,90000,90,1]
[46,"CC5MPX Heater",1.2,0,0,300,1]
[47,"CC640",0.25,2.5000000000000001E-4,30000,null,1]
[48,"CD294 Active",5.4999999999999997E-3,4.0000000000000003E-5,0,30,1]
[49,"CDM-VW300",0.115,0.115,86400000,null,1]
[50,"CDM-VW305",0.19,0.19,86400000,null,1]
[51,"CE4 * 16 (mux)",7.4999999999999997E-2,0,480000,null,1]
[52,"CE4 1 sensor",0.05,0,30000,null,1]
[53,"CE8 1 sensor",0.05,0,30000,null,1]
[54,"CE8 2 sensors",7.4999999999999997E-2,0,60000,null,1]
[55,"CE8*6",7.4999999999999997E-2,0,180000,null,1]
[56,"CFM100 Active",0.02,8.0000000000000004E-4,20,1,1]
[57,"CH200/PS200",4.0000000000000002E-4,4.0000000000000002E-4,86400000,null,1]
[58,"CMP3",0,0,86400000,null,1]
[59,"CNF4 Heater",0.9,0,0,null,0.7]
[60,"CNR1 Heater",0.5,0,86400000,30,1]
[61,"COM210 A",0.16,1.2E-4,null,30,1]
[62,"COM220 A",0.03,1.2E-4,null,300,1]
[63,"COM310 A",0.14000000000000001,1E-4,null,30,1]
[64,"CR1000",0.01,5.9999999999999995E-4,250,null,1]
[65,"CR1000KD A no light",7.0000000000000001E-3,1E-4,0,45,1]
[{"$f":"A66+1","v":66},"CR1000KD A w/light",0.1,1E-4,0,35,1]
[67,"CR1000KD Active",1.4999999999999999E-2,1E-4,0,45,1]
[68,"CR10KD",5.0000000000000001E-3,0,null,45,1]
[69,"CR10X",4.4999999999999998E-2,1E-3,45,null,1]
[70,"CR200X",3.0000000000000001E-3,2.0000000000000001E-4,250,null,1]
[71,"CR206 1 Sec Radio",2.2000000000000001E-3,2.2000000000000001E-3,86400000,null,1]
[72,"CR206X 8 Sec",3.0000000000000001E-3,4.4999999999999999E-4,150,null,1]
[73,"CR206X Always on",2.7E-2,2.7E-2,86400000000,null,1]
[74,"CR216",3.0000000000000001E-3,2.0000000000000001E-4,200,null,1]
[75,"CR216 1 sec",4.0000000000000001E-3,0,86400000,null,1]
[76,"CR216 8 Sec",8.0000000000000004E-4,0,86400000,null,1]
[77,"CR216 Radio always on",3.5999999999999997E-2,0,86400000,null,1]
[78,"CR23X",7.0000000000000007E-2,1.4E-3,333,null,1]
[79,"CR23X Display",5.0000000000000001E-3,0,0,45,1]
[80,"CR23X Measure",7.0000000000000007E-2,2E-3,100,null,1]
[81,"CR23X Processing",4.4999999999999998E-2,2E-3,100,null,1]
[82,"CR3000",1.4999999999999999E-2,2E-3,100,null,1]
[83,"CR5000",0.2,1.5E-3,64000,null,1]
[84,"CR5000 Card Active",0.26300000000000001,6.3E-2,50,null,1]
[85,"CR510 (use CR10X)",1.5E-3,1.5E-3,86400000,null,1]
[86,"CR6",0.1,0.06,null,null,0.5]
[87,"CR850 Light",0.04,0,0,35,1]
[88,"CR8XX",0.01,5.9999999999999995E-4,100,null,1]
[89,"CR9000X/9041/9011/9032",0.48499999999999999,0.41,86400000,null,1]
[90,"CR9050",1.4999999999999999E-2,0,86400000,null,1]
[91,"CR9051",1.4999999999999999E-2,0,86400000,null,1]
[92,"CR9052DC",0.5,5.0000000000000001E-3,86400000,null,1]
[93,"CR9052IEPE",0.84,5.0000000000000001E-3,86400000,null,1]
[94,"CR9055",1.4999999999999999E-2,0,86400000,null,1]
[95,"CR9055E",1.4999999999999999E-2,0,86400000,null,1]
[96,"CR9058E",0.36,5.0000000000000001E-3,86400000,null,1]
[97,"CR9060",0.125,0.108,86400000,null,1]
[98,"CR9071",2.5000000000000001E-2,2.5000000000000001E-2,86400000,null,1]
[99,"CRX000 RS232",0.02,0,200,null,1]
[100,"CS100 A",3.0000000000000001E-3,9.9999999999999995E-7,0,45,1]
[101,"CS106 Active",4.0000000000000001E-3,9.9999999999999995E-7,10,null,1]
[102,"CS110 1 sec scan",0.06,0.06,86400000,null,1]
[103,"CS110 select scan",0.75,5.9999999999999995E-4,79,null,1]
[104,"CS115A",8.0000000000000002E-3,9.9999999999999995E-7,2,null,1]
[105,"CS120",0.1,8.0000000000000002E-3,86400000,null,1]
[106,"CS120 Dew Heaters",0.08,0,0,600,1]
[107,"CS210",5.0000000000000001E-4,5.0000000000000001E-4,864000,null,1]
[108,"CS215-L A",1.6999999999999999E-3,6.9999999999999994E-5,150,null,1]
[109,"CS215-L*25",4.2500000000000003E-2,1.75E-3,15000,null,1]
[110,"CS300-L",0,0,86400000,null,1]
[111,"CS400-L",5.0000000000000001E-4,0,10,null,1]
[112,"CS405-L",0.22222,0,86400000,null,1]
[113,"CS408-L",0.22222,0,86400000,null,1]
[114,"CS410-L",0.22222,0,86400000,null,1]
[115,"CS420-L",0.22222,0,86400000,null,1]
[116,"CS425-L",0.22222,0,86400000,null,1]
[117,"CS431-L",2.0000000000000001E-4,0,10,null,1]
[118,"CS440-L",0.22222,0,86400000,null,1]
[119,"CS445-L",0.02,0,86400000,null,1]
[120,"CS450-L 1 SEC Measure",0.04,0.04,86400000,null,1]
[121,"CS450-L/451-L",2E-3,8.0000000000000007E-5,86400000,null,1]
[122,"CS455-L/456-L",2E-3,8.0000000000000007E-5,86400000,null,1]
[123,"CS475/476/477",1.4E-2,4.7000000000000002E-3,180000,null,1]
[124,"CS525-L",2E-3,2E-3,86400000,null,1]
[125,"CS547A-L",2.5000000000000001E-3,0,86400000,null,1]
[126,"CS616-L Active",6.5000000000000002E-2,4.5000000000000003E-5,50,null,1]
[127,"CS616-L*4*Mux16",6.5000000000000002E-2,4.5000000000000003E-5,3200,null,1]
[128,"CS625-L Active",6.5000000000000002E-2,4.5000000000000003E-5,50,null,1]
[129,"CS650-L * 5",7.5000000000000002E-4,6.7500000000000004E-4,0,60,1]
[{"$f":"A130+1","v":130},"CS650-L/CS655-L",1.4999999999999999E-4,1.35E-4,0,60,1]
[131,"CS700-L",1.0000000000000001E-5,1.0000000000000001E-5,86400000,null,1]
[132,"CS725",0.18,0.18,86400000,null,1]
[133,"CS7500",0.85,0.85,86400000,null,1]
[134,"CSAT3",6.7000000000000004E-2,6.7000000000000004E-2,86400000,null,1]
[135,"CSAT3 20 Hz",0.1,0.1,86400000,null,1]
[136,"CSAT3 60 Hz",0.2,0.2,86400000,null,1]
[137,"CSD3",0.01,0.01,null,null,1]
[138,"CSD3 1 watt heater",0.111,8.3000000000000001E-3,null,300]
[139,"CSD3 10 watt",1.111,8.3000000000000001E-3,null,300]
[140,"CSIM11",0,0,86400000,null,1]
[141,"CURS100",0.02,4.0000000000000001E-3,15,null,1]
[142,"CVF4 Fan 5 watts",0.42499999999999999,0.42499999999999999,null,null,1]
[143,"CVF4 Heater 5.5 watts",0.47,0,null,900]
[144,"DCDC18R",4.0000000000000001E-3,4.0000000000000001E-3,86400000,null,1]
[145,"DSP4",0.22222,0.22222,86400000,null,1]
[146,"EasyAg II",0.1,2.5000000000000001E-4,30000,null,1]
[147,"EC150 Preliminary",0.5,0.5,86400000,null,1]
[148,"EKO STR-21G Sun Tracker",0.83299999999999996,0.83299999999999996,null,null,1]
[149,"ET107 w/o RS232",1.6E-2,1E-3,200,null,1]
[150,"ET107 w/RS232",2.8000000000000001E-2,1.6E-2,200,null,1]
[151,"Ethernet Switch",0.26,0.26,86400000,null,1]
[152,"FC100 Fiber Optic converter",5.0000000000000001E-3,0,8640000,null,1]
[153,"Galaxy Modem",0.37,0,0,0,0.1]
[154,"Geonor Precip",0.05,0.05,86400000,null,1]
[155,"GPS16-HVS",6.5000000000000002E-2,6.5000000000000002E-2,0,10,1]
[156,"GSM CELL PHONE",0.12,0,86400000,null,1]
[157,"HC2S3-L",2E-3,2.0000000000000001E-4,60000,null,1]
[158,"HFP01-L",0,0,86400000,null,1]
[159,"HFP01SC",0.02,0,2,null,1]
[160,"HMP155A-L 2 second",3.0000000000000001E-3,0,2100,null,1]
[161,"HMP155A-L always on",3.0000000000000001E-3,3.0000000000000001E-3,86400000,null,1]
[162,"HMP45C-L",4.0000000000000001E-3,0,175,null,1]
[163,"HMP45C-L Continuous",4.0000000000000001E-3,4.0000000000000001E-3,86400000,null,1]
[164,"HMP50-L",2E-3,0,200,null,1]
[165,"Hydro Wiper D",0.09,5.0000000000000004E-6,10000,10,1]
[166,"KH20",1.4999999999999999E-2,1.4999999999999999E-2,86400000,null,1]
[167,"LI190SB-L",0,0,86400000,null,1]
[168,"LI200X-L",0,0,86400000,null,1]
[169,"LI7500",0.85,0.85,86400000,null,1]
[170,"LLAC4",1E-4,1E-4,86400000,null,1]
[171,"Load 1 Amp",1,1,null,null,1]
[172,"Load1 500 mA",0.5,0.5,null,null,1]
[173,"LP02-L",0,0,null,null,1]
[174,"LT420 Analog Level Transmitter",0.02,4.0000000000000001E-3,50,null,1]
[175,"LWS-L",2.5000000000000001E-3,0,10]
[176,"mA 1",1E-3,1E-3,null,null,1]
[177,"mA 10",0.01,0.01,null,null,1]
[178,"mA 100",0.1,0.1,null,null,1]
[179,"mA 2",2E-3,2E-3,null,null,1]
[180,"mA 20",0.02,0.02,null,null,1]
[181,"mA 250",0.25,0.25,null,3600]
[182,"mA 5",5.0000000000000001E-3,5.0000000000000001E-3,null,null,1]
[183,"mA 50",0.05,0.05,null,null,1]
[184,"MD485",2E-3,1.1999999999999999E-3,200,null,1]
[185,"MD485 Transmit",7.0000000000000001E-3,1.1999999999999999E-3,0,10,1]
[186,"MorningStar",0.01,0.01,86400000,null,1]
[187,"Nano",0.16600000000000001,0.1,10000,null,1]
[188,"NL100",0.14000000000000001,0.14000000000000001,86400000,6,1]
[189,"NL115 Card",2.3E-2,0.02,86400000,2,1]
[190,"NL115 Ethernet",0.02,0.02,86400000,6,1]
[191,"NL115 Ethernet Sleep",0.02,2E-3,86400000,null,1]
[192,"NL120",0.02,0.02,86400000,null,1]
[193,"NL200 Always On",0.05,2E-3,86400000,null,1]
[{"$f":"A194+1","v":194},"NL200 IPNetPower",0.05,2E-3,0,300,1]
[195,"NL201 Always on",0.05,0.05,null,null,1]
[196,"NL240",5.6000000000000001E-2,0.05,86400000,null,1]
[197,"NL240 Low Power mode",0.04,6.1000000000000004E-3,86400000,null,1]
[198,"NP1",1,2,3,4,0.05]
[199,"NP2",2,3,4,5,0.06]
[200,"NP3",3,4,5,6,7.0000000000000007E-2]
[201,"NP4",4,5,6,7,0.08]
[202,"NP5",5,6,7,8,0.09]
[203,"NR-LITE-L",0,0,86400000,null,1]
[204,"OBS-3+ 4-20 mA 10 s",4.4999999999999998E-2,0,10000,null,1]
[205,"OBS-3+ Vout 10 sec",1.4999999999999999E-2,0,10000,null,1]
[206,"OBS300 4-20 mA 10 s",4.4999999999999998E-2,0,10000,null,1]
[207,"OBS300 Vout 10 sec",1.4999999999999999E-2,0,10000,null,1]
[208,"OBS500 Burst 100",0.04,0,40000,null,1]
[209,"OBS500 shutter 20 sec",0.12,2.0000000000000001E-4,0,20,1]
[210,"OBS-L",1.4999999999999999E-2,0,86400000,null,1]
[211,"PWS100 - SDI12 - dew heater",0.2,0.2,86400000,null,1]
[212,"PWS100 Hood Heater Only",14,14,86400000,null,1]
[213,"PWS100 w/DewHeat & SDI12",1,1,86400000,null,1]
[214,"Q7.1-L",0,0,86400000,null,1]
[215,"RA100 Light pole",0.25,0,86400000,null,1]
[216,"Raven100",0.2,1E-4,0,300,1]
[217,"RavenXT 9 hrs/day",0.12,0,0,null,0.38]
[218,"RavenXTG",0.12,0.05,0,300,1]
[219,"RavenXTV",0.12,0.05,0,30,1]
[220,"RavenXTV 10 min Cycle power",0.12,0,0,600,1]
[221,"REDWING100 T & R",0.12,0.02,0,30,1]
[222,"RF300/304 Tx",1.5,0.05,0,5,1]
[223,"RF310 B AC",2,2,0,60,1]
[224,"RF310M",3.5000000000000003E-2,3.5000000000000003E-2,0,5,1]
[225,"RF31X RADIOS Rx",3.5000000000000003E-2,3.5000000000000003E-2,0,0,1]
[226,"RF31X RADIOS Tx1",0.8,3.5000000000000003E-2,0,1,1]
[227,"RF31X RADIOS Tx5",1.5,3.5000000000000003E-2,0,1,1]
[228,"RF320",1.2,2.5000000000000001E-2,null,0.5,1]
[229,"RF401 0.5 sec",7.4999999999999997E-2,4.0000000000000001E-3,0,5,1]
[230,"RF401 1 Sec Header",7.4999999999999997E-2,2E-3,0,5,1]
[231,"RF401 8 Sec Header",7.4999999999999997E-2,4.0000000000000002E-4,0,5,1]
[232,"RF401 Always On",7.4999999999999997E-2,2.4E-2,0,5,1]
[233,"RF401 Transmit",7.4999999999999997E-2,0,0,5,1]
[234,"RF416 (415) 0.5 sec",7.5999999999999998E-2,5.4999999999999997E-3,0,10,1]
[235,"RF416 (415) 1 Sec Header",7.5999999999999998E-2,2.8E-3,0,10,1]
[236,"RF416 (415) 8 Sec Header",7.5999999999999998E-2,1.5E-3,0,10,1]
[237,"RF416 (415) Always On",7.5999999999999998E-2,3.3000000000000002E-2,0,10,1]
[238,"RF450 Idle",2.1999999999999999E-2,7.0000000000000001E-3,111,2,1]
[239,"RF450 R",7.5999999999999998E-2,0,0,5,0]
[240,"RF450 T",0.5,0,0,2,1]
[241,"RF500M",1.4999999999999999E-2,3.5E-4,86400000,null,1]
[242,"RF95A",0.22222,0.222,86400000,5,1]
[243,"RF95T",0.22222,0.222,86400000,5,1]
[244,"S1",1,2,3,4,5.0000000000000001E-4]
[245,"S2",1E-3,3,4,5,0.06]
[246,"SA_COM_Signal",1.6000000000000001E-3,0,210,null,1]
[247,"SAT ARGOS",0.22222,0.222,86400000,15,1]
[248,"SAT HDR GOES",0.22222,0.222,86400000,15,1]
[249,"SC105",1.2E-2,1.2E-2,86400000,2,1]
[250,"SC32B",1.4999999999999999E-2,1.4999999999999999E-2,86400000,2,1]
[251,"SC929",0.01,0.01,86400000,5,1]
[252,"SC932",1.4999999999999999E-2,1.4999999999999999E-2,86400000,5,1]
[253,"SC-CPI",0.05,0.05,86400000,null,1]
[254,"SDM1502",0.22222,0.222,86400000,null,1]
[255,"SDM-AO4",1.0500000000000001E-2,1.0500000000000001E-2,86400000,null,1]
[256,"SDM-CAN",0.22222,0,86400000,null,1]
[257,"SDM-CD16AC",0.72,0.5,0,30,1]
[{"$f":"A258+1","v":258},"SDM-CD8S 1 LED",1.7500000000000002E-2,1.4999999999999999E-2,0,45,1]
[259,"SDM-CD8S 8 LED",3.5000000000000003E-2,1.4999999999999999E-2,0,45,1]
[260,"SDM-CVO4",7.0000000000000007E-2,7.0000000000000007E-2,86400000,null,1]
[261,"SDM-INT8",0.02,0.02,86400000,null,1]
[262,"SDM-SIO1 Active",1.2500000000000001E-2,6.9999999999999994E-5,0,10,1]
[263,"SDM-SIO1 Idle",5.4999999999999997E-3,6.9999999999999994E-5,0,10,1]
[264,"SDM-SIO4",2.9000000000000001E-2,2.9000000000000001E-2,86400000,null,1]
[265,"SDM-SW8A",6.0000000000000001E-3,3.0000000000000001E-3,0,20,1]
[266,"SDMX50",0.09,1E-3,0,4,1]
[267,"SDMX50LP",0.09,1E-3,0,4,1]
[268,"SM16M",0.22222,0.222,86400000,null,1]
[269,"SM4M",0.22222,0.222,86400000,null,1]
[270,"SR50A-L rs232",0.25,2E-3,300,null,1]
[271,"SR50A-L SDI-12",0.25,1E-3,400,null,1]
[272,"Stevens Hydra Probe II",0.03,1E-3,30000]
[273,"SunSaver20",8.0000000000000002E-3,1E-4,10000,null,1]
[274,"TB4-L",1.0000000000000001E-5,1.0000000000000001E-5,86400000,null,1]
[275,"TCAV-L",0,0,86400000,null,1]
[276,"TDR100 Measure",0.27,2E-3,0,4,1]
[277,"TE525-L",1.0000000000000001E-5,1.0000000000000001E-5,1,null,1]
[278,"TE525MM-L",1.0000000000000001E-5,1.0000000000000001E-5,1,null,1]
[279,"TE525WS-L",1.0000000000000001E-5,1.0000000000000001E-5,1,null,1]
[280,"Tranzeo",0.29170000000000001,0,10000]
[281,"TX312/320 Tx",2.6,5.0000000000000001E-3,0,15,1]
[282,"UVS-B K&Z Heater",0.86399999999999999,7.4999999999999997E-2,null,null,0.25]
[283,"VDIV10:1",1.2E-4,1.2E-4,86400000,null,1]
[284,"VDIV2:1",5.9999999999999995E-4,5.9999999999999995E-4,86400000,null,1]
[285,"VSP3",7.4999999999999997E-2,2.5000000000000001E-2,0,6,1]
[286,"WINDSONIC1-L",1.4999999999999999E-2,1.4999999999999999E-2,86400000,null,1]
[287,"WINDSONIC4-L",2.3E-2,2.3E-2,86400000,null,1]
[288,"WXT520",3.0000000000000001E-3,0,86400000,0,1]
[289,"WXT520 Heater Only",1.1000000000000001,0,0,60,1]
[290,"XantrexC35",1.2999999999999999E-2,3.0000000000000001E-3,10000,null,1]
[291,"XTend-NEMA",0.11,0.03,1150,null,1]
[292,"Young 85000",0.03,1E-3,400,null,1]
[293]
[294]
[295]
[296]
[297]
[298]
[299]
[300]
[301]
[302]
[303]
[304]
[305]
[306]
[307]
[308]
[309]
[310]
[311]
[312]
[313]
[314]
[315]
[316]
[317]
[318]
[319]
[320]
[321]
[{"$f":"A322+1","v":322}]
[323]
[324]
[325]
[326]
[327]
[328]
[329]
[330]
[331]
[332]
[333]
[334]
[335]
[336]
[337]
[338]
[339]
[340]
[341]
[342]
[343]
[344]
[345]
[346]
[347]
[348]
[349]
[350]
[351]
[352]
[353]
[354]
[355]
[356]
[357]
[358]
[359]
[360]
[361]
[362]
[363]
[364]
[365]
[366]
[367]
[368]
[369]
[370]
[371]
[372]
[373]
[374]
[375]
[376]
[377]
[378]
[379]
[380]
[381]
[382]
[383]
[384]
[385]
[{"$f":"A386+1","v":386}]
[387]
[388]
[389]
[390]
[391]
[392]
[393]
[394]
[395]
[396]
[397]
[398]
[399]
[400]
[401]
[402]
[403]
[404]
[405]
[406]
[407]
[408]
[409]
[410]
[411]
[412]
[413]
[414]
[415]
[416]
[417]
[418]
[419]
[420]
[421]
[422]
[423]
[424]
[425]
[426]
[427]
[428]
[429]
[430]
[431]
[432]
[433]
[434]
[435]
[436]
[437]
[438]
[439]
[440]
[441]
[442]
[443]
[444]
[445]
[446]
[447]
[448]
[449]
[{"$f":"A450+1","v":450}]
[451]
[452]
[453]
[454]
[455]
[456]
[457]
[458]
[459]
[460]
[461]
[462]
[463]
[464]
[465]
[466]
[467]
[468]
[469]
[470]
[471]
[472]
[473]
[474]
[475]
[476]
[477]
[478]
[479]
[480]
[481]
[482]
[483]
[484]
[485]
[486]
[487]
[488]
[489]
[490]
[491]
[492]
[493]
[494]
[495]
[496]
[497]
[498]
[499]
[500]
[501]
[502]
[503]
[504]
[505]
[506]
[507]
[508]
[509]
[510]
[511]
[512]
[513]
[{"$f":"A514+1","v":514}]
[515]
[516]
[517]
[518]
[519]
[520]
[521]
[522]
[523]
[524]
[525]
[526]
[527]
[528]
[529]
[530]
[531]
[532]
[533]
[534]
[535]
[536]
[537]
[538]
[539]
[540]
[541]
[542]
[543]
[544]
[545]
[546]
[547]
[548]
[549]
[550]
[551]
[552]
[553]
[554]
[555]
[556]
[557]
[558]
[559]
[560]
[561]
[562]
[563]
[564]
[565]
[566]
[567]
[568]
[569]
[570]
[571]
[572]
[573]
[574]
[575]
[576]
[577]
[{"$f":"A578+1","v":578}]
[579]
[580]
[581]
[582]
[583]
[584]
[585]
[586]
[587]
[588]
[589]
[590]
[591]
[592]
[593]
[594]
[595]
[596]
[597]
[598]
[599]
[600]
[601]
[602]
[603]
[604]
[605]
[606]
[607]
[608]
[609]
[610]
[611]
[612]
[613]
[614]
[615]
[616]
[617]
[618]
[619]
[620]
[621]
[622]
[623]
[624]
[625]
[626]
[627]
[628]
[629]
[630]
[631]
[632]
[633]
[634]
[635]
[636]
[637]
[638]
[639]
[640]
[641]
[{"$f":"A642+1","v":642}]
[643]
[644]
[645]
[646]
[647]
[648]
[649]
[650]
[651]
[652]
[653]
[654]
[655]
[656]
[657]
[658]
[659]
[660]
[661]
[662]
[663]
[664]
[665]
[666]
[667]
[668]
[669]
[670]
[671]
[672]
[673]
[674]
[675]
[676]
[677]
[678]
[679]
[680]
[681]
[682]
[683]
[684]
[685]
[686]
[687]
[688]
[689]
[690]
[691]
[692]
[693]
[694]
[695]
[696]
[697]
[698]
[699]
[700]
[701]
[702]
[703]
[704]
[705]
[{"$f":"A706+1","v":706}]
[707]
[708]
[709]
[710]
[711]
[712]
[713]
[714]
[715]
[716]
[717]
[718]
[719]
[720]
[721]
[722]
[723]
[724]
[725]
[726]
[727]
[728]
[729]
[730]
[731]
[732]
[733]
[734]
[735]
[736]
[737]
[738]
[739]
[740]
[741]
[742]
[743]
[744]
[745]
[746]
[747]
[748]
[749]
[750]
[751]
[752]
[753]
[754]
[755]
[756]
[757]
[758]
[759]
[760]
[761]
[762]
[763]
[764]
[765]
[766]
[767]
[768]
[769]
[{"$f":"A770+1","v":770}]
[771]
[772]
[773]
[774]
[775]
[776]
[777]
[778]
[779]
[780]
[781]
[782]
[783]
[784]
[785]
[786]
[787]
[788]
[789]
[790]
[791]
[792]
[793]
[794]
[795]
[796]
[797]
[798]
[799]
[800]
[801]
[802]
[803]
[804]
[805]
[806]
[807]
[808]
[809]
[810]
[811]
[812]
[813]
[814]
[815]
[816]
[817]
[818]
[819]
[820]
[821]
[822]
[823]
[824]
[825]
[826]
[827]
[828]
[829]
[830]
[831]
[832]
[833]
[{"$f":"A834+1","v":834}]
[835]
[836]
[837]
[838]
[839]
[840]
[841]
[842]
[843]
[844]
[845]
[846]
[847]
[848]
[849]
[850]
[851]
[852]
[853]
[854]
[855]
[856]
[857]
[858]
[859]
[860]
[861]
[862]
[863]
[864]
[865]
[866]
[867]
[868]
[869]
[870]
[871]
[872]
[873]
[874]
[875]
[876]
[877]
[878]
[879]
[880]
[881]
[882]
[883]
[884]
[885]
[886]
[887]
[888]
[889]
[890]
[891]
[892]
[893]
[894]
[895]
[896]
[897]
[{"$f":"A898+1","v":898}]
[899]
[900]
[901]
[902]
[903]
[904]
[905]
[906]
[907]
[908]
[909]
[910]
[911]
[912]
[913]
[914]
[915]
[916]
[917]
[918]
[919]
[920]
[921]
[922]
[923]
[924]
[925]
[926]
[927]
[928]
[929]
[930]
[931]
[932]
[933]
[934]
[935]
[936]
[937]
[938]
[939]
[940]
[941]
[942]
[943]
[944]
[945]
[946]
[947]
[948]
[949]
[950]
[951]
[952]
[953]
[954]
[955]
[956]
[957]
[958]
[959]
[960]
[961]
[{"$f":"A962+1","v":962}]
[963]
[964]
[965]
[966]
[967]
[968]
[969]
[970]
[971]
[972]
[973]
[974]
[975]
[976]
[977]
[978]
[979]
[980]
[981]
[982]
[983]
[984]
[985]
[986]
[987]
[988]
[989]
[990]
[991]
[992]
[993]
[994]
[995]
[996]
[997]
[998]
[999]
[1000]

{"sheet":"Archive","index":7,"n_rows":500,"n_cols":9,"rows_kept":500,"cut":false,"hidden":false,"merged":[]}
[1,"Device Name","Average Active Current (Amps)","Average Quiescent Current (Amps)","mS Active/Scan Interval","Seconds/Comm Interval","Duty Cycle"]
[{"$f":"A1+1","v":2},null,null,null,null,null,null,null,"Leave this row blank!!"]
[{"$f":"A2+1","v":3},"Dataloggers",1,1,1,1,0.01]
[4,"--------------------------------",0,0,0,0,0]
[5,"CR216",3.0000000000000001E-3,2.0000000000000001E-4,200,null,1]
[{"$f":"A5+1","v":6},"CR23X",7.0000000000000007E-2,1.4E-3,333,null,1]
[7,"CR23X Display",5.0000000000000001E-3,0,0,45,1]
[8,"CR23X Measure",7.0000000000000007E-2,2E-3,100,null,1]
[9,"CR23X Processing",4.4999999999999998E-2,2E-3,100,null,1]
[10,"CR510 (use CR10X)",1.5E-3,1.5E-3,86400000,null,1]
[11]
[12,"Sensors",0,0,0,0,0]
[13,"--------------------------------",0,0,0,0,0]
[14,"034A-L",2.5000000000000001E-4,2.5000000000000001E-4,86400000,null,1]
[15,"107-L*93",1E-3,0,186,null,1]
[16,"CS400-L",5.0000000000000001E-4,0,10,null,1]
[17,"CS405-L",0.22222,0,86400000,null,1]
[18,"CS408-L",0.22222,0,86400000,null,1]
[19,"CS420-L",0.22222,0,86400000,null,1]
[20,"CS425-L",0.22222,0,86400000,null,1]
[21,"CS431-L",2.0000000000000001E-4,0,10,null,1]
[22,"CS440-L",0.22222,0,86400000,null,1]
[23,"CS445-L",0.02,0,86400000,null,1]
[24,"CS525-L",2E-3,2E-3,86400000,null,1]
[25,"CS7500",0.85,0.85,86400000,null,1]
[26,"HMP45C-L",4.0000000000000001E-3,0,175,null,1]
[27,"HMP45C-L Continuous",4.0000000000000001E-3,4.0000000000000001E-3,86400000,null,1]
[28,"LI7500",0.85,0.85,86400000,null,1]
[29,"Q7.1-L",0,0,86400000,null,1]
[30]
[31,"Network Peripherals",0,0,0,0,0]
[32,"--------------------------------",0,0,0,0,0]
[33]
[34,"Peripherals",0,0,0,0,0]
[35,"--------------------------------",0,0,0,0,0]
[36,"AVW1 Temp",4.0000000000000002E-4,4.0000000000000002E-4,86400000,null,1]
[37,"AVW1 VW active",3.2000000000000001E-2,4.0000000000000002E-4,250,null,1]
[38,"AVW100 Temp",4.0000000000000002E-4,4.0000000000000002E-4,86400000,null,1]
[39,"AVW100 V.W Active",3.2000000000000001E-2,4.0000000000000002E-4,250,null,1]
[40,"AVW4 Active",3.2000000000000001E-2,0,250,null,1]
[41,"CR10KD",5.0000000000000001E-3,0,null,45,1]
[42]
[43,"Communications",0,0,0,0,0]
[44,"--------------------------------",0,0,0,0,0]
[45,"COM210 A",0.16,1.2E-4,null,30,1]
[46,"DSP4",0.22222,0.22222,86400000,null,1]
[47,"Ethernet Switch",0.26,0.26,86400000,null,1]
[48,"Galaxy Modem",0.37,0,0,0,0.1]
[49,"GSM CELL PHONE",0.12,0,86400000,null,1]
[50,"Raven100",0.2,1E-4,0,300,1]
[51,"REDWING100 T & R",0.12,0.02,0,30,1]
[52,"RF95A",0.22222,0.222,86400000,5,1]
[53,"RF95T",0.22222,0.222,86400000,5,1]
[54,"SAT HDR GOES",0.22222,0.222,86400000,15,1]
[55,"SM16M",0.22222,0.222,86400000,null,1]
[56,"SM4M",0.22222,0.222,86400000,null,1]
[57]
[58,"Cameras",0,0,0,0,0]
[59,"--------------------------------",0,0,0,0,0]
[60,"CC640",0.25,2.5000000000000001E-4,30000,null,1]
[61]
[{"$f":"A61+1","v":62},"Other",0,0,0,0,0]
[63,"--------------------------------",0,0,0,0,0]
[64]
[65]
[66]
[67]
[68]
[69]
[70]
[71]
[72]
[73]
[74]
[75]
[76]
[77]
[78]
[79]
[80]
[81]
[82]
[83]
[84]
[85]
[86]
[87]
[88]
[89]
[90]
[91]
[92]
[93]
[94]
[95]
[96]
[97]
[98]
[99]
[100]
[101]
[102]
[103]
[104]
[105]
[106]
[107]
[108]
[109]
[110]
[111]
[112]
[113]
[114]
[115]
[116]
[117]
[118]
[119]
[120]
[121]
[122]
[123]
[124]
[125]
[{"$f":"A125+1","v":126}]
[127]
[128]
[129]
[130]
[131]
[132]
[133]
[134]
[135]
[136]
[137]
[138]
[139]
[140]
[141]
[142]
[143]
[144]
[145]
[146]
[147]
[148]
[149]
[150]
[151]
[152]
[153]
[154]
[155]
[156]
[157]
[158]
[159]
[160]
[161]
[162]
[163]
[164]
[165]
[166]
[167]
[168]
[169]
[170]
[171]
[172]
[173]
[174]
[175]
[176]
[177]
[178]
[179]
[180]
[181]
[182]
[183]
[184]
[185]
[186]
[187]
[188]
[189]
[{"$f":"A189+1","v":190}]
[191]
[192]
[193]
[194]
[195]
[196]
[197]
[198]
[199]
[200]
[201]
[202]
[203]
[204]
[205]
[206]
[207]
[208]
[209]
[210]
[211]
[212]
[213]
[214]
[215]
[216]
[217]
[218]
[219]
[220]
[221]
[222]
[223]
[224]
[225]
[226]
[227]
[228]
[229]
[230]
[231]
[232]
[233]
[234]
[235]
[236]
[237]
[238]
[239]
[240]
[241]
[242]
[243]
[244]
[245]
[246]
[247]
[248]
[249]
[250]
[251]
[252]
[253]
[{"$f":"A253+1","v":254}]
[255]
[256]
[257]
[258]
[259]
[260]
[261]
[262]
[263]
[264]
[265]
[266]
[267]
[268]
[269]
[270]
[271]
[272]
[273]
[274]
[275]
[276]
[277]
[278]
[279]
[280]
[281]
[282]
[283]
[284]
[285]
[286]
[287]
[288]
[289]
[290]
[291]
[292]
[293]
[294]
[295]
[296]
[297]
[298]
[299]
[300]
[301]
[302]
[303]
[304]
[305]
[306]
[307]
[308]
[309]
[310]
[311]
[312]
[313]
[314]
[315]
[316]
[317]
[{"$f":"A317+1","v":318}]
[319]
[320]
[321]
[322]
[323]
[324]
[325]
[326]
[327]
[328]
[329]
[330]
[331]
[332]
[333]
[334]
[335]
[336]
[337]
[338]
[339]
[340]
[341]
[342]
[343]
[344]
[345]
[346]
[347]
[348]
[349]
[350]
[351]
[352]
[353]
[354]
[355]
[356]
[357]
[358]
[359]
[360]
[361]
[362]
[363]
[364]
[365]
[366]
[367]
[368]
[369]
[370]
[371]
[372]
[373]
[374]
[375]
[376]
[377]
[378]
[379]
[380]
[381]
[{"$f":"A381+1","v":382}]
[383]
[384]
[385]
[386]
[387]
[388]
[389]
[390]
[391]
[392]
[393]
[394]
[395]
[396]
[397]
[398]
[399]
[400]
[401]
[402]
[403]
[404]
[405]
[406]
[407]
[408]
[409]
[410]
[411]
[412]
[413]
[414]
[415]
[416]
[417]
[418]
[419]
[420]
[421]
[422]
[423]
[424]
[425]
[426]
[427]
[428]
[429]
[430]
[431]
[432]
[433]
[434]
[435]
[436]
[437]
[438]
[439]
[440]
[441]
[442]
[443]
[444]
[445]
[{"$f":"A445+1","v":446}]
[447]
[448]
[449]
[450]
[451]
[452]
[453]
[454]
[455]
[456]
[457]
[458]
[459]
[460]
[461]
[462]
[463]
[464]
[465]
[466]
[467]
[468]
[469]
[470]
[471]
[472]
[473]
[474]
[475]
[476]
[477]
[478]
[479]
[480]
[481]
[482]
[483]
[484]
[485]
[486]
[487]
[488]
[489]
[490]
[491]
[492]
[493]
[494]
[495]
[496]
[497]
[498]
[499]
[500]

{"sheet":"Batteries","index":8,"n_rows":101,"n_cols":15,"rows_kept":101,"cut":false,"hidden":false,"merged":[]}
[null,"Battery Name","Amp Hours"]
[1,"1250Ah",1250,null,null,"1500 Ah",1500]
[{"$f":"A2+1","v":2},"5x200 ah",1000,null,null,"800 Ah",800,null,null,null,null,null,null,"1500 Ah",1500]
[{"$f":"A3+1","v":3},"675 Ah",675,null,null,"675 Ah",675,null,null,null,null,null,null,"1250Ah",1250]
[4,"500 Ah",500,null,null,"500 Ah",500,null,null,null,null,null,null,"675 Ah",675]
[5,"400 Ah",400,null,null,"400 Ah",400,null,null,null,null,null,null,"500 Ah",500]
[6,"400ah",400,null,null,"300 Ah",300,null,null,null,null,null,null,"400 Ah",400]
[7,"BP84 * 4",336,null,null,"200 Ah",200,null,null,null,null,null,null,"300 Ah",300]
[8,"300 Ah",300,null,null,"175 Ah",175,null,null,null,null,null,null,"200 Ah",200]
[9,"200 Ah",200,null,null,"150 Ah",150,null,null,null,null,null,null,"175 Ah",175]
[10,"175 Ah",175,null,null,"125 Ah",125,null,null,null,null,null,null,"150 Ah",150]
[11,"150 Ah",150,null,null,"100 Ah",100,null,null,null,null,null,null,"125 Ah",125]
[12,"125 Ah",125,null,null,"BP84",84,null,null,null,null,null,null,"100 Ah",100]
[13,"100 Ah",100,null,null,"60 Ah",60,null,null,null,null,null,null,"BP84",84]
[14,"BP84",84,null,null,"BP24",24,null,null,null,null,null,null,"60 Ah",60]
[15,"60 Ah",60,null,null,"17 Ah",17,null,null,null,null,null,null,"BP24",24]
[16,"BP24",24,null,null,"BP12",12,null,null,null,null,null,null,"17 Ah",17]
[17,"17 Ah",17,null,null,"D Alk*8",7.5,null,null,null,null,null,null,"BP12",12]
[18,"BP12",12,null,null,"PS100",7,null,null,null,null,null,null,"D Alk*8",7.5]
[19,"D Alk*8",7.5,null,null,"AA * 8",1.7,null,null,null,null,null,null,"PS100",7]
[20,"PS100",7,null,null,"WH 0.8",0.8,null,null,null,null,null,null,"AA * 8",1.7]
[21,"AA * 8",1.7,null,null,null,null,null,null,null,null,null,null,"WH 0.8",0.8]
[22,"W Hawk 0.8",0.8,null,null,null,null,null,null,null,null,null,null,"No Battery",0]
[23,"No Battery",1E-4]
[24]
[25]
[26]
[27]
[28]
[29]
[30]
[31]
[32]
[33]
[34]
[35]
[36]
[37]
[38]
[39]
[40]
[41]
[42]
[43]
[44]
[45]
[46]
[47]
[48]
[49]
[50]
[51]
[52]
[53]
[54]
[55]
[56]
[57]
[58]
[59]
[60]
[61]
[62]
[63]
[64]
[65]
[66]
[{"$f":"A67+1","v":67}]
[68]
[69]
[70]
[71]
[72]
[73]
[74]
[75]
[76]
[77]
[78]
[79]
[80]
[81]
[82]
[83]
[84]
[85]
[86]
[87]
[88]
[89]
[90]
[91]
[92]
[93]
[94]
[95]
[96]
[97]
[98]
[99]
[{"$f":"A100+1","v":100}]

{"sheet":"SolarPanels","index":9,"n_rows":101,"n_cols":18,"rows_kept":101,"cut":false,"hidden":false,"merged":[]}
[null,"solar panels","Watts","Volts","Amps","S.Panel need","Efficiency"]
[1,"Solar 1000 Watt",1000,18,55.56,{"$f":"Defaults!$L$19/SolarPanels!E2","v":8.1910649347488818E-2},0.98,null,"14014 AC",1.3,{"$f":"Defaults!$L$19/SolarPanels!J2","v":3.5007351367280601}]
[{"$f":"A2+1","v":2},"Solar 500",500,18,27.78,{"$f":"Defaults!$L$19/SolarPanels!E3","v":0.16382129869497764},0.95,null,"One Watt",5.8819999999999997E-2,{"$f":"Defaults!$L$19/SolarPanels!J3","v":77.370888775016638},null,null,"800Solar",{"$f":"800/17","v":47.058823529411768}]
[{"$f":"A3+1","v":3},"Solar 90 * 4",360,18,20,{"$f":"Defaults!$L$19/SolarPanels!E4","v":0.22754778388732394},0.9,null,"2000Solar",{"$f":"2000/17","v":117.64705882352941},{"$f":"Defaults!$L$19/SolarPanels!J4","v":3.8683123260845068E-2}]
[4,"Solar 300 watt",300,18,16.670000000000002,{"$f":"Defaults!$L$19/SolarPanels!E5","v":0.27300274011676534},0.85,null,"1000Solar",{"$f":"1000/17","v":58.823529411764703},{"$f":"Defaults!$L$19/SolarPanels!J5","v":7.7366246521690135E-2}]
[5,"2x140",280,18,15.56,{"$f":"Defaults!$L$19/SolarPanels!E6","v":0.29247787132046776},0.8,null,"800Solar",{"$f":"800/17","v":47.058823529411768},{"$f":"Defaults!$L$19/SolarPanels!J6","v":9.6707808152112662E-2}]
[6,"SP200",200,18,11.11,{"$f":"Defaults!$L$19/SolarPanels!E7","v":0.40962697369455253},0.75,null,"240 Solar",16.12,{"$f":"Defaults!$L$19/SolarPanels!J7","v":0.28231734973613387}]
[7,"SP90",86,18,4.8,{"$f":"Defaults!$L$19/SolarPanels!E8","v":0.94811576619718307},0.7,null,"235Solar",{"$f":"235/13.2","v":17.803030303030305},{"$f":"Defaults!$L$19/SolarPanels!J8","v":0.25562814870746176}]
[8,"SP50",50,18,2.78,{"$f":"Defaults!$L$19/SolarPanels!E9","v":1.6370344164555679},null,null,"170Solar",10,{"$f":"Defaults!$L$19/SolarPanels!J9","v":0.45509556777464788}]
[9,"45 Watt",45,18,2.5,{"$f":"Defaults!$L$19/SolarPanels!E10","v":1.8203822710985915},null,null,"140Solar",8.1999999999999993,{"$f":"Defaults!$L$19/SolarPanels!J10","v":0.55499459484713154}]
[10,"SP20",20,18,1.1100000000000001,{"$f":"Defaults!$L$19/SolarPanels!E11","v":4.0999600700418721},null,null,"MSX128",7.32,{"$f":"Defaults!$L$19/SolarPanels!J11","v":0.62171525652274295}]
[11,"15 Watt",15,18,0.83,{"$f":"Defaults!$L$19/SolarPanels!E12","v":5.4830791298150343},null,null,"SP85",5,{"$f":"Defaults!$L$19/SolarPanels!J12","v":0.91019113554929576},null,null,null,"SP5",4.5,16.5,0.27]
[12,"SP10",10,18,0.56000000000000005,{"$f":"Defaults!$L$19/SolarPanels!E13","v":8.1267065674044261},null,null,"SP70",4.0999999999999996,{"$f":"Defaults!$L$19/SolarPanels!J13","v":1.1099891896942631},null,null,null,"None",0,0,1.0000000000000001E-5]
[13,"SP5",4.5,18,0.25,{"$f":"Defaults!$L$19/SolarPanels!E14","v":18.203822710985914},null,null,"SP64",3.66,{"$f":"Defaults!$L$19/SolarPanels!J14","v":1.2434305130454859}]
[14,"None",9.9999999999999995E-8,18,5.5555555555555551E-9,{"$f":"Defaults!$L$19/SolarPanels!E15","v":819172021.99436617},null,null,"SP50",2.9,{"$f":"Defaults!$L$19/SolarPanels!J15","v":1.5692950612918892}]
[15,null,null,null,null,{"$f":"Defaults!$L$19/SolarPanels!E16","v":{"$error":"#DIV/0!"}},null,null,"MSX30",1.8,{"$f":"Defaults!$L$19/SolarPanels!J16","v":2.5283087098591546},null,null,null,"SP90",90,17.899999999999999,5.03]
[16,null,null,null,null,{"$f":"Defaults!$L$19/SolarPanels!E17","v":{"$error":"#DIV/0!"}},null,null,"SP20",1.17,{"$f":"Defaults!$L$19/SolarPanels!J17","v":3.8897057074756232},null,null,null,"SP50",50,17.5,2.9]
[17,null,null,null,null,{"$f":"Defaults!$L$19/SolarPanels!E18","v":{"$error":"#DIV/0!"}},null,null,"SP10",0.56999999999999995,{"$f":"Defaults!$L$19/SolarPanels!J18","v":7.9841327679762788}]
[18,null,null,null,null,{"$f":"Defaults!$L$19/SolarPanels!E19","v":{"$error":"#DIV/0!"}},null,null,"SP5",0.28799999999999998,{"$f":"Defaults!$L$19/SolarPanels!J19","v":15.801929436619718}]
[19,null,null,null,null,{"$f":"Defaults!$L$19/SolarPanels!E20","v":{"$error":"#DIV/0!"}},null,null,"SP1.6",0.1,{"$f":"Defaults!$L$19/SolarPanels!J20","v":45.50955677746478}]
[20,null,null,null,null,{"$f":"Defaults!$L$19/SolarPanels!E21","v":{"$error":"#DIV/0!"}},null,null,"None",1.0000000000000001E-5,{"$f":"Defaults!$L$19/SolarPanels!J21","v":455095.56777464785}]
[21,null,null,null,null,{"$f":"Defaults!$L$19/SolarPanels!E22","v":{"$error":"#DIV/0!"}}]
[22,null,null,null,null,{"$f":"Defaults!$L$19/SolarPanels!E23","v":{"$error":"#DIV/0!"}}]
[23,null,null,null,null,{"$f":"Defaults!$L$19/SolarPanels!E24","v":{"$error":"#DIV/0!"}}]
[24,null,null,null,null,{"$f":"Defaults!$L$19/SolarPanels!E25","v":{"$error":"#DIV/0!"}}]
[25,null,null,null,null,{"$f":"Defaults!$L$19/SolarPanels!E26","v":{"$error":"#DIV/0!"}}]
[26,null,null,null,null,{"$f":"Defaults!$L$19/SolarPanels!E27","v":{"$error":"#DIV/0!"}}]
[27,null,null,null,null,{"$f":"Defaults!$L$19/SolarPanels!E28","v":{"$error":"#DIV/0!"}}]
[28,null,null,null,null,{"$f":"Defaults!$L$19/SolarPanels!E29","v":{"$error":"#DIV/0!"}}]
[29,null,null,null,null,{"$f":"Defaults!$L$19/SolarPanels!E30","v":{"$error":"#DIV/0!"}}]
[30,null,null,null,null,{"$f":"Defaults!$L$19/SolarPanels!E31","v":{"$error":"#DIV/0!"}}]
[31,null,null,null,null,{"$f":"Defaults!$L$19/SolarPanels!E32","v":{"$error":"#DIV/0!"}}]
[32,null,null,null,null,{"$f":"Defaults!$L$19/SolarPanels!E33","v":{"$error":"#DIV/0!"}}]
[33,null,null,null,null,{"$f":"Defaults!$L$19/SolarPanels!E34","v":{"$error":"#DIV/0!"}}]
[34,null,null,null,null,{"$f":"Defaults!$L$19/SolarPanels!E35","v":{"$error":"#DIV/0!"}}]
[35,null,null,null,null,{"$f":"Defaults!$L$19/SolarPanels!E36","v":{"$error":"#DIV/0!"}}]
[36,null,null,null,null,{"$f":"Defaults!$L$19/SolarPanels!E37","v":{"$error":"#DIV/0!"}}]
[37,null,null,null,null,{"$f":"Defaults!$L$19/SolarPanels!E38","v":{"$error":"#DIV/0!"}}]
[38,null,null,null,null,{"$f":"Defaults!$L$19/SolarPanels!E39","v":{"$error":"#DIV/0!"}}]
[39,null,null,null,null,{"$f":"Defaults!$L$19/SolarPanels!E40","v":{"$error":"#DIV/0!"}}]
[40,null,null,null,null,{"$f":"Defaults!$L$19/SolarPanels!E41","v":{"$error":"#DIV/0!"}}]
[41,null,null,null,null,{"$f":"Defaults!$L$19/SolarPanels!E42","v":{"$error":"#DIV/0!"}}]
[42,null,null,null,null,{"$f":"Defaults!$L$19/SolarPanels!E43","v":{"$error":"#DIV/0!"}}]
[43,null,null,null,null,{"$f":"Defaults!$L$19/SolarPanels!E44","v":{"$error":"#DIV/0!"}}]
[44,null,null,null,null,{"$f":"Defaults!$L$19/SolarPanels!E45","v":{"$error":"#DIV/0!"}}]
[45,null,null,null,null,{"$f":"Defaults!$L$19/SolarPanels!E46","v":{"$error":"#DIV/0!"}}]
[46,null,null,null,null,{"$f":"Defaults!$L$19/SolarPanels!E47","v":{"$error":"#DIV/0!"}}]
[47,null,null,null,null,{"$f":"Defaults!$L$19/SolarPanels!E48","v":{"$error":"#DIV/0!"}}]
[48,null,null,null,null,{"$f":"Defaults!$L$19/SolarPanels!E49","v":{"$error":"#DIV/0!"}}]
[49,null,null,null,null,{"$f":"Defaults!$L$19/SolarPanels!E50","v":{"$error":"#DIV/0!"}}]
[50,null,null,null,null,{"$f":"Defaults!$L$19/SolarPanels!E51","v":{"$error":"#DIV/0!"}}]
[51,null,null,null,null,{"$f":"Defaults!$L$19/SolarPanels!E52","v":{"$error":"#DIV/0!"}}]
[52,null,null,null,null,{"$f":"Defaults!$L$19/SolarPanels!E53","v":{"$error":"#DIV/0!"}}]
[53,null,null,null,null,{"$f":"Defaults!$L$19/SolarPanels!E54","v":{"$error":"#DIV/0!"}}]
[54,null,null,null,null,{"$f":"Defaults!$L$19/SolarPanels!E55","v":{"$error":"#DIV/0!"}}]
[55,null,null,null,null,{"$f":"Defaults!$L$19/SolarPanels!E56","v":{"$error":"#DIV/0!"}}]
[56,null,null,null,null,{"$f":"Defaults!$L$19/SolarPanels!E57","v":{"$error":"#DIV/0!"}}]
[57,null,null,null,null,{"$f":"Defaults!$L$19/SolarPanels!E58","v":{"$error":"#DIV/0!"}}]
[58,null,null,null,null,{"$f":"Defaults!$L$19/SolarPanels!E59","v":{"$error":"#DIV/0!"}}]
[59,null,null,null,null,{"$f":"Defaults!$L$19/SolarPanels!E60","v":{"$error":"#DIV/0!"}}]
[60,null,null,null,null,{"$f":"Defaults!$L$19/SolarPanels!E61","v":{"$error":"#DIV/0!"}}]
[61,null,null,null,null,{"$f":"Defaults!$L$19/SolarPanels!E62","v":{"$error":"#DIV/0!"}}]
[62,null,null,null,null,{"$f":"Defaults!$L$19/SolarPanels!E63","v":{"$error":"#DIV/0!"}}]
[63,null,null,null,null,{"$f":"Defaults!$L$19/SolarPanels!E64","v":{"$error":"#DIV/0!"}}]
[64,null,null,null,null,{"$f":"Defaults!$L$19/SolarPanels!E65","v":{"$error":"#DIV/0!"}}]
[65,null,null,null,null,{"$f":"Defaults!$L$19/SolarPanels!E66","v":{"$error":"#DIV/0!"}}]
[66,null,null,null,null,{"$f":"Defaults!$L$19/SolarPanels!E67","v":{"$error":"#DIV/0!"}}]
[{"$f":"A67+1","v":67},null,null,null,null,{"$f":"Defaults!$L$19/SolarPanels!E68","v":{"$error":"#DIV/0!"}}]
[68,null,null,null,null,{"$f":"Defaults!$L$19/SolarPanels!E69","v":{"$error":"#DIV/0!"}}]
[69,null,null,null,null,{"$f":"Defaults!$L$19/SolarPanels!E70","v":{"$error":"#DIV/0!"}}]
[70,null,null,null,null,{"$f":"Defaults!$L$19/SolarPanels!E71","v":{"$error":"#DIV/0!"}}]
[71,null,null,null,null,{"$f":"Defaults!$L$19/SolarPanels!E72","v":{"$error":"#DIV/0!"}}]
[72,null,null,null,null,{"$f":"Defaults!$L$19/SolarPanels!E73","v":{"$error":"#DIV/0!"}}]
[73,null,null,null,null,{"$f":"Defaults!$L$19/SolarPanels!E74","v":{"$error":"#DIV/0!"}}]
[74,null,null,null,null,{"$f":"Defaults!$L$19/SolarPanels!E75","v":{"$error":"#DIV/0!"}}]
[75,null,null,null,null,{"$f":"Defaults!$L$19/SolarPanels!E76","v":{"$error":"#DIV/0!"}}]
[76,null,null,null,null,{"$f":"Defaults!$L$19/SolarPanels!E77","v":{"$error":"#DIV/0!"}}]
[77,null,null,null,null,{"$f":"Defaults!$L$19/SolarPanels!E78","v":{"$error":"#DIV/0!"}}]
[78,null,null,null,null,{"$f":"Defaults!$L$19/SolarPanels!E79","v":{"$error":"#DIV/0!"}}]
[79,null,null,null,null,{"$f":"Defaults!$L$19/SolarPanels!E80","v":{"$error":"#DIV/0!"}}]
[80,null,null,null,null,{"$f":"Defaults!$L$19/SolarPanels!E81","v":{"$error":"#DIV/0!"}}]
[81,null,null,null,null,{"$f":"Defaults!$L$19/SolarPanels!E82","v":{"$error":"#DIV/0!"}}]
[82,null,null,null,null,{"$f":"Defaults!$L$19/SolarPanels!E83","v":{"$error":"#DIV/0!"}}]
[83,null,null,null,null,{"$f":"Defaults!$L$19/SolarPanels!E84","v":{"$error":"#DIV/0!"}}]
[84,null,null,null,null,{"$f":"Defaults!$L$19/SolarPanels!E85","v":{"$error":"#DIV/0!"}}]
[85,null,null,null,null,{"$f":"Defaults!$L$19/SolarPanels!E86","v":{"$error":"#DIV/0!"}}]
[86,null,null,null,null,{"$f":"Defaults!$L$19/SolarPanels!E87","v":{"$error":"#DIV/0!"}}]
[87,null,null,null,null,{"$f":"Defaults!$L$19/SolarPanels!E88","v":{"$error":"#DIV/0!"}}]
[88,null,null,null,null,{"$f":"Defaults!$L$19/SolarPanels!E89","v":{"$error":"#DIV/0!"}}]
[89,null,null,null,null,{"$f":"Defaults!$L$19/SolarPanels!E90","v":{"$error":"#DIV/0!"}}]
[90,null,null,null,null,{"$f":"Defaults!$L$19/SolarPanels!E91","v":{"$error":"#DIV/0!"}}]
[91,null,null,null,null,{"$f":"Defaults!$L$19/SolarPanels!E92","v":{"$error":"#DIV/0!"}}]
[92,null,null,null,null,{"$f":"Defaults!$L$19/SolarPanels!E93","v":{"$error":"#DIV/0!"}}]
[93,null,null,null,null,{"$f":"Defaults!$L$19/SolarPanels!E94","v":{"$error":"#DIV/0!"}}]
[94,null,null,null,null,{"$f":"Defaults!$L$19/SolarPanels!E95","v":{"$error":"#DIV/0!"}}]
[95,null,null,null,null,{"$f":"Defaults!$L$19/SolarPanels!E96","v":{"$error":"#DIV/0!"}}]
[96,null,null,null,null,{"$f":"Defaults!$L$19/SolarPanels!E97","v":{"$error":"#DIV/0!"}}]
[97,null,null,null,null,{"$f":"Defaults!$L$19/SolarPanels!E98","v":{"$error":"#DIV/0!"}}]
[98,null,null,null,null,{"$f":"Defaults!$L$19/SolarPanels!E99","v":{"$error":"#DIV/0!"}}]
[99,null,null,null,null,{"$f":"Defaults!$L$19/SolarPanels!E100","v":{"$error":"#DIV/0!"}}]
[100,null,null,null,null,{"$f":"Defaults!$L$19/SolarPanels!E101","v":{"$error":"#DIV/0!"}}]

{"sheet":"Defaults","index":10,"n_rows":26,"n_cols":13,"rows_kept":26,"cut":false,"hidden":false,"merged":[]}
[null,"Value","Units"]
["Device:","CR1000",null,null,null,null,null,null,null,"System Losses"]
["Scan Interval:",5,"Seconds"]
["Comm Interval:",12,"Hours","Previous:","Hours",null,null,null,null,5]
["Battery:","PS100",null,null,null,null,null,null,null,{"$f":"$B$10","v":0.8},null,null,{"$f":"LOOKUP(J4,SolarPanels!A2:A8,SolarPanels!G2:G8)","v":0.8}]
["Battery Backup:",14,"Days"]
["Min Ave Temperature:",0,"°C",null,null,null,null,null,null,"Battery Losses"]
["Equivalent Sun Hours:",3.5,"Hours"]
["Solar Panel:","SP10",null,null,null,null,null,null,null,5]
["System Losses:",0.8,null,null,null,null,null,null,null,{"$f":"$B$11","v":0.8},null,null,{"$f":"LOOKUP(J9,SolarPanels!A2:A8,SolarPanels!G2:G8)","v":0.8}]
["Battery Losses:",0.8]
[null,null,null,null,null,null,null,null,"24 hour total of system, and periodic devices"]
["Solar Panel Volts:",18,null,null,null,null,null,null,"System",null,"Amp Hours/hr:",{"$f":"(Calculations!L28*24)","v":2.692648776}]
[null,null,null,null,null,null,null,null,"Loss factor",null,null,"24 hour current w/losses "]
[null,null,null,null,null,null,null,null,{"$f":"2-J5","v":1.2},null,"Daily Amp Hours:",{"$f":"(L13*I15)","v":3.2311785311999999}]
[]
[null,null,null,null,null,null,null,null,"Peak Sun","Amps","Ahr","Required Amps"]
[null,null,null,null,null,null,null,null,"Hours","S.Panel","Solar","S.Panel/day"]
[null,null,null,null,null,null,null,null,{"$f":"Calculations!G8","v":0.71},{"$f":"LOOKUP(Calculations!G6,SolarPanels!$A$2:$A$101,SolarPanels!$E$2:$E$101)","v":2.5},{"$f":"I19*J19","v":1.7749999999999999},{"$f":"L15/I19","v":4.5509556777464786}]
[null,null,null,null,null,null,null,null,null,null,"Hours of sun required from this panel ==>",{"$f":"L15/J19","v":1.2924714124799999}]
[null,null,null,null,null,null,null,null,null,"Milli-Watts Generated:",{"$f":"K19*Calculations!L2*1000/24","v":979.94791666666652}]
[null,null,null,null,null,null,null,null,"amount or size of battery",null,"Deep Discharge reserve"]
[null,null,null,null,null,null,null,null,"reserve time","amps","reserve","battery amp/hr"]
[null,null,null,null,null,null,null,null,{"$f":"Calculations!B8","v":720},{"$f":"L15/24","v":0.1346324388},{"$f":"$J$10","v":0.8},{"$f":"(I24*J24)/K24","v":121.16919492000001}]
[null,null,null,null,null,null,null,null,{"$f":"I24/24","v":30},"<==days of reserve","0.8 max",{"$f":"Budget!J14*Calculations!P37","v":321.42521006119995}]
[null,null,null,null,null,null,null,null,null,null,"Batteries need",{"$f":"L24/L25","v":0.37697477088660586}]

{"sheet":"Compare","index":11,"n_rows":10,"n_cols":12,"rows_kept":10,"cut":false,"hidden":false,"merged":[]}
[]
[]
[]
[]
["System Name","Devices","Scan Interval (Seconds)","Communications Interval (Hours)","Lowest Average Temperature (°C)","Battery","Desired Battery Backup (Days)","Estimated Battery Backup (Days)","Equivalent Sun Hours","Solar Panel","Daily Load          (Amp Hours)","Daily Solar          (Amp Hours)"]
["Uplo_Shelter_noCom","CR1000, 107-L, 107-L, SR50A-L SDI-12, NL115 Ethernet, NL115 Card, CS106 Active, CMP3, LT420 Analog Level Transmitter, CS450-L/451-L, XantrexC35",10,1,-3,"400 Ah",30,119.76710822536033,0.7,"45 Watt",2.1277468512,1.7749999999999999]
["Uplo_Shelter_wCom","CR1000, 107-L, 107-L, SR50A-L SDI-12, NL115 Ethernet, NL115 Card, CS106 Active, CMP3, LT420 Analog Level Transmitter, CS450-L/451-L, XantrexC35, Nano",10,1,-3,"400 Ah",30,36.886785729704634,0.7,"45 Watt",6.9085468511999997,1.7749999999999999]
["CENT_Shltr","CR1000, 107-L, 107-L, SR50A-L SDI-12, NL115 Ethernet, NL115 Card, CS106 Active, CMP3, LT420 Analog Level Transmitter, CS450-L/451-L, SunSaver20, XTend-NEMA, LT420 Analog Level Transmitter, SA_COM_Signal",10,1,-2,"400 Ah",30,48.791177543525997,0.7,"45 Watt",5.2702185311999994,1.7749999999999999]
["CENT_Twr","CR3000, Nano, CSAT3, XantrexC35, NL115 Ethernet, NL115 Card, 05103-L, 107-L, CS616-L Active, CS616-L Active, CS616-L Active, CS616-L Active, HMP50-L, HMP50-L",10,1,-2,"675 Ah",30,51.433230149055696,0.7,"SP200",8.4366475200000011,7.8880999999999988]
["VAN_twr","CR3000, Nano, CSAT3, XantrexC35, NL115 Ethernet, NL115 Card, 05103-L, SR50A-L SDI-12, CS616-L Active, CS616-L Active, CS616-L Active, CS616-L Active, CS450-L/451-L, CMP3",10,1,-2,"5x200 ah",30,73.049307015614417,0.85,"SP200",8.8075900800000024,9.5545999999999989]

{"sheet":"Saved","index":12,"n_rows":20,"n_cols":12,"rows_kept":20,"cut":false,"hidden":false,"merged":[]}
[]
[]
[]
[]
["System Name","Devices","Scan Interval (Seconds)","Communications Interval (Hours)","Lowest Average Temperature (°C)","Battery","Desired Battery Backup (Days)","Estimated Battery Backup (Days)","Equivalent Sun Hours","Solar Panel","Daily Load          (Amp Hours)","Daily Solar          (Amp Hours)"]
["ASP-temp","43502-L Ventilator, SunSaver20",5,1,-2,"400 Ah",1,17.590451438692039,0.85,"SP90",14.6304,4.1280000000000001]
["CENT_Shltr","CR1000, 107-L, 107-L, SR50A-L SDI-12, NL115 Ethernet, NL115 Card, CS106 Active, CMP3, LT420 Analog Level Transmitter, CS450-L/451-L, SunSaver20, XTend-NEMA, LT420 Analog Level Transmitter, SA_COM_Signal",10,1,-2,"400 Ah",30,48.791177543525997,0.7,"45 Watt",5.2702185311999994,1.7749999999999999]
["CENT_Twr","CR3000, Nano, CSAT3, XantrexC35, NL115 Ethernet, NL115 Card, 05103-L, 107-L, CS616-L Active, CS616-L Active, CS616-L Active, CS616-L Active, HMP50-L, HMP50-L",10,1,-2,"675 Ah",30,51.433230149055696,0.7,"SP200",8.4366475200000011,7.8880999999999988]
["Good Reserve Time","CR1000, Load 1 Amp",5,1,-3,"400 Ah",14,17.48292049870075,2.5,"SP200",14.445215999999997,0.1]
["GRWS100-NoComms","CR1000, 05103-L, TE525WS-L, LI200X-L, HC2S3-L, CS106 Active",5,12,0,"PS100",14,47.693948903233839,3.5,"SP10",9.6163142400000012E-2,1.9949999999999999]
["Large Load","CR1000, Load 1 Amp, Load 1 Amp, Load 1 Amp, Load 1 Amp, Load 1 Amp",5,12,-9,"1250Ah",365,117.09490159424438,0.2,"SP200",6.1688159999999996,0.1]
["Poor Reserve time","CR1000, Load 1 Amp",5,1,-3,"BP24",1,1.0489752299220452,2.5,"SP200",14.445215999999997,0.1]
["Solar800-NoComms","CR8XX, NL200 IPNetPower, LP02-L, 03001-L/03002-L, 109-L, TE525-L",5,12,0,"BP24",14,161.46998807211929,3.5,"SP20",9.7385280000000018E-2,4.165]
["Test","CR1000, 05103-L, TE525WS-L, LI200X-L, HC2S3-L, CS106 Active",5,12,22,"PS100",14,58.234369845218367,4.5,"SP10",9.6163142400000012E-2,2.6320000000000006]
["Uplo_shltr_noCom","CR1000, 107-L, 107-L, SR50A-L SDI-12, NL115 Ethernet, NL115 Card, CS106 Active, CMP3, LT420 Analog Level Transmitter, CS450-L/451-L, XantrexC35",10,1,-2,"400 Ah",30,120.95204868168294,0.85,"2x140",2.1277468512,13.381600000000001]
["Uplo_shltr_wCom","CR1000, 107-L, 107-L, SR50A-L SDI-12, NL115 Ethernet, NL115 Card, CS106 Active, CMP3, LT420 Analog Level Transmitter, CS450-L/451-L, XantrexC35, Nano",10,1,-2,"400 Ah",30,37.251732711914364,0.85,"2x140",6.9085468511999997,13.381600000000001]
["Uplo_twr_1com","CR3000, Nano, CSAT3, SA_COM_Signal, NL115 Ethernet, NL115 Card, 05103-L, LT420 Analog Level Transmitter, SunSaver20, CS616-L Active, CS616-L Active, CS616-L Active, CS616-L Active",10,1,-2,"675 Ah",30,51.646659074011872,0.85,"SP200",8.4088137600000028,9.5545999999999989]
["Uplo_twr_2com","CR3000, Nano, CSAT3, SA_COM_Signal, NL115 Ethernet, NL115 Card, 05103-L, LT420 Analog Level Transmitter, SunSaver20, CS616-L Active, CS616-L Active, CS616-L Active, CS616-L Active, Nano",10,1,-3,"675 Ah",30,32.60387531575298,0.7,"SP200",13.189613760000004,7.8880999999999988]
["VAN_twr","CR3000, Nano, CSAT3, XantrexC35, NL115 Ethernet, NL115 Card, 05103-L, SR50A-L SDI-12, CS616-L Active, CS616-L Active, CS616-L Active, CS616-L Active, CS450-L/451-L, CMP3",10,1,-2,"5x200 ah",30,73.049307015614417,0.85,"SP200",8.8075900800000024,9.5545999999999989]
["VARA","CR1000, 107-L, 107-L, SR50A-L SDI-12, NL115 Ethernet, NL115 Card, CS450-L/451-L, LT420 Analog Level Transmitter, SunSaver20, Tranzeo",10,1,-2,"200 Ah",30,12.391245722258077,0.85,"Solar 300 watt",10.384562879999999,14.336200000000002]

{"sheet":"StationInfo","index":13,"n_rows":0,"n_cols":0,"rows_kept":0,"cut":false,"hidden":false,"merged":[]}

{"sheet":"BatteryArchive","index":14,"n_rows":501,"n_cols":1,"rows_kept":501,"cut":false,"hidden":false,"merged":[]}
[]
[1]
[{"$f":"A2+1","v":2}]
[{"$f":"A3+1","v":3}]
[4]
[5]
[{"$f":"A6+1","v":6}]
[7]
[8]
[9]
[10]
[11]
[12]
[13]
[14]
[15]
[16]
[17]
[18]
[19]
[20]
[21]
[22]
[23]
[24]
[25]
[26]
[27]
[28]
[29]
[30]
[31]
[32]
[33]
[34]
[35]
[36]
[37]
[38]
[39]
[40]
[41]
[42]
[43]
[44]
[45]
[46]
[47]
[48]
[49]
[50]
[51]
[52]
[53]
[54]
[55]
[56]
[57]
[58]
[59]
[60]
[61]
[62]
[63]
[64]
[65]
[66]
[{"$f":"A67+1","v":67}]
[68]
[69]
[70]
[71]
[72]
[73]
[74]
[75]
[76]
[77]
[78]
[79]
[80]
[81]
[82]
[83]
[84]
[85]
[86]
[87]
[88]
[89]
[90]
[91]
[92]
[93]
[94]
[95]
[96]
[97]
[98]
[99]
[100]
[101]
[102]
[103]
[104]
[105]
[106]
[107]
[108]
[109]
[110]
[111]
[112]
[113]
[114]
[115]
[116]
[117]
[118]
[119]
[120]
[121]
[122]
[123]
[124]
[125]
[126]
[127]
[128]
[129]
[130]
[{"$f":"A131+1","v":131}]
[132]
[133]
[134]
[135]
[136]
[137]
[138]
[139]
[140]
[141]
[142]
[143]
[144]
[145]
[146]
[147]
[148]
[149]
[150]
[151]
[152]
[153]
[154]
[155]
[156]
[157]
[158]
[159]
[160]
[161]
[162]
[163]
[164]
[165]
[166]
[167]
[168]
[169]
[170]
[171]
[172]
[173]
[174]
[175]
[176]
[177]
[178]
[179]
[180]
[181]
[182]
[183]
[184]
[185]
[186]
[187]
[188]
[189]
[190]
[191]
[192]
[193]
[194]
[{"$f":"A195+1","v":195}]
[196]
[197]
[198]
[199]
[200]
[201]
[202]
[203]
[204]
[205]
[206]
[207]
[208]
[209]
[210]
[211]
[212]
[213]
[214]
[215]
[216]
[217]
[218]
[219]
[220]
[221]
[222]
[223]
[224]
[225]
[226]
[227]
[228]
[229]
[230]
[231]
[232]
[233]
[234]
[235]
[236]
[237]
[238]
[239]
[240]
[241]
[242]
[243]
[244]
[245]
[246]
[247]
[248]
[249]
[250]
[251]
[252]
[253]
[254]
[255]
[256]
[257]
[258]
[{"$f":"A259+1","v":259}]
[260]
[261]
[262]
[263]
[264]
[265]
[266]
[267]
[268]
[269]
[270]
[271]
[272]
[273]
[274]
[275]
[276]
[277]
[278]
[279]
[280]
[281]
[282]
[283]
[284]
[285]
[286]
[287]
[288]
[289]
[290]
[291]
[292]
[293]
[294]
[295]
[296]
[297]
[298]
[299]
[300]
[301]
[302]
[303]
[304]
[305]
[306]
[307]
[308]
[309]
[310]
[311]
[312]
[313]
[314]
[315]
[316]
[317]
[318]
[319]
[320]
[321]
[322]
[{"$f":"A323+1","v":323}]
[324]
[325]
[326]
[327]
[328]
[329]
[330]
[331]
[332]
[333]
[334]
[335]
[336]
[337]
[338]
[339]
[340]
[341]
[342]
[343]
[344]
[345]
[346]
[347]
[348]
[349]
[350]
[351]
[352]
[353]
[354]
[355]
[356]
[357]
[358]
[359]
[360]
[361]
[362]
[363]
[364]
[365]
[366]
[367]
[368]
[369]
[370]
[371]
[372]
[373]
[374]
[375]
[376]
[377]
[378]
[379]
[380]
[381]
[382]
[383]
[384]
[385]
[386]
[{"$f":"A387+1","v":387}]
[388]
[389]
[390]
[391]
[392]
[393]
[394]
[395]
[396]
[397]
[398]
[399]
[400]
[401]
[402]
[403]
[404]
[405]
[406]
[407]
[408]
[409]
[410]
[411]
[412]
[413]
[414]
[415]
[416]
[417]
[418]
[419]
[420]
[421]
[422]
[423]
[424]
[425]
[426]
[427]
[428]
[429]
[430]
[431]
[432]
[433]
[434]
[435]
[436]
[437]
[438]
[439]
[440]
[441]
[442]
[443]
[444]
[445]
[446]
[447]
[448]
[449]
[450]
[{"$f":"A451+1","v":451}]
[452]
[453]
[454]
[455]
[456]
[457]
[458]
[459]
[460]
[461]
[462]
[463]
[464]
[465]
[466]
[467]
[468]
[469]
[470]
[471]
[472]
[473]
[474]
[475]
[476]
[477]
[478]
[479]
[480]
[481]
[482]
[483]
[484]
[485]
[486]
[487]
[488]
[489]
[490]
[491]
[492]
[493]
[494]
[495]
[496]
[497]
[498]
[499]
[500]

{"sheet":"SolarArchive","index":15,"n_rows":0,"n_cols":0,"rows_kept":0,"cut":false,"hidden":false,"merged":[]}

{"sheet":"Display","index":16,"n_rows":34,"n_cols":3,"rows_kept":34,"cut":false,"hidden":false,"merged":[]}
[]
["Instructions",1]
["Storm Graph",1]
["Battery Detail",1]
["LocationGraph",1]
["Buttons",null,"Position"]
["Add, etc.",1,{"$f":"B7","v":1}]
["View Specs",1,{"$f":"IF(B8=1,SUM(B7:B8),0)","v":2}]
["Reset",1,{"$f":"IF(B9=1,SUM(B7:B9),0)","v":3}]
["Defaults",1,{"$f":"IF(B10=1,SUM(B7:B10),0)","v":4}]
["Compare",1,{"$f":"IF(B11=1,SUM(B7:B11),0)","v":5}]
["Load/Delete",1,{"$f":"IF(B12=1,SUM(B7:B12),0)","v":6}]
["Print",1,{"$f":"IF(B13=1,SUM(B7:B13),0)","v":7}]
["Total",1]
[]
[]
["Printing page:",1]
[]
[]
["Admin Options"]
["Full screen",0]
["Tabs",0]
["Scroll bars",1]
["Grid Lines",0]
["Formula Bar",1]
["Headings",0]
["Protection",0]
[]
[]
[]
[]
["SolarChartTitle","Solar Input, Load, and Battery Charge "]
["Solar Location","CENT"]
[null,{"$f":"B32&CHAR(13)&B33","v":"Solar Input, Load, and Battery Charge \rCENT"}]

{"sheet":"Print-1","index":17,"n_rows":26,"n_cols":8,"rows_kept":26,"cut":false,"hidden":false,"merged":[[25,1,25,2],[11,6,15,8],[3,4,7,5],[4,7,7,8],[3,7,3,8],[17,1,17,2]]}
[]
[null,null,null,"Power Budget Spreadsheet"]
[]
["SiteName:",null,null,"Address:",null,null,"Prepared By:"]
["Company:",null,null,null,null,null,"Notes:"]
["Contact:"]
["Phone #"]
[]
[]
[]
[]
["Scan Interval",10,"Seconds",null,null,"Devices","CR1000, 107-L, 107-L, SR50A-L SDI-12, NL115 Ethernet, NL115 Card, CS450-L/451-L, LT420 Analog Level Transmitter, SunSaver20, Tranzeo"]
[]
["Communications Interval",1,"Hours"]
[]
["Lowest Average Temperature",-2,"Temp °C"]
[]
["Battery","200 Ah"]
[]
["Desired Backup",30,"Days"]
[]
["Estimated Backup",12.391245722258077,"Days"]
[null,null,null,null,null,"Daily Load",10.384562879999999,"Amp Hours"]
["Equivalent Sun Hours",0.85,"Hours/day"]
[null,null,null,null,null,"Daily Solar",4.1280000000000001,"Amp Hours"]
["Solar Panel","SP90"]

{"sheet":"Print-2","index":18,"n_rows":12,"n_cols":12,"rows_kept":12,"cut":false,"hidden":false,"merged":[[3,4,7,5],[3,7,3,8],[4,7,7,8]]}
[]
[null,null,"Power Budget Spreadsheet Comparison"]
[]
["SiteName:",null,null,"Address:",null,null,"Prepared By:"]
["Company:",null,null,null,null,null,"Notes:"]
["Contact:"]
["Phone #"]
[]
[]
["System Name","Devices","Scan Interval (Seconds)","Communications Interval (Hours)","Lowest Average Temperature (°C)","Battery","Desired Battery Backup (Days)","Estimated Battery Backup (Days)","Equivalent Sun Hours","Solar Panel","Daily Load          (Amp Hours)","Daily Solar          (Amp Hours)"]
["Solar800-NoComms","CR8XX, NL200 IPNetPower, LP02-L, 03001-L/03002-L, 109-L, TE525-L",5,12,0,"BP24",14,161.46998807211929,3.5,"SP20",9.7385280000000018E-2,4.165]
[null,"CR1000, CR206 1 Sec Radio, CR216 Radio always on , CR216 8 Sec, CR9051, CR8XX",1,12,3,"60 Ah",14,24.258145836895196,2,"SP20",1.684512,2.2200000000000002]